BEGIN:VCALENDAR
VERSION:2.0
PRODID:-//Valley Christian Center - ECPv6.13.2.1//NONSGML v1.0//EN
CALSCALE:GREGORIAN
METHOD:PUBLISH
X-ORIGINAL-URL:https://www.vccfresno.org
X-WR-CALDESC:Events for Valley Christian Center
REFRESH-INTERVAL;VALUE=DURATION:PT1H
X-Robots-Tag:noindex
X-PUBLISHED-TTL:PT1H
BEGIN:VTIMEZONE
TZID:America/Los_Angeles
BEGIN:DAYLIGHT
TZOFFSETFROM:-0800
TZOFFSETTO:-0700
TZNAME:PDT
DTSTART:20230312T100000
END:DAYLIGHT
BEGIN:STANDARD
TZOFFSETFROM:-0700
TZOFFSETTO:-0800
TZNAME:PST
DTSTART:20231105T090000
END:STANDARD
END:VTIMEZONE
BEGIN:VEVENT
DTSTART;VALUE=DATE:20230808
DTEND;VALUE=DATE:20230809
DTSTAMP:20260425T212031
CREATED:20230123T181958Z
LAST-MODIFIED:20230123T181959Z
UID:6092-1691452800-1691539199@www.vccfresno.org
SUMMARY:Connect Week
DESCRIPTION:We are better together! Our spring Connect Week is August 6th-August 13th. Connect Week is an opportunity to join in the growing community at Valley by way of our Connect Crews (small groups). Stop by the tables in the courtyard or check out the crews available on our Connect Crew Webpage by clicking “Find a Crew”. Crews consist of bible studies\, classes or interest crews and last from the end of September through the end of November.
URL:https://www.vccfresno.org/event/connect-week-21/
CATEGORIES:Life Groups
ATTACH;FMTTYPE=image/png:https://www.vccfresno.org/wp-content/uploads/2023/01/Connect-Week-Banners-1.png
END:VEVENT
BEGIN:VEVENT
DTSTART;TZID=America/Los_Angeles:20230808T190000
DTEND;TZID=America/Los_Angeles:20230808T203000
DTSTAMP:20260425T212031
CREATED:20230712T151557Z
LAST-MODIFIED:20230718T204117Z
UID:6389-1691521200-1691526600@www.vccfresno.org
SUMMARY:Get In The Game
DESCRIPTION:Couples Connection: GET IN THE GAME\nDon’t Sit On The Sidelines…\nGET IN THE GAME!\nMarriage isn’t for the faint of heart. Anything worth having is worth working for.\nJoin in this 4-week study to improve connection and communication with your significant other\, starting on Tuesday evenings from August 8th through 29th\, 7:00pm-8:30pm in the All Purpose Room.\nChildcare is available upon request.\nSpace is limited so be sure to sign up online today or in the Courtyard after Sunday service on July 16th\, 23rd or 30th.\n\nSIGN UP HERE!
URL:https://www.vccfresno.org/event/get-in-the-game/
CATEGORIES:Marriage
ATTACH;FMTTYPE=image/png:https://www.vccfresno.org/wp-content/uploads/2023/07/Get-in-the-Game-2.png
END:VEVENT
END:VCALENDAR