BEGIN:VCALENDAR
VERSION:2.0
PRODID:-//Valley Christian Center - ECPv6.13.2.1//NONSGML v1.0//EN
CALSCALE:GREGORIAN
METHOD:PUBLISH
X-WR-CALNAME:Valley Christian Center
X-ORIGINAL-URL:https://www.vccfresno.org
X-WR-CALDESC:Events for Valley Christian Center
REFRESH-INTERVAL;VALUE=DURATION:PT1H
X-Robots-Tag:noindex
X-PUBLISHED-TTL:PT1H
BEGIN:VTIMEZONE
TZID:America/Los_Angeles
BEGIN:DAYLIGHT
TZOFFSETFROM:-0800
TZOFFSETTO:-0700
TZNAME:PDT
DTSTART:20230312T100000
END:DAYLIGHT
BEGIN:STANDARD
TZOFFSETFROM:-0700
TZOFFSETTO:-0800
TZNAME:PST
DTSTART:20231105T090000
END:STANDARD
END:VTIMEZONE
BEGIN:VEVENT
DTSTART;TZID=America/Los_Angeles:20231202T120000
DTEND;TZID=America/Los_Angeles:20231202T150000
DTSTAMP:20260425T150729
CREATED:20231108T235350Z
LAST-MODIFIED:20231108T235350Z
UID:6552-1701518400-1701529200@www.vccfresno.org
SUMMARY:Primetime 55+ Christmas Luncheon
DESCRIPTION:Join us on Saturday\, December 2nd from 12:00-3:00pm in the All Purpose Room where we\nwill be enjoying a delicious lunch along with a fun time of singing Christmas carols\, playing games and celebrating the birth of Jesus together! \nSIGN UP HERE!
URL:https://www.vccfresno.org/event/primetime-55-christmas-luncheon/
LOCATION:Valley Christian Center\, 4649 E. Shields Ave\, Fresno\, CA\, 93726\, United States
CATEGORIES:PrimeTime
ATTACH;FMTTYPE=image/png:https://www.vccfresno.org/wp-content/uploads/2023/11/PrimeTime-55-Christmas-Luncheon-2023-Banner.png
END:VEVENT
END:VCALENDAR