BEGIN:VCALENDAR
VERSION:2.0
PRODID:-//Valley Christian Center - ECPv6.13.2.1//NONSGML v1.0//EN
CALSCALE:GREGORIAN
METHOD:PUBLISH
X-ORIGINAL-URL:https://www.vccfresno.org
X-WR-CALDESC:Events for Valley Christian Center
REFRESH-INTERVAL;VALUE=DURATION:PT1H
X-Robots-Tag:noindex
X-PUBLISHED-TTL:PT1H
BEGIN:VTIMEZONE
TZID:America/Los_Angeles
BEGIN:DAYLIGHT
TZOFFSETFROM:-0800
TZOFFSETTO:-0700
TZNAME:PDT
DTSTART:20240310T100000
END:DAYLIGHT
BEGIN:STANDARD
TZOFFSETFROM:-0700
TZOFFSETTO:-0800
TZNAME:PST
DTSTART:20241103T090000
END:STANDARD
END:VTIMEZONE
BEGIN:VEVENT
DTSTART;TZID=America/Los_Angeles:20240121T090000
DTEND;TZID=America/Los_Angeles:20240121T094500
DTSTAMP:20260425T114015
CREATED:20240104T225829Z
LAST-MODIFIED:20240104T225915Z
UID:6661-1705827600-1705830300@www.vccfresno.org
SUMMARY:Baptism Class
DESCRIPTION:Have you accepted Jesus as your Lord and Savior? Then your next step is water baptism. We believe water baptism in an outward expression of the inward work that God is doing in your life. It is one of the most significant next steps you can take to continue your faith journey\, and we love to celebrate with each and every person who takes this step of obedience in his or her journey to follow Jesus. Sunday\, January\, 21st is our next Water Baptism Class at 9:00am in Room 104. In this class you will learn 3 things: What is water baptism?\, What’s the purpose of water baptism? and What is the promise of water baptism? Followed by water baptisms on Sunday\, January 28th. Sign-up here.
URL:https://www.vccfresno.org/event/baptism-class/
LOCATION:Valley Christian Center\, 4649 E. Shields Ave\, Fresno\, CA\, 93726\, United States
CATEGORIES:Water Baptism
ATTACH;FMTTYPE=image/png:https://www.vccfresno.org/wp-content/uploads/2022/03/Water-Baptism-Class-SQ.png
END:VEVENT
BEGIN:VEVENT
DTSTART;TZID=America/Los_Angeles:20240121T180000
DTEND;TZID=America/Los_Angeles:20240121T190000
DTSTAMP:20260425T114015
CREATED:20231212T001442Z
LAST-MODIFIED:20231212T001442Z
UID:6620-1705860000-1705863600@www.vccfresno.org
SUMMARY:Night of Prayer
DESCRIPTION:Join us from 6:00-7:00pm for a special night of multilingual prayer and worship as we continue in our 21 days of prayer and fasting. You can join us in person at Valley Christian Center or online at our YouTube channel – Valley Christian Center Fresno.
URL:https://www.vccfresno.org/event/night-of-prayer/
LOCATION:Valley Christian Center\, 4649 E. Shields Ave\, Fresno\, CA\, 93726\, United States
CATEGORIES:Prayer
ATTACH;FMTTYPE=image/png:https://www.vccfresno.org/wp-content/uploads/2023/12/EVENT-SQ-1.png
END:VEVENT
END:VCALENDAR