BEGIN:VCALENDAR
VERSION:2.0
PRODID:-//Valley Christian Center - ECPv6.13.2.1//NONSGML v1.0//EN
CALSCALE:GREGORIAN
METHOD:PUBLISH
X-ORIGINAL-URL:https://www.vccfresno.org
X-WR-CALDESC:Events for Valley Christian Center
REFRESH-INTERVAL;VALUE=DURATION:PT1H
X-Robots-Tag:noindex
X-PUBLISHED-TTL:PT1H
BEGIN:VTIMEZONE
TZID:America/Los_Angeles
BEGIN:DAYLIGHT
TZOFFSETFROM:-0800
TZOFFSETTO:-0700
TZNAME:PDT
DTSTART:20240310T100000
END:DAYLIGHT
BEGIN:STANDARD
TZOFFSETFROM:-0700
TZOFFSETTO:-0800
TZNAME:PST
DTSTART:20241103T090000
END:STANDARD
END:VTIMEZONE
BEGIN:VEVENT
DTSTART;TZID=America/Los_Angeles:20240225T100000
DTEND;TZID=America/Los_Angeles:20240225T110000
DTSTAMP:20260425T094726
CREATED:20240125T191232Z
LAST-MODIFIED:20240125T192722Z
UID:6839-1708855200-1708858800@www.vccfresno.org
SUMMARY:Child Dedication
DESCRIPTION:Have you thought about dedicating your little one to the Lord? Our next child dedication will take place Sunday\, February 25th during service. Child dedications are a time for parents\, the church\, and God Himself to partner in raising your child to live a Godly life. If you’d like to dedicate your child\, simply follow the link to our registration form and the Children’s Director will connect with you. \nREGISTER HERE!
URL:https://www.vccfresno.org/event/child-dedication/
LOCATION:Valley Christian Center\, 4649 E. Shields Ave\, Fresno\, CA\, 93726\, United States
CATEGORIES:Kids
ATTACH;FMTTYPE=image/jpeg:https://www.vccfresno.org/wp-content/uploads/2024/01/Child-Dedication-SQ.jpg
END:VEVENT
END:VCALENDAR