BEGIN:VCALENDAR
VERSION:2.0
PRODID:-//Valley Christian Center - ECPv6.13.2.1//NONSGML v1.0//EN
CALSCALE:GREGORIAN
METHOD:PUBLISH
X-WR-CALNAME:Valley Christian Center
X-ORIGINAL-URL:https://www.vccfresno.org
X-WR-CALDESC:Events for Valley Christian Center
REFRESH-INTERVAL;VALUE=DURATION:PT1H
X-Robots-Tag:noindex
X-PUBLISHED-TTL:PT1H
BEGIN:VTIMEZONE
TZID:America/Los_Angeles
BEGIN:DAYLIGHT
TZOFFSETFROM:-0800
TZOFFSETTO:-0700
TZNAME:PDT
DTSTART:20240310T100000
END:DAYLIGHT
BEGIN:STANDARD
TZOFFSETFROM:-0700
TZOFFSETTO:-0800
TZNAME:PST
DTSTART:20241103T090000
END:STANDARD
END:VTIMEZONE
BEGIN:VEVENT
DTSTART;TZID=America/Los_Angeles:20240407T113000
DTEND;TZID=America/Los_Angeles:20240407T130000
DTSTAMP:20260425T064509
CREATED:20240109T212632Z
LAST-MODIFIED:20240109T212632Z
UID:6699-1712489400-1712494800@www.vccfresno.org
SUMMARY:Valley Membership Class
DESCRIPTION:Finding a church home is so important in our faith journey. It helps us be faithful disciples of Jesus and to participate as members of the body of Christ. Sign-Up for our next membership class to learn what it means to make Valley your home. \nSIGN-UP HERE
URL:https://www.vccfresno.org/event/valley-membership-class-3/
LOCATION:Valley Christian Center\, 4649 E. Shields Ave\, Fresno\, CA\, 93726\, United States
ATTACH;FMTTYPE=image/png:https://www.vccfresno.org/wp-content/uploads/2023/11/Membership-SQ.png
END:VEVENT
BEGIN:VEVENT
DTSTART;TZID=America/Los_Angeles:20240407T113000
DTEND;TZID=America/Los_Angeles:20240407T130000
DTSTAMP:20260425T064509
CREATED:20240110T215521Z
LAST-MODIFIED:20240110T215521Z
UID:6709-1712489400-1712494800@www.vccfresno.org
SUMMARY:PrimeTime Brunch
DESCRIPTION:Come hang out with old and new friends as we enjoy brunch together! Find out all the details when you sign up in the Courtyard before service (9:30-9:55am) on April 7th.
URL:https://www.vccfresno.org/event/primetime-brunch-3/
CATEGORIES:PrimeTime
ATTACH;FMTTYPE=image/png:https://www.vccfresno.org/wp-content/uploads/2024/01/PT-Brunch-After-Service-Banner.png
END:VEVENT
END:VCALENDAR