BEGIN:VCALENDAR
VERSION:2.0
PRODID:-//Valley Christian Center - ECPv6.13.2.1//NONSGML v1.0//EN
CALSCALE:GREGORIAN
METHOD:PUBLISH
X-ORIGINAL-URL:https://www.vccfresno.org
X-WR-CALDESC:Events for Valley Christian Center
REFRESH-INTERVAL;VALUE=DURATION:PT1H
X-Robots-Tag:noindex
X-PUBLISHED-TTL:PT1H
BEGIN:VTIMEZONE
TZID:America/Los_Angeles
BEGIN:DAYLIGHT
TZOFFSETFROM:-0800
TZOFFSETTO:-0700
TZNAME:PDT
DTSTART:20240310T100000
END:DAYLIGHT
BEGIN:STANDARD
TZOFFSETFROM:-0700
TZOFFSETTO:-0800
TZNAME:PST
DTSTART:20241103T090000
END:STANDARD
END:VTIMEZONE
BEGIN:VEVENT
DTSTART;TZID=America/Los_Angeles:20241015T070000
DTEND;TZID=America/Los_Angeles:20241015T080000
DTSTAMP:20260424T151241
CREATED:20240918T210533Z
LAST-MODIFIED:20241014T191319Z
UID:7790-1728975600-1728979200@www.vccfresno.org
SUMMARY:Men's Discipleship
DESCRIPTION:Join us every Tuesday morning from 7:00-8:00am for breakfast and the Word in the All Purpose Room. We are currently going through the “Devoted” Bible Study. Cost is $14 for the bible study booklet. Join us anytime. \nSIGN UP HERE!
URL:https://www.vccfresno.org/event/mens-discipleship-4/
LOCATION:Valley Christian Center\, 4649 E. Shields Ave\, Fresno\, CA\, 93726\, United States
ATTACH;FMTTYPE=image/png:https://www.vccfresno.org/wp-content/uploads/2024/09/GH_DS-Mens-Discipleship.png
END:VEVENT
BEGIN:VEVENT
DTSTART;TZID=America/Los_Angeles:20241015T183000
DTEND;TZID=America/Los_Angeles:20241015T200000
DTSTAMP:20260424T151241
CREATED:20240919T184404Z
LAST-MODIFIED:20241014T191624Z
UID:7817-1729017000-1729022400@www.vccfresno.org
SUMMARY:Tuesday Night Men's Bible Study
DESCRIPTION:Our year round Men’s Tuesday Night Bible Study Connect Crew meets every Tuesday. We are an open group\, so you can join anytime. This group is for men who would love to learn more about JESUS and what He has in store for us. The cost is usually around $8.00-$12.00 depending on the cost of the book. \nSIGN UP HERE!
URL:https://www.vccfresno.org/event/tuesday-night-mens-bible-study-4/
LOCATION:Valley Christian Center\, 4649 E. Shields Ave\, Fresno\, CA\, 93726\, United States
ATTACH;FMTTYPE=image/png:https://www.vccfresno.org/wp-content/uploads/2024/09/FT_KO-Mens-Bible_Book-Study.png
END:VEVENT
BEGIN:VEVENT
DTSTART;TZID=America/Los_Angeles:20241015T183000
DTEND;TZID=America/Los_Angeles:20241015T203000
DTSTAMP:20260424T151241
CREATED:20240918T195957Z
LAST-MODIFIED:20241014T190352Z
UID:7718-1729017000-1729024200@www.vccfresno.org
SUMMARY:Warrior Bride Draw Your Sword: Women's Bible Study
DESCRIPTION:A Six-Week Bible Study Series on the Book of Ephesians and how God created Mighty Warrior Daughters for His Kingdom\, His Kingdom\, His Army and the Epic Battle we are designed to be a part of. September 10th – October 29th from 6:30-8:30pm in room 305 at Valley Christian Center. Cost is $25.00 for the study materials.
URL:https://www.vccfresno.org/event/warrior-bride-draw-your-sword-womens-bible-study-4/
LOCATION:Valley Christian Center\, 4649 E. Shields Ave\, Fresno\, CA\, 93726\, United States
ATTACH;FMTTYPE=image/png:https://www.vccfresno.org/wp-content/uploads/2024/09/Fall-Womens-Connect-Crew-Graphics-1080x18-1.png
END:VEVENT
END:VCALENDAR