BEGIN:VCALENDAR
VERSION:2.0
PRODID:-//Valley Christian Center - ECPv6.13.2.1//NONSGML v1.0//EN
CALSCALE:GREGORIAN
METHOD:PUBLISH
X-ORIGINAL-URL:https://www.vccfresno.org
X-WR-CALDESC:Events for Valley Christian Center
REFRESH-INTERVAL;VALUE=DURATION:PT1H
X-Robots-Tag:noindex
X-PUBLISHED-TTL:PT1H
BEGIN:VTIMEZONE
TZID:America/Los_Angeles
BEGIN:DAYLIGHT
TZOFFSETFROM:-0800
TZOFFSETTO:-0700
TZNAME:PDT
DTSTART:20240310T100000
END:DAYLIGHT
BEGIN:STANDARD
TZOFFSETFROM:-0700
TZOFFSETTO:-0800
TZNAME:PST
DTSTART:20241103T090000
END:STANDARD
END:VTIMEZONE
BEGIN:VEVENT
DTSTART;TZID=America/Los_Angeles:20241123T093000
DTEND;TZID=America/Los_Angeles:20241123T133000
DTSTAMP:20260424T133954
CREATED:20241114T230748Z
LAST-MODIFIED:20241114T230748Z
UID:7916-1732354200-1732368600@www.vccfresno.org
SUMMARY:One Table Serve Day
DESCRIPTION:We need 20 people to hand out coats at the Fresno Mission One Table Serve Day Event on Saturday\, November 23rd from 9:30am-1:30pm. Join the COAT DISTRIBUTION Team and help us bless families in need! As the weather gets colder\, hundreds of men\, women\, and children in our community will be in need of a warm coat. We are looking for a team of people to help families “shop” for coats for free! \nSIGN UP HERE!
URL:https://www.vccfresno.org/event/one-table-serve-day/
LOCATION:2505 E. Dakota\, Fresno Ca 93726\, 2505 E. Dakota\, Fresno\, CA\, 93726\, United States
ATTACH;FMTTYPE=image/png:https://www.vccfresno.org/wp-content/uploads/2024/11/Outreach-Fresno-Mission-One-Table-Coat-Distribution-SQ-1.png
END:VEVENT
END:VCALENDAR