BEGIN:VCALENDAR
VERSION:2.0
PRODID:-//Valley Christian Center - ECPv6.13.2.1//NONSGML v1.0//EN
CALSCALE:GREGORIAN
METHOD:PUBLISH
X-WR-CALNAME:Valley Christian Center
X-ORIGINAL-URL:https://www.vccfresno.org
X-WR-CALDESC:Events for Valley Christian Center
REFRESH-INTERVAL;VALUE=DURATION:PT1H
X-Robots-Tag:noindex
X-PUBLISHED-TTL:PT1H
BEGIN:VTIMEZONE
TZID:America/Los_Angeles
BEGIN:DAYLIGHT
TZOFFSETFROM:-0800
TZOFFSETTO:-0700
TZNAME:PDT
DTSTART:20240310T100000
END:DAYLIGHT
BEGIN:STANDARD
TZOFFSETFROM:-0700
TZOFFSETTO:-0800
TZNAME:PST
DTSTART:20241103T090000
END:STANDARD
END:VTIMEZONE
BEGIN:VEVENT
DTSTART;TZID=America/Los_Angeles:20241210T070000
DTEND;TZID=America/Los_Angeles:20241210T080000
DTSTAMP:20260424T120157
CREATED:20240919T182621Z
LAST-MODIFIED:20241014T191113Z
UID:7806-1733814000-1733817600@www.vccfresno.org
SUMMARY:Men's Discipleship
DESCRIPTION:Join us every Tuesday morning from 7:00-8:00am for breakfast and the Word in the All Purpose Room. We are currently going through the “Devoted” Bible Study. Cost is $14 for the bible study booklet. Join us anytime. \nSIGN UP HERE!
URL:https://www.vccfresno.org/event/mens-discipleship-11/
LOCATION:Valley Christian Center\, 4649 E. Shields Ave\, Fresno\, CA\, 93726\, United States
ATTACH;FMTTYPE=image/png:https://www.vccfresno.org/wp-content/uploads/2024/09/GH_DS-Mens-Discipleship.png
END:VEVENT
BEGIN:VEVENT
DTSTART;TZID=America/Los_Angeles:20241210T183000
DTEND;TZID=America/Los_Angeles:20241210T203000
DTSTAMP:20260424T120157
CREATED:20240919T185355Z
LAST-MODIFIED:20241014T191405Z
UID:7833-1733855400-1733862600@www.vccfresno.org
SUMMARY:Tuesday Night Men's Bible Study
DESCRIPTION:Our year round Men’s Tuesday Night Bible Study Connect Crew meets every Tuesday. We are an open group\, so you can join anytime. This group is for men who would love to learn more about JESUS and what He has in store for us. The cost is usually around $8.00-$12.00 depending on the cost of the book. \nSIGN UP HERE!
URL:https://www.vccfresno.org/event/tuesday-night-mens-bible-study-11/
LOCATION:Valley Christian Center\, 4649 E. Shields Ave\, Fresno\, CA\, 93726\, United States
ATTACH;FMTTYPE=image/png:https://www.vccfresno.org/wp-content/uploads/2024/09/FT_KO-Mens-Bible_Book-Study.png
END:VEVENT
END:VCALENDAR