BEGIN:VCALENDAR
VERSION:2.0
PRODID:-//Valley Christian Center - ECPv6.13.2.1//NONSGML v1.0//EN
CALSCALE:GREGORIAN
METHOD:PUBLISH
X-ORIGINAL-URL:https://www.vccfresno.org
X-WR-CALDESC:Events for Valley Christian Center
REFRESH-INTERVAL;VALUE=DURATION:PT1H
X-Robots-Tag:noindex
X-PUBLISHED-TTL:PT1H
BEGIN:VTIMEZONE
TZID:America/Los_Angeles
BEGIN:DAYLIGHT
TZOFFSETFROM:-0800
TZOFFSETTO:-0700
TZNAME:PDT
DTSTART:20250309T100000
END:DAYLIGHT
BEGIN:STANDARD
TZOFFSETFROM:-0700
TZOFFSETTO:-0800
TZNAME:PST
DTSTART:20251102T090000
END:STANDARD
END:VTIMEZONE
BEGIN:VEVENT
DTSTART;TZID=America/Los_Angeles:20250126T100000
DTEND;TZID=America/Los_Angeles:20250126T110000
DTSTAMP:20260424T064840
CREATED:20250113T213836Z
LAST-MODIFIED:20250113T213836Z
UID:8084-1737885600-1737889200@www.vccfresno.org
SUMMARY:Baptism Sunday
DESCRIPTION:Baptism Sunday is here! Today is the day we celebrate those being raised to new life in Christ by way of water baptism. Those being baptized have gone through our baptism class and are ready to proclaim their faith. If you are interested in being baptized and have accepted Jesus as your Lord and Savior sign-up online today for our next baptism class and baptism Sunday. \nSIGN UP HERE!
URL:https://www.vccfresno.org/event/baptism-sunday-6/
LOCATION:Valley Christian Center\, 4649 E. Shields Ave\, Fresno\, CA\, 93726\, United States
CATEGORIES:Water Baptism
ATTACH;FMTTYPE=image/png:https://www.vccfresno.org/wp-content/uploads/2025/01/Water-Baptism-Class-SQ.png
END:VEVENT
BEGIN:VEVENT
DTSTART;TZID=America/Los_Angeles:20250126T180000
DTEND;TZID=America/Los_Angeles:20250126T190000
DTSTAMP:20260424T064840
CREATED:20241218T094931Z
LAST-MODIFIED:20241218T094931Z
UID:8054-1737914400-1737918000@www.vccfresno.org
SUMMARY:21 Days of Prayer & Fasting - Prayer Night
DESCRIPTION:Each night of the 21 Days of Prayer & Fasting we have an opportunity to gather together with others in our city at participating churches in our community for a one hour prayer and worship service in-person or online. \nJanuary 26th | Cornerstone Church | 6:00-7:00pm \nLink to join live: https://www.youtube.com/@cornerstonefresno/streams
URL:https://www.vccfresno.org/event/21-days-of-prayer-fasting-prayer-night-19/
LOCATION:Cornerstone Church\, 1545 Fulton St.\, Fresno\, CA\, 93721\, United States
CATEGORIES:Prayer
ATTACH;FMTTYPE=image/png:https://www.vccfresno.org/wp-content/uploads/2024/12/CALENDAR-SQUARE.png
END:VEVENT
END:VCALENDAR