BEGIN:VCALENDAR
VERSION:2.0
PRODID:-//Valley Christian Center - ECPv6.13.2.1//NONSGML v1.0//EN
CALSCALE:GREGORIAN
METHOD:PUBLISH
X-ORIGINAL-URL:https://www.vccfresno.org
X-WR-CALDESC:Events for Valley Christian Center
REFRESH-INTERVAL;VALUE=DURATION:PT1H
X-Robots-Tag:noindex
X-PUBLISHED-TTL:PT1H
BEGIN:VTIMEZONE
TZID:America/Los_Angeles
BEGIN:DAYLIGHT
TZOFFSETFROM:-0800
TZOFFSETTO:-0700
TZNAME:PDT
DTSTART:20250309T100000
END:DAYLIGHT
BEGIN:STANDARD
TZOFFSETFROM:-0700
TZOFFSETTO:-0800
TZNAME:PST
DTSTART:20251102T090000
END:STANDARD
END:VTIMEZONE
BEGIN:VEVENT
DTSTART;TZID=America/Los_Angeles:20250208T083000
DTEND;TZID=America/Los_Angeles:20250208T100000
DTSTAMP:20260424T065300
CREATED:20250115T084319Z
LAST-MODIFIED:20250115T084542Z
UID:8103-1739003400-1739008800@www.vccfresno.org
SUMMARY:Men's Breakfast
DESCRIPTION:Calling all Men!\nCome join us on February 8th in the All Purpose Room at Valley from 8:30am to 10:00am for breakfast\, the Word and more as we learn to be a Hero with Foundations for Godly Manhood!\nCost is $10.00 per person. Register online through February 5th.\n\nREGISTER HERE!
URL:https://www.vccfresno.org/event/mens-breakfast-4/
LOCATION:Valley Christian Center\, 4649 E. Shields Ave\, Fresno\, CA\, 93726\, United States
CATEGORIES:Men
ATTACH;FMTTYPE=image/png:https://www.vccfresno.org/wp-content/uploads/2025/01/2-8-2025-Mens-Breakfast-SQ.png
END:VEVENT
END:VCALENDAR