BEGIN:VCALENDAR
VERSION:2.0
PRODID:-//Valley Christian Center - ECPv6.13.2.1//NONSGML v1.0//EN
CALSCALE:GREGORIAN
METHOD:PUBLISH
X-WR-CALNAME:Valley Christian Center
X-ORIGINAL-URL:https://www.vccfresno.org
X-WR-CALDESC:Events for Valley Christian Center
REFRESH-INTERVAL;VALUE=DURATION:PT1H
X-Robots-Tag:noindex
X-PUBLISHED-TTL:PT1H
BEGIN:VTIMEZONE
TZID:America/Los_Angeles
BEGIN:DAYLIGHT
TZOFFSETFROM:-0800
TZOFFSETTO:-0700
TZNAME:PDT
DTSTART:20250309T100000
END:DAYLIGHT
BEGIN:STANDARD
TZOFFSETFROM:-0700
TZOFFSETTO:-0800
TZNAME:PST
DTSTART:20251102T090000
END:STANDARD
END:VTIMEZONE
BEGIN:VEVENT
DTSTART;VALUE=DATE:20250209
DTEND;VALUE=DATE:20250210
DTSTAMP:20260424T064836
CREATED:20250124T063014Z
LAST-MODIFIED:20250124T063014Z
UID:8173-1739059200-1739145599@www.vccfresno.org
SUMMARY:Spring 25' Connect Week
DESCRIPTION:Connect Week is here! We are better together! Our Spring season of Connect Week is kicking off February 2nd\, and we would love for you to be a part of the growing community at Valley Christian Center. During Connect Week\, February 2nd-9th you can sign up in-person or online for Connect Crews\, the small groups at Valley. To learn more about what a Connect Crew is or see a listing of Connect Crews to sign-up for you can visit vccfresno.org/connect-crews/ .
URL:https://www.vccfresno.org/event/spring-25-connect-week-2/
LOCATION:Valley Christian Center\, 4649 E. Shields Ave\, Fresno\, CA\, 93726\, United States
CATEGORIES:Life Groups
ATTACH;FMTTYPE=image/png:https://www.vccfresno.org/wp-content/uploads/2025/01/Feb-Apr-2025-ConnectCrews-SQ-1080x1080px.png
END:VEVENT
END:VCALENDAR