BEGIN:VCALENDAR
VERSION:2.0
PRODID:-//Valley Christian Center - ECPv6.13.2.1//NONSGML v1.0//EN
CALSCALE:GREGORIAN
METHOD:PUBLISH
X-ORIGINAL-URL:https://www.vccfresno.org
X-WR-CALDESC:Events for Valley Christian Center
REFRESH-INTERVAL;VALUE=DURATION:PT1H
X-Robots-Tag:noindex
X-PUBLISHED-TTL:PT1H
BEGIN:VTIMEZONE
TZID:America/Los_Angeles
BEGIN:DAYLIGHT
TZOFFSETFROM:-0800
TZOFFSETTO:-0700
TZNAME:PDT
DTSTART:20250309T100000
END:DAYLIGHT
BEGIN:STANDARD
TZOFFSETFROM:-0700
TZOFFSETTO:-0800
TZNAME:PST
DTSTART:20251102T090000
END:STANDARD
END:VTIMEZONE
BEGIN:VEVENT
DTSTART;TZID=America/Los_Angeles:20250413T090000
DTEND;TZID=America/Los_Angeles:20250413T100000
DTSTAMP:20260424T034908
CREATED:20250113T215002Z
LAST-MODIFIED:20250113T215002Z
UID:8092-1744534800-1744538400@www.vccfresno.org
SUMMARY:Baptism Class
DESCRIPTION:Have you accepted Jesus as your Lord and Savior? Then your next step is water baptism. It is one of the most significant next steps you can take to continue your faith journey\, and we love to celebrate with each and every person who takes this step of obedience in his or her journey to follow Jesus. Sunday\, April 13th is our next Water Baptism Class at 9:00am in Room 104. In this class you will learn 3 things: What is water baptism?\, What’s the purpose of water baptism? and What is the promise of water baptism? Followed by water baptisms on Sunday\, April 20th. \nSIGN UP HERE!
URL:https://www.vccfresno.org/event/baptism-class-7/
LOCATION:Valley Christian Center\, 4649 E. Shields Ave\, Fresno\, CA\, 93726\, United States
CATEGORIES:Water Baptism
ATTACH;FMTTYPE=image/png:https://www.vccfresno.org/wp-content/uploads/2025/01/Water-Baptism-Class-SQ-1.png
END:VEVENT
BEGIN:VEVENT
DTSTART;TZID=America/Los_Angeles:20250413T113000
DTEND;TZID=America/Los_Angeles:20250413T120000
DTSTAMP:20260424T034908
CREATED:20250310T205015Z
LAST-MODIFIED:20250310T205015Z
UID:8284-1744543800-1744545600@www.vccfresno.org
SUMMARY:Prayer Against Child Trafficking
DESCRIPTION:We will gather to pray against child and human trafficking in Fresno and the Central Valley. \nMeeting Dates: 2nd & 4th Sundays | February 23rd – May 25th \nMeeting Time: 11:30am – 12:00pm \nLocation: Room 104 | VALLEY
URL:https://www.vccfresno.org/event/prayer-against-child-trafficking-2/
LOCATION:Valley Christian Center\, 4649 E. Shields Ave\, Fresno\, CA\, 93726\, United States
CATEGORIES:Life Groups,Prayer
ATTACH;FMTTYPE=image/png:https://www.vccfresno.org/wp-content/uploads/2025/01/BB_RA_AA-PrayerAgainstChildTrafficking-1.png
END:VEVENT
BEGIN:VEVENT
DTSTART;TZID=America/Los_Angeles:20250413T170000
DTEND;TZID=America/Los_Angeles:20250413T190000
DTSTAMP:20260424T034908
CREATED:20250310T204655Z
LAST-MODIFIED:20250310T204655Z
UID:8278-1744563600-1744570800@www.vccfresno.org
SUMMARY:Dinner with Friends - Connect Crew
DESCRIPTION:Dinner with Friends Connect Crew is for adults only\, ages 30-55. Come hang out and meet new friends\, dinner is potluck style! \nDates: Sundays | February 16th\, March 9th\, March 23rd\, April 13th and April 27th. \nTime: 5:00pm to 7:00pm \nWhere: Tejeda Home (leader to provide upon registration) Childcare is not provided for this Connect Crew. \nSIGN UP HERE!
URL:https://www.vccfresno.org/event/dinner-with-friends-connect-crew-2/
CATEGORIES:Life Groups
ATTACH;FMTTYPE=image/png:https://www.vccfresno.org/wp-content/uploads/2025/01/MT_JT-Dinner-with-Friends.png
END:VEVENT
END:VCALENDAR