BEGIN:VCALENDAR
VERSION:2.0
PRODID:-//Valley Christian Center - ECPv6.13.2.1//NONSGML v1.0//EN
CALSCALE:GREGORIAN
METHOD:PUBLISH
X-ORIGINAL-URL:https://www.vccfresno.org
X-WR-CALDESC:Events for Valley Christian Center
REFRESH-INTERVAL;VALUE=DURATION:PT1H
X-Robots-Tag:noindex
X-PUBLISHED-TTL:PT1H
BEGIN:VTIMEZONE
TZID:America/Los_Angeles
BEGIN:DAYLIGHT
TZOFFSETFROM:-0800
TZOFFSETTO:-0700
TZNAME:PDT
DTSTART:20250309T100000
END:DAYLIGHT
BEGIN:STANDARD
TZOFFSETFROM:-0700
TZOFFSETTO:-0800
TZNAME:PST
DTSTART:20251102T090000
END:STANDARD
END:VTIMEZONE
BEGIN:VEVENT
DTSTART;TZID=America/Los_Angeles:20250720T090000
DTEND;TZID=America/Los_Angeles:20250720T093000
DTSTAMP:20260423T231224
CREATED:20250706T194115Z
LAST-MODIFIED:20250706T194115Z
UID:8596-1753002000-1753003800@www.vccfresno.org
SUMMARY:Child Dedication Class & Dedication Sunday
DESCRIPTION:Have you thought about dedicating your little one to the Lord?\nOur next child dedication class will take place Sunday\, July 20th at 9:00am in room 104. Child Dedication Sunday will be on Sunday\, July 27th. Child dedications are a time for parents\, the church\, and God Himself to partner in raising your child to live a Godly life. If you’d like to dedicate your child\, simply follow the link to our registration form and the Children’s Director will connect with you. \n  \nREGISTER HERE!
URL:https://www.vccfresno.org/event/child-dedication-class-dedication-sunday/
LOCATION:Valley Christian Center\, 4649 E. Shields Ave\, Fresno\, CA\, 93726\, United States
CATEGORIES:Kids
ATTACH;FMTTYPE=image/png:https://www.vccfresno.org/wp-content/uploads/2025/07/Child-Dedication-ClassDedication-Sunday.png
END:VEVENT
END:VCALENDAR