BEGIN:VCALENDAR
VERSION:2.0
PRODID:-//Valley Christian Center - ECPv6.13.2.1//NONSGML v1.0//EN
CALSCALE:GREGORIAN
METHOD:PUBLISH
X-WR-CALNAME:Valley Christian Center
X-ORIGINAL-URL:https://www.vccfresno.org
X-WR-CALDESC:Events for Valley Christian Center
REFRESH-INTERVAL;VALUE=DURATION:PT1H
X-Robots-Tag:noindex
X-PUBLISHED-TTL:PT1H
BEGIN:VTIMEZONE
TZID:America/Los_Angeles
BEGIN:DAYLIGHT
TZOFFSETFROM:-0800
TZOFFSETTO:-0700
TZNAME:PDT
DTSTART:20250309T100000
END:DAYLIGHT
BEGIN:STANDARD
TZOFFSETFROM:-0700
TZOFFSETTO:-0800
TZNAME:PST
DTSTART:20251102T090000
END:STANDARD
END:VTIMEZONE
BEGIN:VEVENT
DTSTART;TZID=America/Los_Angeles:20250724T183000
DTEND;TZID=America/Los_Angeles:20250724T203000
DTSTAMP:20260423T231101
CREATED:20250617T233839Z
LAST-MODIFIED:20250617T234811Z
UID:8580-1753381800-1753389000@www.vccfresno.org
SUMMARY:The Power In Forgiveness
DESCRIPTION:Forgiving is hard. It’s hard when hurt\, pain and trauma are multifaceted. There is much more involved regarding pain that comes from an event or an offense. Pain is a mixture of emotions that are attached to hurtful memories\, at various ages in our lives\, making it complex and hard to navigate alone. The best part is that we get the opportunity to allow the Lord to lovingly breath new life on those areas of pain\, giving us freedom to live the life God intended. \nThe Power in Forgiveness is a 4-week Scripture-based course utilizing connection with Holy Spirit and connection with others. \nSIGN UP HERE!
URL:https://www.vccfresno.org/event/power-in-forgiveness/
LOCATION:Valley Christian Center\, 4649 E. Shields Ave\, Fresno\, CA\, 93726\, United States
ATTACH;FMTTYPE=image/png:https://www.vccfresno.org/wp-content/uploads/2025/06/Copy-of-The-Power-In-Forgiveness-Banner.png
END:VEVENT
END:VCALENDAR