BEGIN:VCALENDAR
VERSION:2.0
PRODID:-//Valley Christian Center - ECPv6.13.2.1//NONSGML v1.0//EN
CALSCALE:GREGORIAN
METHOD:PUBLISH
X-ORIGINAL-URL:https://www.vccfresno.org
X-WR-CALDESC:Events for Valley Christian Center
REFRESH-INTERVAL;VALUE=DURATION:PT1H
X-Robots-Tag:noindex
X-PUBLISHED-TTL:PT1H
BEGIN:VTIMEZONE
TZID:America/Los_Angeles
BEGIN:DAYLIGHT
TZOFFSETFROM:-0800
TZOFFSETTO:-0700
TZNAME:PDT
DTSTART:20250309T100000
END:DAYLIGHT
BEGIN:STANDARD
TZOFFSETFROM:-0700
TZOFFSETTO:-0800
TZNAME:PST
DTSTART:20251102T090000
END:STANDARD
END:VTIMEZONE
BEGIN:VEVENT
DTSTART;TZID=America/Los_Angeles:20251009T180000
DTEND;TZID=America/Los_Angeles:20251009T203000
DTSTAMP:20260423T182620
CREATED:20250801T142922Z
LAST-MODIFIED:20250801T142922Z
UID:8655-1760032800-1760041800@www.vccfresno.org
SUMMARY:
DESCRIPTION:Recovery Alive! program is a practical\, powerful and proven resource combining the raw honesty of the 12 steps with the hope of Jesus Christ. Recovery Alive! helps you discover a pathway to true healing and lasting freedom from any bondage or brokenness that has kept you from experiencing the abundant life God has created for you! Recovery Alive! is for anyone. No need to register\, just show up. Childcare is provided.\nJoin us Thursday nights in room 403 at Valley Christian Center starting at 6:00pm with refreshments and then worship begins at 6:30pm. Childcare is available in room 301.
URL:https://www.vccfresno.org/event/8655/
LOCATION:Valley Christian Center\, 4649 E. Shields Ave\, Fresno\, CA\, 93726\, United States
ATTACH;FMTTYPE=image/png:https://www.vccfresno.org/wp-content/uploads/2024/08/RECOVERY-ALIVE-WEBSITE-EVENT.png
END:VEVENT
BEGIN:VEVENT
DTSTART;TZID=America/Los_Angeles:20251009T180000
DTEND;TZID=America/Los_Angeles:20251009T203000
DTSTAMP:20260423T182620
CREATED:20250924T223751Z
LAST-MODIFIED:20250924T223751Z
UID:8822-1760032800-1760041800@www.vccfresno.org
SUMMARY:The Power In Forgiveness
DESCRIPTION:Forgiving is hard. It’s hard when hurt\, pain and trauma are multifaceted. There is much more involved regarding pain that comes from an event or an offense. Pain is a mixture of emotions that are attached to hurtful memories\, at various ages in our lives\, making it complex and hard to navigate alone. The best part is that we get the opportunity to allow the Lord to lovingly breath new life on those areas of pain\, giving us freedom to live the life God intended. \nThe Power in Forgiveness is a 4-week Scripture-based course utilizing connection with Holy Spirit and connection with others. \nSIGN UP HERE!
URL:https://www.vccfresno.org/event/the-power-in-forgiveness-5/
LOCATION:Valley Christian Center\, 4649 E. Shields Ave\, Fresno\, CA\, 93726\, United States
ATTACH;FMTTYPE=image/png:https://www.vccfresno.org/wp-content/uploads/2025/08/CB-The-Power-In-Forgiveness.png
END:VEVENT
END:VCALENDAR