BEGIN:VCALENDAR
VERSION:2.0
PRODID:-//Valley Christian Center - ECPv6.13.2.1//NONSGML v1.0//EN
CALSCALE:GREGORIAN
METHOD:PUBLISH
X-WR-CALNAME:Valley Christian Center
X-ORIGINAL-URL:https://www.vccfresno.org
X-WR-CALDESC:Events for Valley Christian Center
REFRESH-INTERVAL;VALUE=DURATION:PT1H
X-Robots-Tag:noindex
X-PUBLISHED-TTL:PT1H
BEGIN:VTIMEZONE
TZID:America/Los_Angeles
BEGIN:DAYLIGHT
TZOFFSETFROM:-0800
TZOFFSETTO:-0700
TZNAME:PDT
DTSTART:20250309T100000
END:DAYLIGHT
BEGIN:STANDARD
TZOFFSETFROM:-0700
TZOFFSETTO:-0800
TZNAME:PST
DTSTART:20251102T090000
END:STANDARD
END:VTIMEZONE
BEGIN:VEVENT
DTSTART;TZID=America/Los_Angeles:20251101T083000
DTEND;TZID=America/Los_Angeles:20251101T120000
DTSTAMP:20260423T164814
CREATED:20250312T100749Z
LAST-MODIFIED:20251025T164115Z
UID:8303-1761985800-1761998400@www.vccfresno.org
SUMMARY:Women Connect Fall Breakfast
DESCRIPTION:2025 Women Connect Fall Breakfast\nSaturday\, November 1st\, 2025 from 8:30am to 12:00pm\nValley Christian Center APR\nJoin us as we meet for breakfast this summer! Bring your mama\, daughters\, sisters\, friends and neighbors as we enjoy a hot breakfast together. \nSIGN UP HERE!
URL:https://www.vccfresno.org/event/women-connect-fall-breakfast/
LOCATION:Valley Christian Center\, 4649 E. Shields Ave\, Fresno\, CA\, 93726\, United States
CATEGORIES:Women
ATTACH;FMTTYPE=image/png:https://www.vccfresno.org/wp-content/uploads/2025/03/WC-Breakfast-Square-1.png
END:VEVENT
END:VCALENDAR