BEGIN:VCALENDAR
VERSION:2.0
PRODID:-//Valley Christian Center - ECPv6.13.2.1//NONSGML v1.0//EN
CALSCALE:GREGORIAN
METHOD:PUBLISH
X-ORIGINAL-URL:https://www.vccfresno.org
X-WR-CALDESC:Events for Valley Christian Center
REFRESH-INTERVAL;VALUE=DURATION:PT1H
X-Robots-Tag:noindex
X-PUBLISHED-TTL:PT1H
BEGIN:VTIMEZONE
TZID:America/Los_Angeles
BEGIN:DAYLIGHT
TZOFFSETFROM:-0800
TZOFFSETTO:-0700
TZNAME:PDT
DTSTART:20250309T100000
END:DAYLIGHT
BEGIN:STANDARD
TZOFFSETFROM:-0700
TZOFFSETTO:-0800
TZNAME:PST
DTSTART:20251102T090000
END:STANDARD
END:VTIMEZONE
BEGIN:VEVENT
DTSTART;TZID=America/Los_Angeles:20251105T183000
DTEND;TZID=America/Los_Angeles:20251105T200000
DTSTAMP:20260423T164916
CREATED:20251009T181516Z
LAST-MODIFIED:20251009T181516Z
UID:8858-1762367400-1762372800@www.vccfresno.org
SUMMARY:Following Jesus: Foundations for Faith Class
DESCRIPTION:If you have recently accepted Jesus as your Lord and Savior\, we would like to invite you to our class\, following JESUS: foundations for faith. Christianity is a day by day personal relationship with Jesus Christ. We would love to walk with you as you begin this journey. \n\nEach 8-week session will meet on Wednesday nights from 6:30pm to 8:00pm in Room 305. Childcare is available upon request for ages birth through 12 years old.\n\nSIGN UP HERE!
URL:https://www.vccfresno.org/event/following-jesus-foundations-for-faith-class-12/
LOCATION:Valley Christian Center\, 4649 E. Shields Ave\, Fresno\, CA\, 93726\, United States
ATTACH;FMTTYPE=image/png:https://www.vccfresno.org/wp-content/uploads/2025/08/VALLEY-following-Jesus_foundations-for-faith.png
END:VEVENT
END:VCALENDAR