BEGIN:VCALENDAR
VERSION:2.0
PRODID:-//Valley Christian Center - ECPv6.13.2.1//NONSGML v1.0//EN
CALSCALE:GREGORIAN
METHOD:PUBLISH
X-WR-CALNAME:Valley Christian Center
X-ORIGINAL-URL:https://www.vccfresno.org
X-WR-CALDESC:Events for Valley Christian Center
REFRESH-INTERVAL;VALUE=DURATION:PT1H
X-Robots-Tag:noindex
X-PUBLISHED-TTL:PT1H
BEGIN:VTIMEZONE
TZID:America/Los_Angeles
BEGIN:DAYLIGHT
TZOFFSETFROM:-0800
TZOFFSETTO:-0700
TZNAME:PDT
DTSTART:20250309T100000
END:DAYLIGHT
BEGIN:STANDARD
TZOFFSETFROM:-0700
TZOFFSETTO:-0800
TZNAME:PST
DTSTART:20251102T090000
END:STANDARD
END:VTIMEZONE
BEGIN:VEVENT
DTSTART;TZID=America/Los_Angeles:20251206T120000
DTEND;TZID=America/Los_Angeles:20251206T140000
DTSTAMP:20260423T145820
CREATED:20251114T083705Z
LAST-MODIFIED:20251114T083705Z
UID:8953-1765022400-1765029600@www.vccfresno.org
SUMMARY:PrimeTime 55+ Christmas Luncheon
DESCRIPTION:Come Celebrate Christmas With Us!\nJoin us on Saturday\, December 6th from 12:00pm to 2:00pm in Rooms 402-403 for our annual Christmas Luncheon! We will be enjoying a delicious lunch along with a fun time of singing Christmas carols\, playing games and celebrating the birth of Jesus together!\n\nSIGN UP HERE!
URL:https://www.vccfresno.org/event/primetime-55-christmas-luncheon-3/
LOCATION:Valley Christian Center\, 4649 E. Shields Ave\, Fresno\, CA\, 93726\, United States
CATEGORIES:PrimeTime
ATTACH;FMTTYPE=image/png:https://www.vccfresno.org/wp-content/uploads/2025/11/PT55-1262025-Christmas-Luncheon-SQ.png
END:VEVENT
END:VCALENDAR