BEGIN:VCALENDAR
VERSION:2.0
PRODID:-//Valley Christian Center - ECPv6.13.2.1//NONSGML v1.0//EN
CALSCALE:GREGORIAN
METHOD:PUBLISH
X-ORIGINAL-URL:https://www.vccfresno.org
X-WR-CALDESC:Events for Valley Christian Center
REFRESH-INTERVAL;VALUE=DURATION:PT1H
X-Robots-Tag:noindex
X-PUBLISHED-TTL:PT1H
BEGIN:VTIMEZONE
TZID:America/Los_Angeles
BEGIN:DAYLIGHT
TZOFFSETFROM:-0800
TZOFFSETTO:-0700
TZNAME:PDT
DTSTART:20260308T100000
END:DAYLIGHT
BEGIN:STANDARD
TZOFFSETFROM:-0700
TZOFFSETTO:-0800
TZNAME:PST
DTSTART:20261101T090000
END:STANDARD
END:VTIMEZONE
BEGIN:VEVENT
DTSTART;TZID=America/Los_Angeles:20260105T080000
DTEND;TZID=America/Los_Angeles:20260105T170000
DTSTAMP:20260423T133341
CREATED:20260105T223526Z
LAST-MODIFIED:20260105T223526Z
UID:9103-1767600000-1767632400@www.vccfresno.org
SUMMARY:2026 - 21 Days Prayer Night
DESCRIPTION:Each night of the 21 Days of Prayer & Fasting we have an opportunity to gather together with others in our city at participating churches in our community for a one hour prayer and worship service in-person or online. \nJanuary 13th | Westside Church of God / 1422 N. California Ave. Fresno 93706 | 7:00-8:00pm \nLink to join live: click here
URL:https://www.vccfresno.org/event/2026-21-days-prayer-night-9/
END:VEVENT
BEGIN:VEVENT
DTSTART;TZID=America/Los_Angeles:20260105T190000
DTEND;TZID=America/Los_Angeles:20260105T200000
DTSTAMP:20260423T133341
CREATED:20251231T170657Z
LAST-MODIFIED:20251231T170657Z
UID:9086-1767639600-1767643200@www.vccfresno.org
SUMMARY:2026 - 21 Days Prayer Night
DESCRIPTION:Each night of the 21 Days of Prayer & Fasting we have an opportunity to gather together with others in our city at participating churches in our community for a one hour prayer and worship service in-person or online. \nJanuary 5th | Valley Dream Center | 7:00-8:00pm \nLink to join live: click here
URL:https://www.vccfresno.org/event/2026-21-days-prayer-night/
LOCATION:Valley Dream Center\, 1835 N Winery Ave\, Fresno\, CA\, 93703\, United States
CATEGORIES:Prayer
ATTACH;FMTTYPE=image/png:https://www.vccfresno.org/wp-content/uploads/2025/12/21-Days-Square-1.png
END:VEVENT
END:VCALENDAR