BEGIN:VCALENDAR
VERSION:2.0
PRODID:-//Valley Christian Center - ECPv6.13.2.1//NONSGML v1.0//EN
CALSCALE:GREGORIAN
METHOD:PUBLISH
X-ORIGINAL-URL:https://www.vccfresno.org
X-WR-CALDESC:Events for Valley Christian Center
REFRESH-INTERVAL;VALUE=DURATION:PT1H
X-Robots-Tag:noindex
X-PUBLISHED-TTL:PT1H
BEGIN:VTIMEZONE
TZID:America/Los_Angeles
BEGIN:DAYLIGHT
TZOFFSETFROM:-0800
TZOFFSETTO:-0700
TZNAME:PDT
DTSTART:20260308T100000
END:DAYLIGHT
BEGIN:STANDARD
TZOFFSETFROM:-0700
TZOFFSETTO:-0800
TZNAME:PST
DTSTART:20261101T090000
END:STANDARD
END:VTIMEZONE
BEGIN:VEVENT
DTSTART;TZID=America/Los_Angeles:20260123T190000
DTEND;TZID=America/Los_Angeles:20260123T200000
DTSTAMP:20260423T133341
CREATED:20260105T230500Z
LAST-MODIFIED:20260105T230500Z
UID:9123-1769194800-1769198400@www.vccfresno.org
SUMMARY:2026 - 21 Days Prayer Night
DESCRIPTION:Each night of the 21 Days of Prayer & Fasting we have an opportunity to gather together with others in our city at participating churches in our community for a one hour prayer and worship service in-person or online. \nJanuary 23rd | Crosscity Christian Church / 2777 E. Nees Ave. Fresno 93720 | 7:00-8:00pm \nLink to join live: click here
URL:https://www.vccfresno.org/event/2026-21-days-prayer-night-19/
CATEGORIES:Prayer
ATTACH;FMTTYPE=image/png:https://www.vccfresno.org/wp-content/uploads/2025/12/21-Days-Square-1.png
END:VEVENT
END:VCALENDAR