BEGIN:VCALENDAR
VERSION:2.0
PRODID:-//Valley Christian Center - ECPv6.13.2.1//NONSGML v1.0//EN
CALSCALE:GREGORIAN
METHOD:PUBLISH
X-ORIGINAL-URL:https://www.vccfresno.org
X-WR-CALDESC:Events for Valley Christian Center
REFRESH-INTERVAL;VALUE=DURATION:PT1H
X-Robots-Tag:noindex
X-PUBLISHED-TTL:PT1H
BEGIN:VTIMEZONE
TZID:America/Los_Angeles
BEGIN:DAYLIGHT
TZOFFSETFROM:-0800
TZOFFSETTO:-0700
TZNAME:PDT
DTSTART:20260308T100000
END:DAYLIGHT
BEGIN:STANDARD
TZOFFSETFROM:-0700
TZOFFSETTO:-0800
TZNAME:PST
DTSTART:20261101T090000
END:STANDARD
END:VTIMEZONE
BEGIN:VEVENT
DTSTART;TZID=America/Los_Angeles:20260125T111500
DTEND;TZID=America/Los_Angeles:20260125T113500
DTSTAMP:20260423T133341
CREATED:20260122T001811Z
LAST-MODIFIED:20260122T001811Z
UID:9180-1769339700-1769340900@www.vccfresno.org
SUMMARY:Connect Crew Leader Interest Meeting
DESCRIPTION:Interested in helping start a Connect Crew at Valley? Join us for a brief leader interest meeting to learn more and see how you can be a part of helping people grow in their faith\, make meaningful friendships and build community. Sunday\, January 25th from 11:15-11:35am in the Youth Rec Room at the Valley Dream Center. You can click here to register or just show up.
URL:https://www.vccfresno.org/event/connect-crew-leader-interest-meeting/
LOCATION:Valley Dream Center\, 1835 N Winery Ave\, Fresno\, CA\, 93703\, United States
CATEGORIES:Life Groups
ATTACH;FMTTYPE=image/png:https://www.vccfresno.org/wp-content/uploads/2026/01/SQ-Connect-Crew-Leader-Interest-Meeting-Instagram-Post-45.png
END:VEVENT
BEGIN:VEVENT
DTSTART;TZID=America/Los_Angeles:20260125T180000
DTEND;TZID=America/Los_Angeles:20260125T190000
DTSTAMP:20260423T133341
CREATED:20260105T230934Z
LAST-MODIFIED:20260105T230934Z
UID:9127-1769364000-1769367600@www.vccfresno.org
SUMMARY:2026 - 21 Days Prayer Night
DESCRIPTION:Each night of the 21 Days of Prayer & Fasting we have an opportunity to gather together with others in our city at participating churches in our community for a one hour prayer and worship service in-person or online. \nJanuary 25th | Cornerstone Church / 1545 Fulton St. Fresno 93721 | 6:00-7:00pm \nLink to join live: click here
URL:https://www.vccfresno.org/event/2026-21-days-prayer-night-21/
CATEGORIES:Prayer
ATTACH;FMTTYPE=image/png:https://www.vccfresno.org/wp-content/uploads/2025/12/21-Days-Square-1.png
END:VEVENT
END:VCALENDAR