BEGIN:VCALENDAR
VERSION:2.0
PRODID:-//Valley Christian Center - ECPv6.13.2.1//NONSGML v1.0//EN
CALSCALE:GREGORIAN
METHOD:PUBLISH
X-WR-CALNAME:Valley Christian Center
X-ORIGINAL-URL:https://www.vccfresno.org
X-WR-CALDESC:Events for Valley Christian Center
REFRESH-INTERVAL;VALUE=DURATION:PT1H
X-Robots-Tag:noindex
X-PUBLISHED-TTL:PT1H
BEGIN:VTIMEZONE
TZID:America/Los_Angeles
BEGIN:DAYLIGHT
TZOFFSETFROM:-0800
TZOFFSETTO:-0700
TZNAME:PDT
DTSTART:20260308T100000
END:DAYLIGHT
BEGIN:STANDARD
TZOFFSETFROM:-0700
TZOFFSETTO:-0800
TZNAME:PST
DTSTART:20261101T090000
END:STANDARD
END:VTIMEZONE
BEGIN:VEVENT
DTSTART;TZID=America/Los_Angeles:20260206T180000
DTEND;TZID=America/Los_Angeles:20260206T200000
DTSTAMP:20260423T114919
CREATED:20260205T203657Z
LAST-MODIFIED:20260205T203657Z
UID:9245-1770400800-1770408000@www.vccfresno.org
SUMMARY:Young Adult/Young Couples/Young Families Dinner & Hangout
DESCRIPTION:Are you a young adult\, young couple or young family? Come hangout and eat dinner with us every first Friday of the month from 6:00-8:00pm at Jason and Monica Schneider’s home. Kiddos are welcome. Address sent when you sign-up. Hope to see you there! \nSIGN UP HERE!
URL:https://www.vccfresno.org/event/young-adult-young-couples-young-families-dinner-hangout/
CATEGORIES:Young Adults
ATTACH;FMTTYPE=image/png:https://www.vccfresno.org/wp-content/uploads/2026/02/JS-MS-1stFridayYAYFamsDinnerHangout.png
END:VEVENT
END:VCALENDAR