BEGIN:VCALENDAR
VERSION:2.0
PRODID:-//Valley Christian Center - ECPv6.13.2.1//NONSGML v1.0//EN
CALSCALE:GREGORIAN
METHOD:PUBLISH
X-ORIGINAL-URL:https://www.vccfresno.org
X-WR-CALDESC:Events for Valley Christian Center
REFRESH-INTERVAL;VALUE=DURATION:PT1H
X-Robots-Tag:noindex
X-PUBLISHED-TTL:PT1H
BEGIN:VTIMEZONE
TZID:America/Los_Angeles
BEGIN:DAYLIGHT
TZOFFSETFROM:-0800
TZOFFSETTO:-0700
TZNAME:PDT
DTSTART:20260308T100000
END:DAYLIGHT
BEGIN:STANDARD
TZOFFSETFROM:-0700
TZOFFSETTO:-0800
TZNAME:PST
DTSTART:20261101T090000
END:STANDARD
END:VTIMEZONE
BEGIN:VEVENT
DTSTART;TZID=America/Los_Angeles:20260211T190000
DTEND;TZID=America/Los_Angeles:20260211T200000
DTSTAMP:20260423T115217
CREATED:20260128T220034Z
LAST-MODIFIED:20260128T220034Z
UID:9194-1770836400-1770840000@www.vccfresno.org
SUMMARY:Prayer Night
DESCRIPTION:Join us for a special night of prayer at VALLEY in the Sanctuary!\nWe invite you to join us at 7:00pm on Wednesday\, February 11th in the unfinished Sanctuary to worship\, pray and write scriptures throughout the building. \nWe want to celebrate a New Season of God’s continued faithfulness using VALLEY as a beacon of light to our community and to raise up Holy Spirit empowered ambassadors for the next generation. \nPlease come prepared to write a scripture or give a short word of prophecy as the Lord leads. Please spread the word and bring a friend.
URL:https://www.vccfresno.org/event/prayer-night/
LOCATION:Valley Christian Center\, 4649 E. Shields Ave\, Fresno\, CA\, 93726\, United States
ATTACH;FMTTYPE=image/png:https://www.vccfresno.org/wp-content/uploads/2026/01/SQ-Prayer-Night-at-Valley-Sanctuary.png
END:VEVENT
END:VCALENDAR