BEGIN:VCALENDAR
VERSION:2.0
PRODID:-//Valley Christian Center - ECPv6.13.2.1//NONSGML v1.0//EN
CALSCALE:GREGORIAN
METHOD:PUBLISH
X-WR-CALNAME:Valley Christian Center
X-ORIGINAL-URL:https://www.vccfresno.org
X-WR-CALDESC:Events for Valley Christian Center
REFRESH-INTERVAL;VALUE=DURATION:PT1H
X-Robots-Tag:noindex
X-PUBLISHED-TTL:PT1H
BEGIN:VTIMEZONE
TZID:America/Los_Angeles
BEGIN:DAYLIGHT
TZOFFSETFROM:-0800
TZOFFSETTO:-0700
TZNAME:PDT
DTSTART:20240310T100000
END:DAYLIGHT
BEGIN:STANDARD
TZOFFSETFROM:-0700
TZOFFSETTO:-0800
TZNAME:PST
DTSTART:20241103T090000
END:STANDARD
END:VTIMEZONE
BEGIN:VEVENT
DTSTART;TZID=America/Los_Angeles:20240331T100000
DTEND;TZID=America/Los_Angeles:20240331T113000
DTSTAMP:20260425T082536
CREATED:20240104T231802Z
LAST-MODIFIED:20240104T231802Z
UID:6675-1711879200-1711884600@www.vccfresno.org
SUMMARY:Baptism Sunday
DESCRIPTION:Baptism Sunday is here! Today is the day we celebrate those being raised to new life in Christ by way of water baptism. Those being baptized have gone through our baptism class and are ready to proclaim their faith. If you are interested in being baptized and have accepted Jesus as your Lord and Savior sign-up today for our next baptism class and baptism Sunday at vccfresno.org/baptism/.
URL:https://www.vccfresno.org/event/baptism-sunday-2/
LOCATION:Valley Christian Center\, 4649 E. Shields Ave\, Fresno\, CA\, 93726\, United States
CATEGORIES:Water Baptism
ATTACH;FMTTYPE=image/png:https://www.vccfresno.org/wp-content/uploads/2022/03/Water-Baptism-Class-SQ.png
END:VEVENT
END:VCALENDAR