BEGIN:VCALENDAR
VERSION:2.0
PRODID:-//Valley Christian Center - ECPv6.13.2.1//NONSGML v1.0//EN
CALSCALE:GREGORIAN
METHOD:PUBLISH
X-ORIGINAL-URL:https://www.vccfresno.org
X-WR-CALDESC:Events for Valley Christian Center
REFRESH-INTERVAL;VALUE=DURATION:PT1H
X-Robots-Tag:noindex
X-PUBLISHED-TTL:PT1H
BEGIN:VTIMEZONE
TZID:America/Los_Angeles
BEGIN:DAYLIGHT
TZOFFSETFROM:-0800
TZOFFSETTO:-0700
TZNAME:PDT
DTSTART:20210314T100000
END:DAYLIGHT
BEGIN:STANDARD
TZOFFSETFROM:-0700
TZOFFSETTO:-0800
TZNAME:PST
DTSTART:20211107T090000
END:STANDARD
END:VTIMEZONE
BEGIN:VEVENT
DTSTART;TZID=America/Los_Angeles:20210122T190000
DTEND;TZID=America/Los_Angeles:20210122T193000
DTSTAMP:20260424T055937
CREATED:20201229T215135Z
LAST-MODIFIED:20201229T215902Z
UID:2604-1611342000-1611343800@www.vccfresno.org
SUMMARY:Fasting & Prayer - Day 12
DESCRIPTION:Host: First Presbyterian Church\nhttps://www.youtube.com/FirstPresFresno
URL:https://www.vccfresno.org/event/fasting-prayer-day-12/
CATEGORIES:Fasting,Prayer
END:VEVENT
BEGIN:VEVENT
DTSTART;TZID=America/Los_Angeles:20210121T190000
DTEND;TZID=America/Los_Angeles:20210121T193000
DTSTAMP:20260424T055937
CREATED:20201229T214804Z
LAST-MODIFIED:20201229T215851Z
UID:2602-1611255600-1611257400@www.vccfresno.org
SUMMARY:Fasting & Prayer - Day 11
DESCRIPTION:Host: Pastores En Oración\nhttps://www.facebook.com/ICVFRESNO/
URL:https://www.vccfresno.org/event/fasting-prayer-day-11/
CATEGORIES:Fasting,Hispanic,Prayer
END:VEVENT
BEGIN:VEVENT
DTSTART;TZID=America/Los_Angeles:20210120T190000
DTEND;TZID=America/Los_Angeles:20210120T193000
DTSTAMP:20260424T055937
CREATED:20201229T213510Z
LAST-MODIFIED:20201229T220038Z
UID:2598-1611169200-1611171000@www.vccfresno.org
SUMMARY:Fasting & Prayer - Day 10
DESCRIPTION:Host: New Joy Church\nhttps://www.facebook.com/newjoyfresno
URL:https://www.vccfresno.org/event/fasting-prayer-day-10/
CATEGORIES:Fasting,Prayer
END:VEVENT
BEGIN:VEVENT
DTSTART;TZID=America/Los_Angeles:20210119T190000
DTEND;TZID=America/Los_Angeles:20210119T193000
DTSTAMP:20260424T055937
CREATED:20201229T213346Z
LAST-MODIFIED:20201229T215939Z
UID:2596-1611082800-1611084600@www.vccfresno.org
SUMMARY:Fasting & Prayer - Day 9
DESCRIPTION:Host: Campus Bible Church\nwww.campusbiblechurch.com/21days \n 
URL:https://www.vccfresno.org/event/fasting-prayer-day-9/
CATEGORIES:Fasting,Prayer
END:VEVENT
BEGIN:VEVENT
DTSTART;TZID=America/Los_Angeles:20210118T190000
DTEND;TZID=America/Los_Angeles:20210118T193000
DTSTAMP:20260424T055937
CREATED:20201229T212629Z
LAST-MODIFIED:20201229T212938Z
UID:2591-1610996400-1610998200@www.vccfresno.org
SUMMARY:Fasting & Prayer - Day 8
DESCRIPTION:Host: Bethel Community Church\nwww.facebook.com/bethelccfres
URL:https://www.vccfresno.org/event/fasting-prayer-day-8/
CATEGORIES:Fasting,Prayer
END:VEVENT
BEGIN:VEVENT
DTSTART;TZID=America/Los_Angeles:20210117T170000
DTEND;TZID=America/Los_Angeles:20210117T173000
DTSTAMP:20260424T055937
CREATED:20201229T212250Z
LAST-MODIFIED:20201229T212930Z
UID:2589-1610902800-1610904600@www.vccfresno.org
SUMMARY:Fasting & Prayer - Day 7
DESCRIPTION:Host: Peoples Church\nhttps://www.peopleschurch.org
URL:https://www.vccfresno.org/event/fasting-prayer-day-7/
CATEGORIES:Fasting,Prayer
END:VEVENT
BEGIN:VEVENT
DTSTART;TZID=America/Los_Angeles:20210116T170000
DTEND;TZID=America/Los_Angeles:20210116T173000
DTSTAMP:20260424T055937
CREATED:20201229T212043Z
LAST-MODIFIED:20201229T213019Z
UID:2586-1610816400-1610818200@www.vccfresno.org
SUMMARY:Fasting & Prayer - Day 6
DESCRIPTION:Host: Crosspoint Church\nhttps://www.facebook.com/CrosspointFresno \n 
URL:https://www.vccfresno.org/event/fasting-prayer-day-6/
CATEGORIES:Fasting,Prayer
END:VEVENT
BEGIN:VEVENT
DTSTART;TZID=America/Los_Angeles:20210115T190000
DTEND;TZID=America/Los_Angeles:20210115T193000
DTSTAMP:20260424T055937
CREATED:20201229T061753Z
LAST-MODIFIED:20201229T192347Z
UID:2552-1610737200-1610739000@www.vccfresno.org
SUMMARY:Fasting & Prayer - Day 5
DESCRIPTION:Host: Life Bridge Community Church\nhttps://www.facebook.com/mylifebridge/live \nhttps://www.youtube.com/LifeBridgeCommunityChurch \n 
URL:https://www.vccfresno.org/event/fasting-prayer-day-5/
CATEGORIES:Fasting,Prayer
END:VEVENT
BEGIN:VEVENT
DTSTART;TZID=America/Los_Angeles:20210114T190000
DTEND;TZID=America/Los_Angeles:20210114T193000
DTSTAMP:20260424T055937
CREATED:20201229T060614Z
LAST-MODIFIED:20201229T192244Z
UID:2545-1610650800-1610652600@www.vccfresno.org
SUMMARY:Fasting & Prayer - Day 4
DESCRIPTION:Host: Westside Church of God\nhttps://us02web.zoom.us/j/87168340684
URL:https://www.vccfresno.org/event/fasting-prayer-day-4/
CATEGORIES:Fasting,Prayer
END:VEVENT
BEGIN:VEVENT
DTSTART;TZID=America/Los_Angeles:20210113T190000
DTEND;TZID=America/Los_Angeles:20210113T193000
DTSTAMP:20260424T055937
CREATED:20201229T055650Z
LAST-MODIFIED:20201230T180135Z
UID:2538-1610564400-1610566200@www.vccfresno.org
SUMMARY:Fasting & Prayer - Day 3
DESCRIPTION:Host: New Covenant Community Church\nLink: https://www.newcov.com
URL:https://www.vccfresno.org/event/fasting-prayer-day-3/
CATEGORIES:Fasting,Prayer
END:VEVENT
BEGIN:VEVENT
DTSTART;TZID=America/Los_Angeles:20210112T190000
DTEND;TZID=America/Los_Angeles:20210112T193000
DTSTAMP:20260424T055937
CREATED:20201229T055128Z
LAST-MODIFIED:20201229T192746Z
UID:2535-1610478000-1610479800@www.vccfresno.org
SUMMARY:Fasting & Prayer - Day 2
DESCRIPTION:Host: Northpark Community Church\nhttps://www.facebook.com/NorthparkFresno/live \nhttps://www.youtube.com/c/NorthparkCommunityChurchFresno \n 
URL:https://www.vccfresno.org/event/fasting-prayer-day-2/
CATEGORIES:Fasting,Prayer
END:VEVENT
BEGIN:VEVENT
DTSTART;TZID=America/Los_Angeles:20210111T190000
DTEND;TZID=America/Los_Angeles:20210111T193000
DTSTAMP:20260424T055937
CREATED:20201229T053758Z
LAST-MODIFIED:20201230T175804Z
UID:2532-1610391600-1610393400@www.vccfresno.org
SUMMARY:Fasting & Prayer - Day 1
DESCRIPTION:Host: First Armenian Presbyterian & Neighborhood Church\nhttps://www.youtube.com/fapcfresno \n 
URL:https://www.vccfresno.org/event/fasting-prayer-day-1/
CATEGORIES:Fasting,Prayer
END:VEVENT
BEGIN:VEVENT
DTSTART;VALUE=DATE:20210101
DTEND;VALUE=DATE:20210102
DTSTAMP:20260424T055937
CREATED:20201230T195604Z
LAST-MODIFIED:20201230T195705Z
UID:2638-1609459200-1609545599@www.vccfresno.org
SUMMARY:21 Days of Fasting & Prayer
DESCRIPTION:21 Days of Fasting & Prayer\nValley Christian Center is committed to beginning the new year with 21 days of prayer and fasting. This spiritual practice helps us begin our new year with a focus on God and what he wants for us individually and as a church.\nMany churches in the Fresno and Clovis area have also committed to this practice as well and we are excited to partner with them for our Fasting experiences. For more information about what fasting is all about click here. \nEvery night during the 21 days of Prayer and Fasting a different church will host an online service\, allowing us to experience the depth and diversity of congregations across our community while acknowledging that we are One Church. We hope you’ll join us!
URL:https://www.vccfresno.org/event/21-days-of-fasting-prayer/
CATEGORIES:Fasting,Prayer
ATTACH;FMTTYPE=image/png:https://www.vccfresno.org/wp-content/uploads/2020/12/21-Days-eventthumb.png
END:VEVENT
END:VCALENDAR