BEGIN:VCALENDAR
VERSION:2.0
PRODID:-//Valley Christian Center - ECPv6.13.2.1//NONSGML v1.0//EN
CALSCALE:GREGORIAN
METHOD:PUBLISH
X-WR-CALNAME:Valley Christian Center
X-ORIGINAL-URL:https://www.vccfresno.org
X-WR-CALDESC:Events for Valley Christian Center
REFRESH-INTERVAL;VALUE=DURATION:PT1H
X-Robots-Tag:noindex
X-PUBLISHED-TTL:PT1H
BEGIN:VTIMEZONE
TZID:America/Los_Angeles
BEGIN:DAYLIGHT
TZOFFSETFROM:-0800
TZOFFSETTO:-0700
TZNAME:PDT
DTSTART:20210314T100000
END:DAYLIGHT
BEGIN:STANDARD
TZOFFSETFROM:-0700
TZOFFSETTO:-0800
TZNAME:PST
DTSTART:20211107T090000
END:STANDARD
BEGIN:DAYLIGHT
TZOFFSETFROM:-0800
TZOFFSETTO:-0700
TZNAME:PDT
DTSTART:20220313T100000
END:DAYLIGHT
BEGIN:STANDARD
TZOFFSETFROM:-0700
TZOFFSETTO:-0800
TZNAME:PST
DTSTART:20221106T090000
END:STANDARD
BEGIN:DAYLIGHT
TZOFFSETFROM:-0800
TZOFFSETTO:-0700
TZNAME:PDT
DTSTART:20230312T100000
END:DAYLIGHT
BEGIN:STANDARD
TZOFFSETFROM:-0700
TZOFFSETTO:-0800
TZNAME:PST
DTSTART:20231105T090000
END:STANDARD
END:VTIMEZONE
BEGIN:VEVENT
DTSTART;TZID=America/Los_Angeles:20230409T100000
DTEND;TZID=America/Los_Angeles:20230409T113000
DTSTAMP:20260424T104255
CREATED:20221230T175909Z
LAST-MODIFIED:20221230T180717Z
UID:5956-1681034400-1681039800@www.vccfresno.org
SUMMARY:Water Baptism
DESCRIPTION:We believe water baptism in the outward expression of the inward work that God is doing in your life. We see baptism as one of the most significant next steps you can take to continue your spiritual journey\, and we love to celebrate with each and every person who takes this step of obedience in his or her journey to follow Jesus.\nSunday\, April 2nd is our next Water Baptism Class at 9:00am in Room 104! In this class you will learn 3 things: What is water baptism?\, What’s the purpose of water baptism? and What is the promise of water baptism? Followed by water baptisms on Sunday\, April 9th. \nSign Up Here.
URL:https://www.vccfresno.org/event/water-baptism-2/
CATEGORIES:Water Baptism
ATTACH;FMTTYPE=image/png:https://www.vccfresno.org/wp-content/uploads/2022/03/Water-Baptism-Class-SQ.png
END:VEVENT
BEGIN:VEVENT
DTSTART;TZID=America/Los_Angeles:20230409T100000
DTEND;TZID=America/Los_Angeles:20230409T110000
DTSTAMP:20260424T104255
CREATED:20230329T161057Z
LAST-MODIFIED:20230329T161057Z
UID:6233-1681034400-1681038000@www.vccfresno.org
SUMMARY:EASTER 2023
DESCRIPTION:
URL:https://www.vccfresno.org/event/easter-2023/
LOCATION:Valley Christian Center\, 4649 E. Shields Ave\, Fresno\, CA\, 93726\, United States
CATEGORIES:Community
ATTACH;FMTTYPE=image/png:https://www.vccfresno.org/wp-content/uploads/2023/03/Outside-P_C.png
END:VEVENT
BEGIN:VEVENT
DTSTART;TZID=America/Los_Angeles:20230407T183000
DTEND;TZID=America/Los_Angeles:20230407T193000
DTSTAMP:20260424T104255
CREATED:20230329T161524Z
LAST-MODIFIED:20230329T161524Z
UID:6235-1680892200-1680895800@www.vccfresno.org
SUMMARY:GOOD FRIDAY 2023
DESCRIPTION:
URL:https://www.vccfresno.org/event/good-friday-2023/
LOCATION:Valley Christian Center\, 4649 E. Shields Ave\, Fresno\, CA\, 93726\, United States
CATEGORIES:Community
ATTACH;FMTTYPE=image/png:https://www.vccfresno.org/wp-content/uploads/2023/03/EASTER-BANNER-NEW-BEGINNINGS-1.png
END:VEVENT
BEGIN:VEVENT
DTSTART;TZID=America/Los_Angeles:20230402T090000
DTEND;TZID=America/Los_Angeles:20230402T090000
DTSTAMP:20260424T104255
CREATED:20221230T173230Z
LAST-MODIFIED:20221230T180703Z
UID:5943-1680426000-1680426000@www.vccfresno.org
SUMMARY:Water Baptism Class
DESCRIPTION:We believe water baptism in the outward expression of the inward work that God is doing in your life. We see baptism as one of the most significant next steps you can take to continue your spiritual journey\, and we love to celebrate with each and every person who takes this step of obedience in his or her journey to follow Jesus.\nSunday\, April 2nd is our next Water Baptism Class at 9:00am in Room 104! In this class you will learn 3 things: What is water baptism?\, What’s the purpose of water baptism? and What is the promise of water baptism? Followed by water baptisms on Sunday\, April 9th. \nSign Up Here. \n 
URL:https://www.vccfresno.org/event/4-2-4-9-water-baptism-class-baptism/
CATEGORIES:Water Baptism
ATTACH;FMTTYPE=image/png:https://www.vccfresno.org/wp-content/uploads/2022/03/Water-Baptism-Class-SQ.png
END:VEVENT
BEGIN:VEVENT
DTSTART;TZID=America/Los_Angeles:20230226T113000
DTEND;TZID=America/Los_Angeles:20230226T123000
DTSTAMP:20260424T104255
CREATED:20230114T173446Z
LAST-MODIFIED:20230120T000602Z
UID:6021-1677411000-1677414600@www.vccfresno.org
SUMMARY:Meet & Greet
DESCRIPTION:If you are new to Valley our team would love to meet you! Join us on any of the following Sunday’s February 26th\, April 30th\, July 30th\, or October 29th right after service for a Meet &amp; Greet in the APR. There will be snacks\, refreshments\, and information on who we are at Valley and how you can get connected. We look forward to meeting you! Click the link to reserve your spot.\nSIGN UP HERE!
URL:https://www.vccfresno.org/event/meet-greet-5/
CATEGORIES:Community,Meet
ATTACH;FMTTYPE=image/png:https://www.vccfresno.org/wp-content/uploads/2023/01/2023-Meet-Greet-Invitation-SQPC-.png
END:VEVENT
BEGIN:VEVENT
DTSTART;TZID=America/Los_Angeles:20230219T100000
DTEND;TZID=America/Los_Angeles:20230219T113000
DTSTAMP:20260424T104255
CREATED:20221230T173742Z
LAST-MODIFIED:20221230T180652Z
UID:5951-1676800800-1676806200@www.vccfresno.org
SUMMARY:Water Baptisms
DESCRIPTION:We believe water baptism in the outward expression of the inward work that God is doing in your life. We see baptism as one of the most significant next steps you can take to continue your spiritual journey\, and we love to celebrate with each and every person who takes this step of obedience in his or her journey to follow Jesus.\nSunday\, February 12th is our next Water Baptism Class at 9:00am in Room 104! In this class you will learn 3 things: What is water baptism?\, What’s the purpose of water baptism? and What is the promise of water baptism? Followed by water baptisms on Sunday\, February 19th. \nSign Up Here. \n 
URL:https://www.vccfresno.org/event/water-baptisms/
CATEGORIES:Water Baptism
ATTACH;FMTTYPE=image/png:https://www.vccfresno.org/wp-content/uploads/2022/03/Water-Baptism-Class-SQ.png
END:VEVENT
BEGIN:VEVENT
DTSTART;TZID=America/Los_Angeles:20230212T090000
DTEND;TZID=America/Los_Angeles:20230212T090000
DTSTAMP:20260424T104255
CREATED:20221230T173032Z
LAST-MODIFIED:20221230T180637Z
UID:5941-1676192400-1676192400@www.vccfresno.org
SUMMARY:Water Baptism Class
DESCRIPTION:We believe water baptism in the outward expression of the inward work that God is doing in your life. We see baptism as one of the most significant next steps you can take to continue your spiritual journey\, and we love to celebrate with each and every person who takes this step of obedience in his or her journey to follow Jesus.\nSunday\, February 12th is our next Water Baptism Class at 9:00am in Room 104! In this class you will learn 3 things: What is water baptism?\, What’s the purpose of water baptism? and What is the promise of water baptism? Followed by water baptisms on Sunday\, February 19th. \nSign Up Here. \n 
URL:https://www.vccfresno.org/event/water-baptism-class-2/
CATEGORIES:Water Baptism
ATTACH;FMTTYPE=image/png:https://www.vccfresno.org/wp-content/uploads/2022/03/Water-Baptism-Class-SQ.png
END:VEVENT
BEGIN:VEVENT
DTSTART;VALUE=DATE:20221218
DTEND;VALUE=DATE:20221219
DTSTAMP:20260424T104255
CREATED:20220314T175702Z
LAST-MODIFIED:20220914T021757Z
UID:5298-1671321600-1671407999@www.vccfresno.org
SUMMARY:Water Baptism and Class
DESCRIPTION:SIGN UP HERE!
URL:https://www.vccfresno.org/event/water-baptism-and-class-3/
CATEGORIES:Water Baptism
ATTACH;FMTTYPE=image/png:https://www.vccfresno.org/wp-content/uploads/2022/03/Water-Baptism-Class-SQ-1.png
END:VEVENT
BEGIN:VEVENT
DTSTART;VALUE=DATE:20221020
DTEND;VALUE=DATE:20221021
DTSTAMP:20260424T104255
CREATED:20221003T210812Z
LAST-MODIFIED:20221003T210812Z
UID:5865-1666224000-1666310399@www.vccfresno.org
SUMMARY:Prayer 101
DESCRIPTION:Prayer 101 is designed to help individuals learn principle techniques of prayer as depicted in scripture. We will learn the significance and authority of prayer and the many forms of prayer that are available to use. Prayer activities are used throughout the course to help empower those enrolled. This course is for anyone wanting to learn prayer and go deeper with the Lord.\nSIGN UP HERE!
URL:https://www.vccfresno.org/event/prayer-101/
CATEGORIES:Prayer
ATTACH;FMTTYPE=image/png:https://www.vccfresno.org/wp-content/uploads/2022/10/PRAYER-101-Banner.png
END:VEVENT
BEGIN:VEVENT
DTSTART;TZID=America/Los_Angeles:20220824T183000
DTEND;TZID=America/Los_Angeles:20220824T203000
DTSTAMP:20260424T104255
CREATED:20220610T203611Z
LAST-MODIFIED:20220610T203612Z
UID:5681-1661365800-1661373000@www.vccfresno.org
SUMMARY:Summer Nights: Worship and Prayer
DESCRIPTION:Come for a night of worship and prayer from 6:30-8:30pm in the sanctuary. We will have yummy treats and drinks in the courtyard before our time of worship. Plus\, childcare will be available for those that may need it. All are welcome!
URL:https://www.vccfresno.org/event/summer-nights-worship-and-prayer-2/
CATEGORIES:Community
ATTACH;FMTTYPE=image/png:https://www.vccfresno.org/wp-content/uploads/2022/06/Worship-Nights-Square.png
END:VEVENT
BEGIN:VEVENT
DTSTART;VALUE=DATE:20220814
DTEND;VALUE=DATE:20220815
DTSTAMP:20260424T104255
CREATED:20220314T175617Z
LAST-MODIFIED:20220314T175617Z
UID:5296-1660435200-1660521599@www.vccfresno.org
SUMMARY:Water Baptism and Class
DESCRIPTION:SIGN UP HERE!
URL:https://www.vccfresno.org/event/water-baptism-and-class-2/
CATEGORIES:Water Baptism
ATTACH;FMTTYPE=image/png:https://www.vccfresno.org/wp-content/uploads/2022/03/Water-Baptism-Class-SQ-1.png
END:VEVENT
BEGIN:VEVENT
DTSTART;TZID=America/Los_Angeles:20220727T183000
DTEND;TZID=America/Los_Angeles:20220727T203000
DTSTAMP:20260424T104255
CREATED:20220610T203550Z
LAST-MODIFIED:20220610T203550Z
UID:5682-1658946600-1658953800@www.vccfresno.org
SUMMARY:Summer Nights: Worship and Prayer
DESCRIPTION:Come for a night of worship and prayer from 6:30-8:30pm in the sanctuary. We will have yummy treats and drinks in the courtyard before our time of worship. Plus\, childcare will be available for those that may need it. All are welcome!
URL:https://www.vccfresno.org/event/summer-nights-worship-and-prayer/
CATEGORIES:Community
ATTACH;FMTTYPE=image/png:https://www.vccfresno.org/wp-content/uploads/2022/06/Worship-Nights-Square.png
END:VEVENT
BEGIN:VEVENT
DTSTART;TZID=America/Los_Angeles:20220622T183000
DTEND;TZID=America/Los_Angeles:20220622T203000
DTSTAMP:20260424T104255
CREATED:20220610T203643Z
LAST-MODIFIED:20220610T203643Z
UID:5679-1655922600-1655929800@www.vccfresno.org
SUMMARY:Summer Nights: Worship and Prayer
DESCRIPTION:Come for a night of worship and prayer from 6:30-8:30pm in the sanctuary. We will have yummy treats and drinks in the courtyard before our time of worship. Plus\, childcare will be available for those that may need it. All are welcome!
URL:https://www.vccfresno.org/event/summer-nights-worship-and-prayer-3/
CATEGORIES:Community
ATTACH;FMTTYPE=image/png:https://www.vccfresno.org/wp-content/uploads/2022/06/Worship-Nights-Square.png
END:VEVENT
BEGIN:VEVENT
DTSTART;TZID=America/Los_Angeles:20220417T080000
DTEND;TZID=America/Los_Angeles:20220417T170000
DTSTAMP:20260424T104255
CREATED:20220221T200014Z
LAST-MODIFIED:20220221T200015Z
UID:4620-1650182400-1650214800@www.vccfresno.org
SUMMARY:Easter
DESCRIPTION:
URL:https://www.vccfresno.org/event/easter/
CATEGORIES:Community
END:VEVENT
BEGIN:VEVENT
DTSTART;VALUE=DATE:20220417
DTEND;VALUE=DATE:20220418
DTSTAMP:20260424T104255
CREATED:20220314T175454Z
LAST-MODIFIED:20220328T205806Z
UID:5292-1650153600-1650239999@www.vccfresno.org
SUMMARY:Water Baptism and Class
DESCRIPTION:SIGN UP HERE!
URL:https://www.vccfresno.org/event/water-baptism-and-class/
CATEGORIES:Water Baptism
ATTACH;FMTTYPE=image/png:https://www.vccfresno.org/wp-content/uploads/2022/03/Water-Baptism-Class-SQ-1.png
END:VEVENT
BEGIN:VEVENT
DTSTART;TZID=America/Los_Angeles:20220324T180000
DTEND;TZID=America/Los_Angeles:20220324T190000
DTSTAMP:20260424T104255
CREATED:20220113T023833Z
LAST-MODIFIED:20220113T023833Z
UID:4444-1648144800-1648148400@www.vccfresno.org
SUMMARY:Prayer Training
DESCRIPTION:interested in Prayer Training?\n\nJoin us Thursdays at 6:00pm starting February 3rd for a 7-week course in the APR as we learn how to pray using VCC’s 5-Point Prayer Model and various forms of prayer techniques. \nSign-up in the Courtyard after Sunday service on January 23rd or 30th\, or online here. \nSIGN UP HERE!\nDownload the flyer for more info:
URL:https://www.vccfresno.org/event/prayer-training-7/
CATEGORIES:Prayer
ATTACH;FMTTYPE=image/png:https://www.vccfresno.org/wp-content/uploads/2022/01/PRAYER-TEAM-Banner-1.png
END:VEVENT
BEGIN:VEVENT
DTSTART;TZID=America/Los_Angeles:20220317T180000
DTEND;TZID=America/Los_Angeles:20220317T190000
DTSTAMP:20260424T104255
CREATED:20220113T023750Z
LAST-MODIFIED:20220113T023750Z
UID:4442-1647540000-1647543600@www.vccfresno.org
SUMMARY:Prayer Training
DESCRIPTION:interested in Prayer Training?\n\nJoin us Thursdays at 6:00pm starting February 3rd for a 7-week course in the APR as we learn how to pray using VCC’s 5-Point Prayer Model and various forms of prayer techniques. \nSign-up in the Courtyard after Sunday service on January 23rd or 30th\, or online here. \nSIGN UP HERE!\nDownload the flyer for more info:
URL:https://www.vccfresno.org/event/prayer-training-6/
CATEGORIES:Prayer
ATTACH;FMTTYPE=image/png:https://www.vccfresno.org/wp-content/uploads/2022/01/PRAYER-TEAM-Banner-1.png
END:VEVENT
BEGIN:VEVENT
DTSTART;TZID=America/Los_Angeles:20220310T180000
DTEND;TZID=America/Los_Angeles:20220310T190000
DTSTAMP:20260424T104255
CREATED:20220113T023659Z
LAST-MODIFIED:20220113T023659Z
UID:4440-1646935200-1646938800@www.vccfresno.org
SUMMARY:Prayer Training
DESCRIPTION:interested in Prayer Training?\n\nJoin us Thursdays at 6:00pm starting February 3rd for a 7-week course in the APR as we learn how to pray using VCC’s 5-Point Prayer Model and various forms of prayer techniques. \nSign-up in the Courtyard after Sunday service on January 23rd or 30th\, or online here. \nSIGN UP HERE!\nDownload the flyer for more info:
URL:https://www.vccfresno.org/event/prayer-training-5/
CATEGORIES:Prayer
ATTACH;FMTTYPE=image/png:https://www.vccfresno.org/wp-content/uploads/2022/01/PRAYER-TEAM-Banner-1.png
END:VEVENT
BEGIN:VEVENT
DTSTART;TZID=America/Los_Angeles:20220224T180000
DTEND;TZID=America/Los_Angeles:20220224T190000
DTSTAMP:20260424T104255
CREATED:20220113T023611Z
LAST-MODIFIED:20220113T023611Z
UID:4438-1645725600-1645729200@www.vccfresno.org
SUMMARY:Prayer Training
DESCRIPTION:interested in Prayer Training?\n\nJoin us Thursdays at 6:00pm starting February 3rd for a 7-week course in the APR as we learn how to pray using VCC’s 5-Point Prayer Model and various forms of prayer techniques. \nSign-up in the Courtyard after Sunday service on January 23rd or 30th\, or online here. \nSIGN UP HERE!\nDownload the flyer for more info:
URL:https://www.vccfresno.org/event/prayer-training-4/
CATEGORIES:Prayer
ATTACH;FMTTYPE=image/png:https://www.vccfresno.org/wp-content/uploads/2022/01/PRAYER-TEAM-Banner-1.png
END:VEVENT
BEGIN:VEVENT
DTSTART;TZID=America/Los_Angeles:20220223T190000
DTEND;TZID=America/Los_Angeles:20220223T203000
DTSTAMP:20260424T104255
CREATED:20220221T195734Z
LAST-MODIFIED:20220221T195735Z
UID:4617-1645642800-1645648200@www.vccfresno.org
SUMMARY:All Church Table Talk
DESCRIPTION:Come join us this Wednesday at 7:00pm for an all church table talk where different ministries will show their updates and we will be praying for our church.
URL:https://www.vccfresno.org/event/all-church-table-talk/
CATEGORIES:Community
ATTACH;FMTTYPE=image/jpeg:https://www.vccfresno.org/wp-content/uploads/2022/02/Table-Talk.jpg
END:VEVENT
BEGIN:VEVENT
DTSTART;TZID=America/Los_Angeles:20220217T180000
DTEND;TZID=America/Los_Angeles:20220217T190000
DTSTAMP:20260424T104255
CREATED:20220113T023526Z
LAST-MODIFIED:20220113T023526Z
UID:4436-1645120800-1645124400@www.vccfresno.org
SUMMARY:Prayer Training
DESCRIPTION:interested in Prayer Training?\n\nJoin us Thursdays at 6:00pm starting February 3rd for a 7-week course in the APR as we learn how to pray using VCC’s 5-Point Prayer Model and various forms of prayer techniques. \nSign-up in the Courtyard after Sunday service on January 23rd or 30th\, or online here. \nSIGN UP HERE!\nDownload the flyer for more info:
URL:https://www.vccfresno.org/event/prayer-training-3/
CATEGORIES:Prayer
ATTACH;FMTTYPE=image/png:https://www.vccfresno.org/wp-content/uploads/2022/01/PRAYER-TEAM-Banner-1.png
END:VEVENT
BEGIN:VEVENT
DTSTART;TZID=America/Los_Angeles:20220210T180000
DTEND;TZID=America/Los_Angeles:20220210T190000
DTSTAMP:20260424T104255
CREATED:20220113T023417Z
LAST-MODIFIED:20220113T023417Z
UID:4434-1644516000-1644519600@www.vccfresno.org
SUMMARY:Prayer Training
DESCRIPTION:interested in Prayer Training?\n\nJoin us Thursdays at 6:00pm starting February 3rd for a 7-week course in the APR as we learn how to pray using VCC’s 5-Point Prayer Model and various forms of prayer techniques. \nSign-up in the Courtyard after Sunday service on January 23rd or 30th\, or online here. \nSIGN UP HERE!\nDownload the flyer for more info:
URL:https://www.vccfresno.org/event/prayer-training-2/
CATEGORIES:Prayer
ATTACH;FMTTYPE=image/png:https://www.vccfresno.org/wp-content/uploads/2022/01/PRAYER-TEAM-Banner-1.png
END:VEVENT
BEGIN:VEVENT
DTSTART;TZID=America/Los_Angeles:20220203T180000
DTEND;TZID=America/Los_Angeles:20220203T190000
DTSTAMP:20260424T104255
CREATED:20220113T023107Z
LAST-MODIFIED:20220113T023213Z
UID:4429-1643911200-1643914800@www.vccfresno.org
SUMMARY:Prayer Training
DESCRIPTION:interested in Prayer Training?\n\nJoin us Thursdays at 6:00pm starting February 3rd for a 7-week course in the APR as we learn how to pray using VCC’s 5-Point Prayer Model and various forms of prayer techniques. \nSign-up in the Courtyard after Sunday service on January 23rd or 30th\, or online here. \nSIGN UP HERE!\nDownload the flyer for more info:
URL:https://www.vccfresno.org/event/prayer-training/
CATEGORIES:Prayer
ATTACH;FMTTYPE=image/png:https://www.vccfresno.org/wp-content/uploads/2022/01/PRAYER-TEAM-Banner-1.png
END:VEVENT
BEGIN:VEVENT
DTSTART;TZID=America/Los_Angeles:20220130T110000
DTEND;TZID=America/Los_Angeles:20220130T120000
DTSTAMP:20260424T104255
CREATED:20220128T194744Z
LAST-MODIFIED:20220128T194745Z
UID:4470-1643540400-1643544000@www.vccfresno.org
SUMMARY:Break"fast" Celebration Sunday
DESCRIPTION:YOU made it! Join us this Sunday as we celebrate the end of our 21 Days of Prayer & Fasting.\nWe will be enjoying a bbq meal together at the table right after our 10:00am service\, along with some fun for everyone. We can’t wait to celebrate all God has done in these past 21 days with you!
URL:https://www.vccfresno.org/event/breakfast-celebration-sunday/
CATEGORIES:Fasting,Prayer
ATTACH;FMTTYPE=image/png:https://www.vccfresno.org/wp-content/uploads/2022/01/BREAKFAST-CELEBRATION.png
END:VEVENT
BEGIN:VEVENT
DTSTART;TZID=America/Los_Angeles:20220110T190000
DTEND;TZID=America/Los_Angeles:20220110T200000
DTSTAMP:20260424T104255
CREATED:20220106T212744Z
LAST-MODIFIED:20220106T212744Z
UID:4314-1641841200-1641844800@www.vccfresno.org
SUMMARY:21 days of Prayer and Fasting
DESCRIPTION:Every night during the 21 days of Prayer and Fasting a different church will host an in-person and online service\, allowing us to experience the depth and diversity of congregations across our community while acknowledging that we are One Church. We hope you’ll join us! \nvisit: https://www.vccfresno.org/prayer/ for more info. \n 
URL:https://www.vccfresno.org/event/21-days-of-prayer-and-fasting/
CATEGORIES:Prayer
ATTACH;FMTTYPE=image/png:https://www.vccfresno.org/wp-content/uploads/2022/01/21DOP-SocialInvite-1.png
END:VEVENT
BEGIN:VEVENT
DTSTART;TZID=America/Los_Angeles:20211114T100000
DTEND;TZID=America/Los_Angeles:20211114T110000
DTSTAMP:20260424T104255
CREATED:20211014T233918Z
LAST-MODIFIED:20211014T234144Z
UID:4137-1636884000-1636887600@www.vccfresno.org
SUMMARY:Water Baptism - NOV 14th
DESCRIPTION:  \nAre you ready to take your next step in your relationship with Jesus?\nWe are having Water Baptisms on Sunday\, November 14th at 10:00am. We will be having a GOTBAPTISM? class for those wanting to be baptized at 9:00am. To get all the details\, please visit our Welcome Table and ask for a baptism packet or email us at connect@vccfresno.org. Sign ups will be available in the Courtyard.
URL:https://www.vccfresno.org/event/water-baptism-nov-14th/
CATEGORIES:Water Baptism
ATTACH;FMTTYPE=image/png:https://www.vccfresno.org/wp-content/uploads/2021/02/Baptism-w-class-wide.png
END:VEVENT
BEGIN:VEVENT
DTSTART;TZID=America/Los_Angeles:20210912T100000
DTEND;TZID=America/Los_Angeles:20210912T103000
DTSTAMP:20260424T104255
CREATED:20210129T143922Z
LAST-MODIFIED:20210219T190615Z
UID:2753-1631440800-1631442600@www.vccfresno.org
SUMMARY:Water Baptism - SEP 12th
DESCRIPTION:Are you ready to take your next step in your relationship with Jesus?\nWe are having Water Baptisms on Sunday\, September 12th at 10:00am. We will be having a GOTBAPTISM? class for those wanting to be baptized at 9:00am. To get all the details\, please visit our Welcome Table and ask for a baptism packet or email us at connect@vccfresno.org. Sign ups will be available in the Courtyard on August 29th and September 5th.
URL:https://www.vccfresno.org/event/water-baptism-sep-12th/
CATEGORIES:Water Baptism
ATTACH;FMTTYPE=image/png:https://www.vccfresno.org/wp-content/uploads/2021/02/Baptism-w-class-wide.png
END:VEVENT
BEGIN:VEVENT
DTSTART;TZID=America/Los_Angeles:20210613T100000
DTEND;TZID=America/Los_Angeles:20210613T100000
DTSTAMP:20260424T104255
CREATED:20210129T143620Z
LAST-MODIFIED:20210219T190700Z
UID:2751-1623578400-1623578400@www.vccfresno.org
SUMMARY:Water Baptism - JUN 13th
DESCRIPTION:Are you ready to take your next step in your relationship with Jesus?\nWe are having Water Baptisms on Sunday\, June 13th at 10:00am. We will be having a GOTBAPTISM? class for those wanting to be baptized at 9:00am. To get all the details\, please visit our Welcome Table and ask for a baptism packet or email us at connect@vccfresno.org. Sign ups will be available in the Courtyard on May 30th and June 6th.
URL:https://www.vccfresno.org/event/water-baptism-jun-13th/
CATEGORIES:Water Baptism
ATTACH;FMTTYPE=image/png:https://www.vccfresno.org/wp-content/uploads/2021/02/Baptism-w-class-wide.png
END:VEVENT
BEGIN:VEVENT
DTSTART;TZID=America/Los_Angeles:20210411T100000
DTEND;TZID=America/Los_Angeles:20210411T103000
DTSTAMP:20260424T104255
CREATED:20210129T143348Z
LAST-MODIFIED:20210227T175135Z
UID:2749-1618135200-1618137000@www.vccfresno.org
SUMMARY:Water Baptism - APR 11th
DESCRIPTION:Are you ready to take your next step in your relationship with Jesus?\nWe are having Water Baptisms on Sunday\, April 11th at 10:00am. We will be having a GOTBAPTISM? class for those wanting to be baptized at 9:00am. To get all the details\, please visit our Welcome Table and ask for a baptism packet or email us at connect@vccfresno.org. Sign ups will be available in the Courtyard on March 28th and April 4th.
URL:https://www.vccfresno.org/event/water-baptism-apr-11th/
CATEGORIES:Water Baptism
ATTACH;FMTTYPE=image/png:https://www.vccfresno.org/wp-content/uploads/2021/02/Baptism-w-class-wide.png
END:VEVENT
BEGIN:VEVENT
DTSTART;TZID=America/Los_Angeles:20210214T100000
DTEND;TZID=America/Los_Angeles:20210214T103000
DTSTAMP:20260424T104255
CREATED:20210128T135807Z
LAST-MODIFIED:20210219T190829Z
UID:2679-1613296800-1613298600@www.vccfresno.org
SUMMARY:Water Baptism - FEB 14th
DESCRIPTION:Are you ready to take your next step in your relationship with Jesus?\nWe are having Water Baptisms on Sunday\, February 14th at 10:00am. We will be having a GOTBAPTISM? class for those wanting to be baptized at 9:00am. To get all the details\, please visit our Welcome Table and ask for a baptism packet or email us at connect@vccfresno.org. Sign ups will be available in the Courtyard on January 31st and February 5th.
URL:https://www.vccfresno.org/event/water-baptism-feb-14th/
CATEGORIES:Kids,Life Groups,Men,Water Baptism,Women,Youth
ATTACH;FMTTYPE=image/png:https://www.vccfresno.org/wp-content/uploads/2021/02/Baptism-w-class-wide.png
END:VEVENT
END:VCALENDAR