BEGIN:VCALENDAR
VERSION:2.0
PRODID:-//Valley Christian Center - ECPv6.13.2.1//NONSGML v1.0//EN
CALSCALE:GREGORIAN
METHOD:PUBLISH
X-WR-CALNAME:Valley Christian Center
X-ORIGINAL-URL:https://www.vccfresno.org
X-WR-CALDESC:Events for Valley Christian Center
REFRESH-INTERVAL;VALUE=DURATION:PT1H
X-Robots-Tag:noindex
X-PUBLISHED-TTL:PT1H
BEGIN:VTIMEZONE
TZID:America/Los_Angeles
BEGIN:DAYLIGHT
TZOFFSETFROM:-0800
TZOFFSETTO:-0700
TZNAME:PDT
DTSTART:20210314T100000
END:DAYLIGHT
BEGIN:STANDARD
TZOFFSETFROM:-0700
TZOFFSETTO:-0800
TZNAME:PST
DTSTART:20211107T090000
END:STANDARD
BEGIN:DAYLIGHT
TZOFFSETFROM:-0800
TZOFFSETTO:-0700
TZNAME:PDT
DTSTART:20220313T100000
END:DAYLIGHT
BEGIN:STANDARD
TZOFFSETFROM:-0700
TZOFFSETTO:-0800
TZNAME:PST
DTSTART:20221106T090000
END:STANDARD
BEGIN:DAYLIGHT
TZOFFSETFROM:-0800
TZOFFSETTO:-0700
TZNAME:PDT
DTSTART:20230312T100000
END:DAYLIGHT
BEGIN:STANDARD
TZOFFSETFROM:-0700
TZOFFSETTO:-0800
TZNAME:PST
DTSTART:20231105T090000
END:STANDARD
BEGIN:DAYLIGHT
TZOFFSETFROM:-0800
TZOFFSETTO:-0700
TZNAME:PDT
DTSTART:20240310T100000
END:DAYLIGHT
BEGIN:STANDARD
TZOFFSETFROM:-0700
TZOFFSETTO:-0800
TZNAME:PST
DTSTART:20241103T090000
END:STANDARD
END:VTIMEZONE
BEGIN:VEVENT
DTSTART;TZID=America/Los_Angeles:20240912T180000
DTEND;TZID=America/Los_Angeles:20240912T203000
DTSTAMP:20260424T022259
CREATED:20240805T230039Z
LAST-MODIFIED:20240805T230039Z
UID:7589-1726164000-1726173000@www.vccfresno.org
SUMMARY:Prayer 101
DESCRIPTION:Prayer 101 is so much more than prayer. This 6-week course focuses on learning to hear Holy Spirit in your own unique way while spending time engaging Him on a regular basis. Prayer 101 will provide you with a variety of prayer options that can be used for one-on-one or group settings. You will learn about healing prayer\, prophecy and words of knowledge\, and gain confidence to pray with others. We dive into spiritual warfare to learn enemy tactics to fight with empowerment. We will enjoy learning about various signs and wonders that God has shown us in the scriptures\, that are for us today. \n\nCome join Prayer 101 and learn so much more that prayer.\nSIGN UP HERE!
URL:https://www.vccfresno.org/event/prayer-101-3/
LOCATION:Valley Christian Center\, 4649 E. Shields Ave\, Fresno\, CA\, 93726\, United States
CATEGORIES:Prayer
ATTACH;FMTTYPE=image/png:https://www.vccfresno.org/wp-content/uploads/2024/08/P.png
END:VEVENT
BEGIN:VEVENT
DTSTART;TZID=America/Los_Angeles:20240905T180000
DTEND;TZID=America/Los_Angeles:20240905T203000
DTSTAMP:20260424T022259
CREATED:20240805T225924Z
LAST-MODIFIED:20240805T225924Z
UID:7587-1725559200-1725568200@www.vccfresno.org
SUMMARY:Prayer 101
DESCRIPTION:Prayer 101 is so much more than prayer. This 6-week course focuses on learning to hear Holy Spirit in your own unique way while spending time engaging Him on a regular basis. Prayer 101 will provide you with a variety of prayer options that can be used for one-on-one or group settings. You will learn about healing prayer\, prophecy and words of knowledge\, and gain confidence to pray with others. We dive into spiritual warfare to learn enemy tactics to fight with empowerment. We will enjoy learning about various signs and wonders that God has shown us in the scriptures\, that are for us today. \n\nCome join Prayer 101 and learn so much more that prayer.\nSIGN UP HERE!
URL:https://www.vccfresno.org/event/prayer-101-2/
LOCATION:Valley Christian Center\, 4649 E. Shields Ave\, Fresno\, CA\, 93726\, United States
CATEGORIES:Prayer
ATTACH;FMTTYPE=image/png:https://www.vccfresno.org/wp-content/uploads/2024/08/P.png
END:VEVENT
BEGIN:VEVENT
DTSTART;TZID=America/Los_Angeles:20240725T183000
DTEND;TZID=America/Los_Angeles:20240725T203000
DTSTAMP:20260424T022259
CREATED:20240627T203205Z
LAST-MODIFIED:20240627T203205Z
UID:7524-1721932200-1721939400@www.vccfresno.org
SUMMARY:Dreams\, Visions and Interpretations
DESCRIPTION:Let’s take the confusion out of dreams and vision and where they come from.\nLearn how to determine when a dream or vision is from the Lord and how to properly interpret them through scripture and Biblical principles. This 2-week course is on Thursdays\, July 18th and July 25th from 6:00pm to 8:30pm in Room 308. Register in the Courtyard after Sunday service on June 30th\, July 7th or July 14th. Register online here through July 14th.
URL:https://www.vccfresno.org/event/dreams-visions-and-interpretations-2/
LOCATION:Valley Christian Center\, 4649 E. Shields Ave\, Fresno\, CA\, 93726\, United States
CATEGORIES:Prayer
ATTACH;FMTTYPE=image/png:https://www.vccfresno.org/wp-content/uploads/2024/06/Dreams-Visions-and-Interpretations.png
END:VEVENT
BEGIN:VEVENT
DTSTART;TZID=America/Los_Angeles:20240718T183000
DTEND;TZID=America/Los_Angeles:20240718T203000
DTSTAMP:20260424T022259
CREATED:20240627T203053Z
LAST-MODIFIED:20240627T203053Z
UID:7521-1721327400-1721334600@www.vccfresno.org
SUMMARY:Dreams\, Visions and Interpretations
DESCRIPTION:Let’s take the confusion out of dreams and vision and where they come from.\nLearn how to determine when a dream or vision is from the Lord and how to properly interpret them through scripture and Biblical principles. This 2-week course is on Thursdays\, July 18th and July 25th from 6:00pm to 8:30pm in Room 308. Register in the Courtyard after Sunday service on June 30th\, July 7th or July 14th. Register online here through July 14th.
URL:https://www.vccfresno.org/event/dreams-visions-and-interpretations/
LOCATION:Valley Christian Center\, 4649 E. Shields Ave\, Fresno\, CA\, 93726\, United States
CATEGORIES:Prayer
ATTACH;FMTTYPE=image/png:https://www.vccfresno.org/wp-content/uploads/2024/06/Dreams-Visions-and-Interpretations.png
END:VEVENT
BEGIN:VEVENT
DTSTART;TZID=America/Los_Angeles:20240125T120000
DTEND;TZID=America/Los_Angeles:20240125T160000
DTSTAMP:20260424T022259
CREATED:20231212T004104Z
LAST-MODIFIED:20231212T004104Z
UID:6646-1706184000-1706198400@www.vccfresno.org
SUMMARY:21 Days Ignite Prayer Stations
DESCRIPTION:Each week of the 21 Days of Prayer and Fasting\, VALLEY will have supplemental\, IGNITE\, prayer stations in the Sanctuary on Mondays through Thursdays from 12:00-4:00pm and Wednesdays from 6:00-8:00pm (January 8th – January 26th). All are welcome to come and enjoy a richer prayer experience with visual and applicable prompts.
URL:https://www.vccfresno.org/event/21-days-ignite-prayer-stations-11/
LOCATION:Valley Christian Center\, 4649 E. Shields Ave\, Fresno\, CA\, 93726\, United States
CATEGORIES:Prayer
ATTACH;FMTTYPE=image/png:https://www.vccfresno.org/wp-content/uploads/2023/12/2024-21-DAYS-SQUARE.png
END:VEVENT
BEGIN:VEVENT
DTSTART;TZID=America/Los_Angeles:20240121T180000
DTEND;TZID=America/Los_Angeles:20240121T190000
DTSTAMP:20260424T022259
CREATED:20231212T001442Z
LAST-MODIFIED:20231212T001442Z
UID:6620-1705860000-1705863600@www.vccfresno.org
SUMMARY:Night of Prayer
DESCRIPTION:Join us from 6:00-7:00pm for a special night of multilingual prayer and worship as we continue in our 21 days of prayer and fasting. You can join us in person at Valley Christian Center or online at our YouTube channel – Valley Christian Center Fresno.
URL:https://www.vccfresno.org/event/night-of-prayer/
LOCATION:Valley Christian Center\, 4649 E. Shields Ave\, Fresno\, CA\, 93726\, United States
CATEGORIES:Prayer
ATTACH;FMTTYPE=image/png:https://www.vccfresno.org/wp-content/uploads/2023/12/EVENT-SQ-1.png
END:VEVENT
BEGIN:VEVENT
DTSTART;TZID=America/Los_Angeles:20240116T120000
DTEND;TZID=America/Los_Angeles:20240116T160000
DTSTAMP:20260424T022259
CREATED:20231212T003336Z
LAST-MODIFIED:20231212T003336Z
UID:6634-1705406400-1705420800@www.vccfresno.org
SUMMARY:21 Days Ignite Prayer Stations
DESCRIPTION:Each week of the 21 Days of Prayer and Fasting\, VALLEY will have supplemental\, IGNITE\, prayer stations in the Sanctuary on Mondays through Thursdays from 12:00-4:00pm and Wednesdays from 6:00-8:00pm (January 8th – January 26th). All are welcome to come and enjoy a richer prayer experience with visual and applicable prompts.
URL:https://www.vccfresno.org/event/21-days-ignite-prayer-stations-5/
LOCATION:Valley Christian Center\, 4649 E. Shields Ave\, Fresno\, CA\, 93726\, United States
CATEGORIES:Prayer
ATTACH;FMTTYPE=image/png:https://www.vccfresno.org/wp-content/uploads/2023/12/2024-21-DAYS-SQUARE.png
END:VEVENT
BEGIN:VEVENT
DTSTART;TZID=America/Los_Angeles:20240115T120000
DTEND;TZID=America/Los_Angeles:20240115T160000
DTSTAMP:20260424T022259
CREATED:20231212T003217Z
LAST-MODIFIED:20231212T003217Z
UID:6632-1705320000-1705334400@www.vccfresno.org
SUMMARY:21 Days Ignite Prayer Stations
DESCRIPTION:Each week of the 21 Days of Prayer and Fasting\, VALLEY will have supplemental\, IGNITE\, prayer stations in the Sanctuary on Mondays through Thursdays from 12:00-4:00pm and Wednesdays from 6:00-8:00pm (January 8th – January 26th). All are welcome to come and enjoy a richer prayer experience with visual and applicable prompts.
URL:https://www.vccfresno.org/event/21-days-ignite-prayer-stations-4/
LOCATION:Valley Christian Center\, 4649 E. Shields Ave\, Fresno\, CA\, 93726\, United States
CATEGORIES:Prayer
ATTACH;FMTTYPE=image/png:https://www.vccfresno.org/wp-content/uploads/2023/12/2024-21-DAYS-SQUARE.png
END:VEVENT
BEGIN:VEVENT
DTSTART;TZID=America/Los_Angeles:20240111T120000
DTEND;TZID=America/Los_Angeles:20240111T160000
DTSTAMP:20260424T022259
CREATED:20231212T003042Z
LAST-MODIFIED:20231212T003042Z
UID:6630-1704974400-1704988800@www.vccfresno.org
SUMMARY:21 Days Ignite Prayer Stations
DESCRIPTION:Each week of the 21 Days of Prayer and Fasting\, VALLEY will have supplemental\, IGNITE\, prayer stations in the Sanctuary on Mondays through Thursdays from 12:00-4:00pm and Wednesdays from 6:00-8:00pm (January 8th – January 26th). All are welcome to come and enjoy a richer prayer experience with visual and applicable prompts.
URL:https://www.vccfresno.org/event/21-days-ignite-prayer-stations-3/
LOCATION:Valley Christian Center\, 4649 E. Shields Ave\, Fresno\, CA\, 93726\, United States
CATEGORIES:Prayer
ATTACH;FMTTYPE=image/png:https://www.vccfresno.org/wp-content/uploads/2023/12/2024-21-DAYS-SQUARE.png
END:VEVENT
BEGIN:VEVENT
DTSTART;TZID=America/Los_Angeles:20240110T120000
DTEND;TZID=America/Los_Angeles:20240110T200000
DTSTAMP:20260424T022259
CREATED:20231212T002928Z
LAST-MODIFIED:20231212T002928Z
UID:6628-1704888000-1704916800@www.vccfresno.org
SUMMARY:21 Days Ignite Prayer Stations
DESCRIPTION:Each week of the 21 Days of Prayer and Fasting\, VALLEY will have supplemental\, IGNITE\, prayer stations in the Sanctuary on Mondays through Thursdays from 12:00-4:00pm and Wednesdays from 6:00-8:00pm (January 8th – January 26th). All are welcome to come and enjoy a richer prayer experience with visual and applicable prompts.
URL:https://www.vccfresno.org/event/21-days-ignite-prayer-stations-2/
LOCATION:Valley Christian Center\, 4649 E. Shields Ave\, Fresno\, CA\, 93726\, United States
CATEGORIES:Prayer
ATTACH;FMTTYPE=image/png:https://www.vccfresno.org/wp-content/uploads/2023/12/2024-21-DAYS-SQUARE.png
END:VEVENT
BEGIN:VEVENT
DTSTART;TZID=America/Los_Angeles:20240108T120000
DTEND;TZID=America/Los_Angeles:20240108T160000
DTSTAMP:20260424T022259
CREATED:20231212T002407Z
LAST-MODIFIED:20231212T002532Z
UID:6623-1704715200-1704729600@www.vccfresno.org
SUMMARY:21 Days Prayer Stations
DESCRIPTION:Each week of the 21 Days of Prayer and Fasting\, VALLEY will have supplemental\, IGNITE\, prayer stations in the Sanctuary on Mondays through Thursdays from 12:00-4:00pm and Wednesdays from 6:00-8:00pm (January 8th – January 26th). All are welcome to come and enjoy a richer prayer experience with visual and applicable prompts.
URL:https://www.vccfresno.org/event/21-days-prayer-stations/
LOCATION:Valley Christian Center\, 4649 E. Shields Ave\, Fresno\, CA\, 93726\, United States
CATEGORIES:Prayer
ATTACH;FMTTYPE=image/png:https://www.vccfresno.org/wp-content/uploads/2023/12/2024-21-DAYS-SQUARE.png
END:VEVENT
BEGIN:VEVENT
DTSTART;VALUE=DATE:20221020
DTEND;VALUE=DATE:20221021
DTSTAMP:20260424T022259
CREATED:20221003T210812Z
LAST-MODIFIED:20221003T210812Z
UID:5865-1666224000-1666310399@www.vccfresno.org
SUMMARY:Prayer 101
DESCRIPTION:Prayer 101 is designed to help individuals learn principle techniques of prayer as depicted in scripture. We will learn the significance and authority of prayer and the many forms of prayer that are available to use. Prayer activities are used throughout the course to help empower those enrolled. This course is for anyone wanting to learn prayer and go deeper with the Lord.\nSIGN UP HERE!
URL:https://www.vccfresno.org/event/prayer-101/
LOCATION:CA
CATEGORIES:Prayer
ATTACH;FMTTYPE=image/png:https://www.vccfresno.org/wp-content/uploads/2022/10/PRAYER-101-Banner.png
END:VEVENT
BEGIN:VEVENT
DTSTART;TZID=America/Los_Angeles:20220324T180000
DTEND;TZID=America/Los_Angeles:20220324T190000
DTSTAMP:20260424T022259
CREATED:20220113T023833Z
LAST-MODIFIED:20220113T023833Z
UID:4444-1648144800-1648148400@www.vccfresno.org
SUMMARY:Prayer Training
DESCRIPTION:interested in Prayer Training?\n\nJoin us Thursdays at 6:00pm starting February 3rd for a 7-week course in the APR as we learn how to pray using VCC’s 5-Point Prayer Model and various forms of prayer techniques. \nSign-up in the Courtyard after Sunday service on January 23rd or 30th\, or online here. \nSIGN UP HERE!\nDownload the flyer for more info:
URL:https://www.vccfresno.org/event/prayer-training-7/
LOCATION:CA
CATEGORIES:Prayer
ATTACH;FMTTYPE=image/png:https://www.vccfresno.org/wp-content/uploads/2022/01/PRAYER-TEAM-Banner-1.png
END:VEVENT
BEGIN:VEVENT
DTSTART;TZID=America/Los_Angeles:20220317T180000
DTEND;TZID=America/Los_Angeles:20220317T190000
DTSTAMP:20260424T022259
CREATED:20220113T023750Z
LAST-MODIFIED:20220113T023750Z
UID:4442-1647540000-1647543600@www.vccfresno.org
SUMMARY:Prayer Training
DESCRIPTION:interested in Prayer Training?\n\nJoin us Thursdays at 6:00pm starting February 3rd for a 7-week course in the APR as we learn how to pray using VCC’s 5-Point Prayer Model and various forms of prayer techniques. \nSign-up in the Courtyard after Sunday service on January 23rd or 30th\, or online here. \nSIGN UP HERE!\nDownload the flyer for more info:
URL:https://www.vccfresno.org/event/prayer-training-6/
LOCATION:CA
CATEGORIES:Prayer
ATTACH;FMTTYPE=image/png:https://www.vccfresno.org/wp-content/uploads/2022/01/PRAYER-TEAM-Banner-1.png
END:VEVENT
BEGIN:VEVENT
DTSTART;TZID=America/Los_Angeles:20220310T180000
DTEND;TZID=America/Los_Angeles:20220310T190000
DTSTAMP:20260424T022259
CREATED:20220113T023659Z
LAST-MODIFIED:20220113T023659Z
UID:4440-1646935200-1646938800@www.vccfresno.org
SUMMARY:Prayer Training
DESCRIPTION:interested in Prayer Training?\n\nJoin us Thursdays at 6:00pm starting February 3rd for a 7-week course in the APR as we learn how to pray using VCC’s 5-Point Prayer Model and various forms of prayer techniques. \nSign-up in the Courtyard after Sunday service on January 23rd or 30th\, or online here. \nSIGN UP HERE!\nDownload the flyer for more info:
URL:https://www.vccfresno.org/event/prayer-training-5/
LOCATION:CA
CATEGORIES:Prayer
ATTACH;FMTTYPE=image/png:https://www.vccfresno.org/wp-content/uploads/2022/01/PRAYER-TEAM-Banner-1.png
END:VEVENT
BEGIN:VEVENT
DTSTART;TZID=America/Los_Angeles:20220224T180000
DTEND;TZID=America/Los_Angeles:20220224T190000
DTSTAMP:20260424T022259
CREATED:20220113T023611Z
LAST-MODIFIED:20220113T023611Z
UID:4438-1645725600-1645729200@www.vccfresno.org
SUMMARY:Prayer Training
DESCRIPTION:interested in Prayer Training?\n\nJoin us Thursdays at 6:00pm starting February 3rd for a 7-week course in the APR as we learn how to pray using VCC’s 5-Point Prayer Model and various forms of prayer techniques. \nSign-up in the Courtyard after Sunday service on January 23rd or 30th\, or online here. \nSIGN UP HERE!\nDownload the flyer for more info:
URL:https://www.vccfresno.org/event/prayer-training-4/
LOCATION:CA
CATEGORIES:Prayer
ATTACH;FMTTYPE=image/png:https://www.vccfresno.org/wp-content/uploads/2022/01/PRAYER-TEAM-Banner-1.png
END:VEVENT
BEGIN:VEVENT
DTSTART;TZID=America/Los_Angeles:20220217T180000
DTEND;TZID=America/Los_Angeles:20220217T190000
DTSTAMP:20260424T022259
CREATED:20220113T023526Z
LAST-MODIFIED:20220113T023526Z
UID:4436-1645120800-1645124400@www.vccfresno.org
SUMMARY:Prayer Training
DESCRIPTION:interested in Prayer Training?\n\nJoin us Thursdays at 6:00pm starting February 3rd for a 7-week course in the APR as we learn how to pray using VCC’s 5-Point Prayer Model and various forms of prayer techniques. \nSign-up in the Courtyard after Sunday service on January 23rd or 30th\, or online here. \nSIGN UP HERE!\nDownload the flyer for more info:
URL:https://www.vccfresno.org/event/prayer-training-3/
LOCATION:CA
CATEGORIES:Prayer
ATTACH;FMTTYPE=image/png:https://www.vccfresno.org/wp-content/uploads/2022/01/PRAYER-TEAM-Banner-1.png
END:VEVENT
BEGIN:VEVENT
DTSTART;TZID=America/Los_Angeles:20220210T180000
DTEND;TZID=America/Los_Angeles:20220210T190000
DTSTAMP:20260424T022259
CREATED:20220113T023417Z
LAST-MODIFIED:20220113T023417Z
UID:4434-1644516000-1644519600@www.vccfresno.org
SUMMARY:Prayer Training
DESCRIPTION:interested in Prayer Training?\n\nJoin us Thursdays at 6:00pm starting February 3rd for a 7-week course in the APR as we learn how to pray using VCC’s 5-Point Prayer Model and various forms of prayer techniques. \nSign-up in the Courtyard after Sunday service on January 23rd or 30th\, or online here. \nSIGN UP HERE!\nDownload the flyer for more info:
URL:https://www.vccfresno.org/event/prayer-training-2/
LOCATION:CA
CATEGORIES:Prayer
ATTACH;FMTTYPE=image/png:https://www.vccfresno.org/wp-content/uploads/2022/01/PRAYER-TEAM-Banner-1.png
END:VEVENT
BEGIN:VEVENT
DTSTART;TZID=America/Los_Angeles:20220203T180000
DTEND;TZID=America/Los_Angeles:20220203T190000
DTSTAMP:20260424T022259
CREATED:20220113T023107Z
LAST-MODIFIED:20220113T023213Z
UID:4429-1643911200-1643914800@www.vccfresno.org
SUMMARY:Prayer Training
DESCRIPTION:interested in Prayer Training?\n\nJoin us Thursdays at 6:00pm starting February 3rd for a 7-week course in the APR as we learn how to pray using VCC’s 5-Point Prayer Model and various forms of prayer techniques. \nSign-up in the Courtyard after Sunday service on January 23rd or 30th\, or online here. \nSIGN UP HERE!\nDownload the flyer for more info:
URL:https://www.vccfresno.org/event/prayer-training/
LOCATION:CA
CATEGORIES:Prayer
ATTACH;FMTTYPE=image/png:https://www.vccfresno.org/wp-content/uploads/2022/01/PRAYER-TEAM-Banner-1.png
END:VEVENT
BEGIN:VEVENT
DTSTART;TZID=America/Los_Angeles:20220130T110000
DTEND;TZID=America/Los_Angeles:20220130T120000
DTSTAMP:20260424T022259
CREATED:20220128T194744Z
LAST-MODIFIED:20220128T194745Z
UID:4470-1643540400-1643544000@www.vccfresno.org
SUMMARY:Break"fast" Celebration Sunday
DESCRIPTION:YOU made it! Join us this Sunday as we celebrate the end of our 21 Days of Prayer & Fasting.\nWe will be enjoying a bbq meal together at the table right after our 10:00am service\, along with some fun for everyone. We can’t wait to celebrate all God has done in these past 21 days with you!
URL:https://www.vccfresno.org/event/breakfast-celebration-sunday/
LOCATION:CA
CATEGORIES:Fasting,Prayer
ATTACH;FMTTYPE=image/png:https://www.vccfresno.org/wp-content/uploads/2022/01/BREAKFAST-CELEBRATION.png
END:VEVENT
BEGIN:VEVENT
DTSTART;TZID=America/Los_Angeles:20220110T190000
DTEND;TZID=America/Los_Angeles:20220110T200000
DTSTAMP:20260424T022259
CREATED:20220106T212744Z
LAST-MODIFIED:20220106T212744Z
UID:4314-1641841200-1641844800@www.vccfresno.org
SUMMARY:21 days of Prayer and Fasting
DESCRIPTION:Every night during the 21 days of Prayer and Fasting a different church will host an in-person and online service\, allowing us to experience the depth and diversity of congregations across our community while acknowledging that we are One Church. We hope you’ll join us! \nvisit: https://www.vccfresno.org/prayer/ for more info. \n 
URL:https://www.vccfresno.org/event/21-days-of-prayer-and-fasting/
LOCATION:CA
CATEGORIES:Prayer
ATTACH;FMTTYPE=image/png:https://www.vccfresno.org/wp-content/uploads/2022/01/21DOP-SocialInvite-1.png
END:VEVENT
BEGIN:VEVENT
DTSTART;TZID=America/Los_Angeles:20210131T170000
DTEND;TZID=America/Los_Angeles:20210131T173000
DTSTAMP:20260424T022259
CREATED:20201230T175559Z
LAST-MODIFIED:20201230T175716Z
UID:2631-1612112400-1612114200@www.vccfresno.org
SUMMARY:Fasting & Prayer - Day 21
DESCRIPTION:Host: Cornerstone Church\nhttps://www.youtube.com/user/cornerstonefresno
URL:https://www.vccfresno.org/event/fasting-prayer-day-21/
LOCATION:CA
CATEGORIES:Fasting,Prayer
END:VEVENT
BEGIN:VEVENT
DTSTART;TZID=America/Los_Angeles:20210130T170000
DTEND;TZID=America/Los_Angeles:20210130T173000
DTSTAMP:20260424T022259
CREATED:20201230T175351Z
LAST-MODIFIED:20201230T175703Z
UID:2629-1612026000-1612027800@www.vccfresno.org
SUMMARY:Fasting & Prayer - Day 20
DESCRIPTION:Host: Clovis Hills Church\nhttps://www.clovishills.com/
URL:https://www.vccfresno.org/event/fasting-prayer-day-20/
LOCATION:CA
CATEGORIES:Fasting,Prayer
END:VEVENT
BEGIN:VEVENT
DTSTART;TZID=America/Los_Angeles:20210129T190000
DTEND;TZID=America/Los_Angeles:20210129T193000
DTSTAMP:20260424T022259
CREATED:20201230T175133Z
LAST-MODIFIED:20201230T175655Z
UID:2626-1611946800-1611948600@www.vccfresno.org
SUMMARY:Fasting & Prayer - Day 19
DESCRIPTION:Host: University Vineyard\nhttps://universityvineyard.com/live-stream
URL:https://www.vccfresno.org/event/fasting-prayer-day-19/
LOCATION:CA
CATEGORIES:Fasting,Prayer
END:VEVENT
BEGIN:VEVENT
DTSTART;TZID=America/Los_Angeles:20210128T190000
DTEND;TZID=America/Los_Angeles:20210128T193000
DTSTAMP:20260424T022259
CREATED:20201230T174859Z
LAST-MODIFIED:20201230T175648Z
UID:2623-1611860400-1611862200@www.vccfresno.org
SUMMARY:Fasting & Prayer - Day 18
DESCRIPTION:Host: The Church of Tollhouse\nHome
URL:https://www.vccfresno.org/event/fasting-prayer-day-18/
LOCATION:CA
CATEGORIES:Fasting,Prayer
END:VEVENT
BEGIN:VEVENT
DTSTART;TZID=America/Los_Angeles:20210127T190000
DTEND;TZID=America/Los_Angeles:20210127T193000
DTSTAMP:20260424T022259
CREATED:20201230T174545Z
LAST-MODIFIED:20201230T175629Z
UID:2621-1611774000-1611775800@www.vccfresno.org
SUMMARY:Fasting & Prayer - Day 17
DESCRIPTION:Host: North Park Community Church\nhttps://www.facebook.com/NorthparkFresno/live \nhttps://www.youtube.com/c/NorthparkCommunityChurchFresno
URL:https://www.vccfresno.org/event/fasting-prayer-day-17/
LOCATION:CA
CATEGORIES:Fasting,Prayer
END:VEVENT
BEGIN:VEVENT
DTSTART;TZID=America/Los_Angeles:20210126T190000
DTEND;TZID=America/Los_Angeles:20210126T193000
DTSTAMP:20260424T022259
CREATED:20201230T174005Z
LAST-MODIFIED:20201230T175638Z
UID:2618-1611687600-1611689400@www.vccfresno.org
SUMMARY:Fasting & Prayer - Day 16
DESCRIPTION:Host: The Well Community Church\nhttps://www.youtube.com/user/wellchurch1
URL:https://www.vccfresno.org/event/fasting-prayer-day-16/
LOCATION:CA
CATEGORIES:Fasting,Prayer
END:VEVENT
BEGIN:VEVENT
DTSTART;TZID=America/Los_Angeles:20210125T190000
DTEND;TZID=America/Los_Angeles:20210125T193000
DTSTAMP:20260424T022259
CREATED:20201230T173418Z
LAST-MODIFIED:20201230T173452Z
UID:2615-1611601200-1611603000@www.vccfresno.org
SUMMARY:Fasting & Prayer - Day 15
DESCRIPTION:Host: The Rising Star Missionary Baptist Church\nhttps://www.facebook.com/risingstarfresno
URL:https://www.vccfresno.org/event/fasting-prayer-day-15/
LOCATION:CA
CATEGORIES:Fasting,Prayer
END:VEVENT
BEGIN:VEVENT
DTSTART;TZID=America/Los_Angeles:20210124T170000
DTEND;TZID=America/Los_Angeles:20210124T173000
DTSTAMP:20260424T022259
CREATED:20201229T044152Z
LAST-MODIFIED:20210123T234726Z
UID:2521-1611507600-1611509400@www.vccfresno.org
SUMMARY:Fasting & Prayer - Day 14
DESCRIPTION:Host: Valley Christian Center\nValley Christian Center is committed to beginning the new year with 21 days of prayer and fasting. This spiritual practice helps us begin our new year with a focus on God and what he wants for us individually and as a church.\nMany churches in the Fresno and Clovis area have also committed to this practice as well and we are excited to partner with them for our Fasting experiences. \nEvery night during the 21 days of Prayer and Fasting a different church will host an online service\, allowing us to experience the depth and diversity of congregations across our community while acknowledging that we are One Church. We hope you’ll join us! \n \n  \n 
URL:https://www.vccfresno.org/event/fasting-prayer-day-14/
LOCATION:CA
CATEGORIES:Fasting,Prayer
END:VEVENT
BEGIN:VEVENT
DTSTART;TZID=America/Los_Angeles:20210123T170000
DTEND;TZID=America/Los_Angeles:20210123T173000
DTSTAMP:20260424T022259
CREATED:20201229T215624Z
LAST-MODIFIED:20201229T215911Z
UID:2607-1611421200-1611423000@www.vccfresno.org
SUMMARY:Fasting & Prayer - Day 13
DESCRIPTION:Host: Family Christian Assembly\nhttps://www.youtube.com/user/ChristianTemple559
URL:https://www.vccfresno.org/event/fasting-prayer-day-13/
LOCATION:CA
CATEGORIES:Fasting,Prayer
END:VEVENT
END:VCALENDAR