BEGIN:VCALENDAR
VERSION:2.0
PRODID:-//Valley Christian Center - ECPv6.13.2.1//NONSGML v1.0//EN
CALSCALE:GREGORIAN
METHOD:PUBLISH
X-WR-CALNAME:Valley Christian Center
X-ORIGINAL-URL:https://www.vccfresno.org
X-WR-CALDESC:Events for Valley Christian Center
REFRESH-INTERVAL;VALUE=DURATION:PT1H
X-Robots-Tag:noindex
X-PUBLISHED-TTL:PT1H
BEGIN:VTIMEZONE
TZID:America/Los_Angeles
BEGIN:DAYLIGHT
TZOFFSETFROM:-0800
TZOFFSETTO:-0700
TZNAME:PDT
DTSTART:20190310T100000
END:DAYLIGHT
BEGIN:STANDARD
TZOFFSETFROM:-0700
TZOFFSETTO:-0800
TZNAME:PST
DTSTART:20191103T090000
END:STANDARD
BEGIN:DAYLIGHT
TZOFFSETFROM:-0800
TZOFFSETTO:-0700
TZNAME:PDT
DTSTART:20200308T100000
END:DAYLIGHT
BEGIN:STANDARD
TZOFFSETFROM:-0700
TZOFFSETTO:-0800
TZNAME:PST
DTSTART:20201101T090000
END:STANDARD
END:VTIMEZONE
BEGIN:VEVENT
DTSTART;TZID=America/Los_Angeles:20200814T170000
DTEND;TZID=America/Los_Angeles:20200814T210000
DTSTAMP:20260423T171612
CREATED:20200727T192611Z
LAST-MODIFIED:20200812T141738Z
UID:2030-1597424400-1597438800@www.vccfresno.org
SUMMARY:Fresno Street Eats: Airport
DESCRIPTION:Grab your family and friends and swing by the church for some dinner in our parking lot. \nFood Trucks will be available from 5-9pm. \nThis is a great opportunity to support our local businesses and show them some love. \nWe ask that you please honor the social distancing and bring your mask with you.
URL:https://www.vccfresno.org/event/fresno-street-eats-airport/
LOCATION:Valley Christian Center\, 4649 E. Shields Ave\, Fresno\, CA\, 93726\, United States
CATEGORIES:Family,Hispanic,Kids,Life Groups,Youth
ATTACH;FMTTYPE=image/png:https://www.vccfresno.org/wp-content/uploads/2020/07/image.png
END:VEVENT
BEGIN:VEVENT
DTSTART;TZID=America/Los_Angeles:20190823T183000
DTEND;TZID=America/Los_Angeles:20190823T203000
DTSTAMP:20260423T171612
CREATED:20190701T191539Z
LAST-MODIFIED:20191009T190139Z
UID:759-1566585000-1566592200@www.vccfresno.org
SUMMARY:Back to School Bash/Family Game Night
DESCRIPTION:Join us for a Family Game Night on Friday\, August 23rd from 6:30-8:30pm at Valley Christian Center. We will be having trivia games\, board games and plenty of music. Kick off the school year with some fun and invite your friends and family!
URL:https://www.vccfresno.org/event/back-to-school-bash-family-game-night/
LOCATION:Valley Christian Center\, 4649 E. Shields Ave\, Fresno\, CA\, 93726\, United States
CATEGORIES:Family
ATTACH;FMTTYPE=image/jpeg:https://www.vccfresno.org/wp-content/uploads/2019/07/Valley-Christian-Center_Game-Night.jpg
END:VEVENT
BEGIN:VEVENT
DTSTART;TZID=America/Los_Angeles:20190727T100000
DTEND;TZID=America/Los_Angeles:20190727T120000
DTSTAMP:20260423T171612
CREATED:20190701T191205Z
LAST-MODIFIED:20191009T190139Z
UID:753-1564221600-1564228800@www.vccfresno.org
SUMMARY:Water Day
DESCRIPTION:Valley Christian Center is going to be having a Water Day on Saturday\, July 27th from 10:00am-12:00pm. We will have a slip & slide\, music\, popcorn and water games. Beat the heat and come hang out with us!
URL:https://www.vccfresno.org/event/water-day/
LOCATION:Valley Christian Center\, 4649 E. Shields Ave\, Fresno\, CA\, 93726\, United States
CATEGORIES:Family
ATTACH;FMTTYPE=image/jpeg:https://www.vccfresno.org/wp-content/uploads/2019/07/Valley-Christian-Center_Water-Day.jpg
END:VEVENT
END:VCALENDAR