BEGIN:VCALENDAR
VERSION:2.0
PRODID:-//Valley Christian Center - ECPv6.13.2.1//NONSGML v1.0//EN
CALSCALE:GREGORIAN
METHOD:PUBLISH
X-ORIGINAL-URL:https://www.vccfresno.org
X-WR-CALDESC:Events for Valley Christian Center
REFRESH-INTERVAL;VALUE=DURATION:PT1H
X-Robots-Tag:noindex
X-PUBLISHED-TTL:PT1H
BEGIN:VTIMEZONE
TZID:America/Los_Angeles
BEGIN:DAYLIGHT
TZOFFSETFROM:-0800
TZOFFSETTO:-0700
TZNAME:PDT
DTSTART:20250309T100000
END:DAYLIGHT
BEGIN:STANDARD
TZOFFSETFROM:-0700
TZOFFSETTO:-0800
TZNAME:PST
DTSTART:20251102T090000
END:STANDARD
END:VTIMEZONE
BEGIN:VEVENT
DTSTART;TZID=America/Los_Angeles:20250624T180000
DTEND;TZID=America/Los_Angeles:20250624T201500
DTSTAMP:20260425T205740
CREATED:20250525T005049Z
LAST-MODIFIED:20250525T005049Z
UID:8511-1750788000-1750796100@www.vccfresno.org
SUMMARY:Power Up - Kids 2025 Summer Camp
DESCRIPTION:Most kids enjoy playing video games. But chances are they’ve felt stuck before\, even in a favorite game\, when they reach a level that seems to have no way out–until they remember there’s a way to power up that will help them move up. \nWe want kids to discover that God will help them raise their game. With the power of the Holy Spirit\, we can produce “fruit” that makes life better and points others to Jesus. We want kids to better understand the work of the Spirit and how it helps us live out our faith in real time\, every day.
URL:https://www.vccfresno.org/event/power-up-kids-2025-summer-camp-2/
LOCATION:Valley Christian Center\, 4649 E. Shields Ave\, Fresno\, CA\, 93726\, United States
CATEGORIES:Kids
ATTACH;FMTTYPE=image/png:https://www.vccfresno.org/wp-content/uploads/2025/05/KIDS-CAMP-Banner-13-size-28hx48w-2.png
END:VEVENT
BEGIN:VEVENT
DTSTART;TZID=America/Los_Angeles:20250625T180000
DTEND;TZID=America/Los_Angeles:20250625T201500
DTSTAMP:20260425T205740
CREATED:20250525T005218Z
LAST-MODIFIED:20250525T005218Z
UID:8513-1750874400-1750882500@www.vccfresno.org
SUMMARY:Power Up - Kids 2025 Summer Camp
DESCRIPTION:Most kids enjoy playing video games. But chances are they’ve felt stuck before\, even in a favorite game\, when they reach a level that seems to have no way out–until they remember there’s a way to power up that will help them move up. \nWe want kids to discover that God will help them raise their game. With the power of the Holy Spirit\, we can produce “fruit” that makes life better and points others to Jesus. We want kids to better understand the work of the Spirit and how it helps us live out our faith in real time\, every day.
URL:https://www.vccfresno.org/event/power-up-kids-2025-summer-camp-3/
LOCATION:Valley Christian Center\, 4649 E. Shields Ave\, Fresno\, CA\, 93726\, United States
CATEGORIES:Kids
ATTACH;FMTTYPE=image/png:https://www.vccfresno.org/wp-content/uploads/2025/05/KIDS-CAMP-Banner-13-size-28hx48w-2.png
END:VEVENT
BEGIN:VEVENT
DTSTART;TZID=America/Los_Angeles:20250626T180000
DTEND;TZID=America/Los_Angeles:20250626T201500
DTSTAMP:20260425T205740
CREATED:20250525T005441Z
LAST-MODIFIED:20250525T005441Z
UID:8515-1750960800-1750968900@www.vccfresno.org
SUMMARY:Power Up - Kids 2025 Summer Camp
DESCRIPTION:Most kids enjoy playing video games. But chances are they’ve felt stuck before\, even in a favorite game\, when they reach a level that seems to have no way out–until they remember there’s a way to power up that will help them move up. \nWe want kids to discover that God will help them raise their game. With the power of the Holy Spirit\, we can produce “fruit” that makes life better and points others to Jesus. We want kids to better understand the work of the Spirit and how it helps us live out our faith in real time\, every day.
URL:https://www.vccfresno.org/event/power-up-kids-2025-summer-camp-4/
LOCATION:Valley Christian Center\, 4649 E. Shields Ave\, Fresno\, CA\, 93726\, United States
CATEGORIES:Kids
ATTACH;FMTTYPE=image/png:https://www.vccfresno.org/wp-content/uploads/2025/05/KIDS-CAMP-Banner-13-size-28hx48w-2.png
END:VEVENT
BEGIN:VEVENT
DTSTART;TZID=America/Los_Angeles:20250720T090000
DTEND;TZID=America/Los_Angeles:20250720T093000
DTSTAMP:20260425T205740
CREATED:20250706T194115Z
LAST-MODIFIED:20250706T194115Z
UID:8596-1753002000-1753003800@www.vccfresno.org
SUMMARY:Child Dedication Class & Dedication Sunday
DESCRIPTION:Have you thought about dedicating your little one to the Lord?\nOur next child dedication class will take place Sunday\, July 20th at 9:00am in room 104. Child Dedication Sunday will be on Sunday\, July 27th. Child dedications are a time for parents\, the church\, and God Himself to partner in raising your child to live a Godly life. If you’d like to dedicate your child\, simply follow the link to our registration form and the Children’s Director will connect with you. \n  \nREGISTER HERE!
URL:https://www.vccfresno.org/event/child-dedication-class-dedication-sunday/
LOCATION:Valley Christian Center\, 4649 E. Shields Ave\, Fresno\, CA\, 93726\, United States
CATEGORIES:Kids
ATTACH;FMTTYPE=image/png:https://www.vccfresno.org/wp-content/uploads/2025/07/Child-Dedication-ClassDedication-Sunday.png
END:VEVENT
BEGIN:VEVENT
DTSTART;TZID=America/Los_Angeles:20250727T100000
DTEND;TZID=America/Los_Angeles:20250727T110000
DTSTAMP:20260425T205740
CREATED:20250706T194215Z
LAST-MODIFIED:20250706T194650Z
UID:8598-1753610400-1753614000@www.vccfresno.org
SUMMARY:Child Dedication Class & Dedication Sunday
DESCRIPTION:Have you thought about dedicating your little one to the Lord?\nOur next child dedication class will take place Sunday\, July 20th at 9:00am in room 104. Child Dedication Sunday will be on Sunday\, July 27th. Child dedications are a time for parents\, the church\, and God Himself to partner in raising your child to live a Godly life. If you’d like to dedicate your child\, simply follow the link to our registration form and the Children’s Director will connect with you. \n  \nREGISTER HERE!
URL:https://www.vccfresno.org/event/child-dedication-class-dedication-sunday-2/
LOCATION:Valley Christian Center\, 4649 E. Shields Ave\, Fresno\, CA\, 93726\, United States
CATEGORIES:Kids
ATTACH;FMTTYPE=image/png:https://www.vccfresno.org/wp-content/uploads/2025/07/Child-Dedication-ClassDedication-Sunday.png
END:VEVENT
BEGIN:VEVENT
DTSTART;TZID=America/Los_Angeles:20251207T110000
DTEND;TZID=America/Los_Angeles:20251207T120000
DTSTAMP:20260425T205740
CREATED:20251201T194548Z
LAST-MODIFIED:20251201T194548Z
UID:8980-1765105200-1765108800@www.vccfresno.org
SUMMARY:Christmas at Valley
DESCRIPTION:Join us this Sunday after service in the cafeteria for cookie decorating and a hot cocoa bar. \nKeep joining us this Christmas season on Sundays for the Good News and community and fun afterward. Each Sunday after service we will have something fun for you and your family to enjoy. Don’t miss it and invite someone to join you this Christmas season.
URL:https://www.vccfresno.org/event/christmas-at-valley-2/
LOCATION:Valley Dream Center\, 1835 N Winery Ave\, Fresno\, CA\, 93703\, United States
CATEGORIES:Kids
ATTACH;FMTTYPE=image/png:https://www.vccfresno.org/wp-content/uploads/2025/12/SQAURE-2025-Christmas.png
END:VEVENT
BEGIN:VEVENT
DTSTART;TZID=America/Los_Angeles:20251214T110000
DTEND;TZID=America/Los_Angeles:20251214T120000
DTSTAMP:20260425T205740
CREATED:20251201T195124Z
LAST-MODIFIED:20251201T195124Z
UID:8983-1765710000-1765713600@www.vccfresno.org
SUMMARY:Christmas at Valley
DESCRIPTION:Join us this Sunday after service in the cafeteria for making an ornament for the tree. \nKeep joining us this Christmas season on Sundays for the Good News and community and fun afterward. Each Sunday after service we will have something fun for you and your family to enjoy. Don’t miss it and invite someone to join you this Christmas season.
URL:https://www.vccfresno.org/event/christmas-at-valley-3/
LOCATION:Valley Dream Center\, 1835 N Winery Ave\, Fresno\, CA\, 93703\, United States
CATEGORIES:Kids
ATTACH;FMTTYPE=image/png:https://www.vccfresno.org/wp-content/uploads/2025/12/SQAURE-2025-Christmas-1.png
END:VEVENT
BEGIN:VEVENT
DTSTART;TZID=America/Los_Angeles:20251221T110000
DTEND;TZID=America/Los_Angeles:20251221T120000
DTSTAMP:20260425T205740
CREATED:20251201T195630Z
LAST-MODIFIED:20251201T195630Z
UID:8986-1766314800-1766318400@www.vccfresno.org
SUMMARY:Christmas at Valley
DESCRIPTION:Join us this Sunday after service in the cafeteria for Photos with Santa\, treats\, and Christmas Card making. \nKeep joining us this Christmas season on Sundays for the Good News and community and fun afterward. Each Sunday after service we will have something fun for you and your family to enjoy. Don’t miss it and invite someone to join you this Christmas season.
URL:https://www.vccfresno.org/event/christmas-at-valley-4/
LOCATION:Valley Dream Center\, 1835 N Winery Ave\, Fresno\, CA\, 93703\, United States
CATEGORIES:Kids
ATTACH;FMTTYPE=image/png:https://www.vccfresno.org/wp-content/uploads/2025/12/SQAURE-2025-Christmas-2.png
END:VEVENT
END:VCALENDAR