BEGIN:VCALENDAR
VERSION:2.0
PRODID:-//Valley Christian Center - ECPv6.13.2.1//NONSGML v1.0//EN
CALSCALE:GREGORIAN
METHOD:PUBLISH
X-WR-CALNAME:Valley Christian Center
X-ORIGINAL-URL:https://www.vccfresno.org
X-WR-CALDESC:Events for Valley Christian Center
REFRESH-INTERVAL;VALUE=DURATION:PT1H
X-Robots-Tag:noindex
X-PUBLISHED-TTL:PT1H
BEGIN:VTIMEZONE
TZID:America/Los_Angeles
BEGIN:DAYLIGHT
TZOFFSETFROM:-0800
TZOFFSETTO:-0700
TZNAME:PDT
DTSTART:20240310T100000
END:DAYLIGHT
BEGIN:STANDARD
TZOFFSETFROM:-0700
TZOFFSETTO:-0800
TZNAME:PST
DTSTART:20241103T090000
END:STANDARD
END:VTIMEZONE
BEGIN:VEVENT
DTSTART;TZID=America/Los_Angeles:20240901T113000
DTEND;TZID=America/Los_Angeles:20240901T120000
DTSTAMP:20260424T210245
CREATED:20240111T003112Z
LAST-MODIFIED:20240111T003112Z
UID:6734-1725190200-1725192000@www.vccfresno.org
SUMMARY:Fall Connect Week
DESCRIPTION:Connect Week is here! We are better together! Our Fall season of Connect Week is kicking off September 1st\, and we would love for you to be a part of the growing community at Valley Christian Center. During Connect Week\, September 1st – 8th you can sign up in-person for Connect Crews\, find opportunities to serve\, and get connected to ministries at Valley. You can also check out vccfresno.org/connect-crews/ to see a listing of Connect Crews and sign-up.
URL:https://www.vccfresno.org/event/fall-connect-week/
LOCATION:Valley Christian Center\, 4649 E. Shields Ave\, Fresno\, CA\, 93726\, United States
CATEGORIES:Life Groups
ATTACH;FMTTYPE=image/png:https://www.vccfresno.org/wp-content/uploads/2024/01/General_No-Pic.png
END:VEVENT
END:VCALENDAR