BEGIN:VCALENDAR
VERSION:2.0
PRODID:-//Valley Christian Center - ECPv6.13.2.1//NONSGML v1.0//EN
CALSCALE:GREGORIAN
METHOD:PUBLISH
X-WR-CALNAME:Valley Christian Center
X-ORIGINAL-URL:https://www.vccfresno.org
X-WR-CALDESC:Events for Valley Christian Center
REFRESH-INTERVAL;VALUE=DURATION:PT1H
X-Robots-Tag:noindex
X-PUBLISHED-TTL:PT1H
BEGIN:VTIMEZONE
TZID:America/Los_Angeles
BEGIN:DAYLIGHT
TZOFFSETFROM:-0800
TZOFFSETTO:-0700
TZNAME:PDT
DTSTART:20250309T100000
END:DAYLIGHT
BEGIN:STANDARD
TZOFFSETFROM:-0700
TZOFFSETTO:-0800
TZNAME:PST
DTSTART:20251102T090000
END:STANDARD
END:VTIMEZONE
BEGIN:VEVENT
DTSTART;TZID=America/Los_Angeles:20250511T113000
DTEND;TZID=America/Los_Angeles:20250511T120000
DTSTAMP:20260424T055949
CREATED:20250310T205201Z
LAST-MODIFIED:20250310T205201Z
UID:8288-1746963000-1746964800@www.vccfresno.org
SUMMARY:Prayer Against Child Trafficking - Connect Crew
DESCRIPTION:We will gather to pray against child and human trafficking in Fresno and the Central Valley. \nMeeting Dates: 2nd & 4th Sundays | February 23rd – May 25th \nMeeting Time: 11:30am – 12:00pm \nLocation: Room 104 | VALLEY
URL:https://www.vccfresno.org/event/prayer-against-child-trafficking-connect-crew-2/
LOCATION:Valley Christian Center\, 4649 E. Shields Ave\, Fresno\, CA\, 93726\, United States
CATEGORIES:Life Groups,Prayer
ATTACH;FMTTYPE=image/png:https://www.vccfresno.org/wp-content/uploads/2025/01/BB_RA_AA-PrayerAgainstChildTrafficking-1.png
END:VEVENT
END:VCALENDAR