BEGIN:VCALENDAR
VERSION:2.0
PRODID:-//Valley Christian Center - ECPv6.13.2.1//NONSGML v1.0//EN
CALSCALE:GREGORIAN
METHOD:PUBLISH
X-ORIGINAL-URL:https://www.vccfresno.org
X-WR-CALDESC:Events for Valley Christian Center
REFRESH-INTERVAL;VALUE=DURATION:PT1H
X-Robots-Tag:noindex
X-PUBLISHED-TTL:PT1H
BEGIN:VTIMEZONE
TZID:America/Los_Angeles
BEGIN:DAYLIGHT
TZOFFSETFROM:-0800
TZOFFSETTO:-0700
TZNAME:PDT
DTSTART:20200308T100000
END:DAYLIGHT
BEGIN:STANDARD
TZOFFSETFROM:-0700
TZOFFSETTO:-0800
TZNAME:PST
DTSTART:20201101T090000
END:STANDARD
END:VTIMEZONE
BEGIN:VEVENT
DTSTART;TZID=America/Los_Angeles:20201117T190000
DTEND;TZID=America/Los_Angeles:20201117T200000
DTSTAMP:20260425T193603
CREATED:20201107T210550Z
LAST-MODIFIED:20201114T010704Z
UID:2319-1605639600-1605643200@www.vccfresno.org
SUMMARY:Life Groups Leadership Warm-Up
DESCRIPTION:Our next Life Group semester will be coming soon\, and we are looking to add some more groups. Life Groups can be anything: a growth group\, a recreational group\, a task group or a cause group – the skies the limit. If you are thinking of leading a new group\, join us for our Leadership Warm-Up on Tuesday\, November 17th\, 7:00-8:00pm in the APR. To sign up\, please visit vccfresno.org/life-groups to fill out the “Interested in Life Groups?” form at the bottom of the page or you can email Monica Schneider at connect@vccfresno.org.
URL:https://www.vccfresno.org/event/life-groups-leadership-warm-up/
LOCATION:Valley Christian Center\, 4649 E. Shields Ave\, Fresno\, CA\, 93726\, United States
CATEGORIES:Life Groups
ATTACH;FMTTYPE=image/png:https://www.vccfresno.org/wp-content/uploads/2020/11/Life-Group-Leadership-Warm-Up-1.png
END:VEVENT
BEGIN:VEVENT
DTSTART;VALUE=DATE:20201108
DTEND;VALUE=DATE:20201109
DTSTAMP:20260425T193603
CREATED:20201031T233918Z
LAST-MODIFIED:20201031T235241Z
UID:2300-1604793600-1604879999@www.vccfresno.org
SUMMARY:Water Baptism - NOV 8th
DESCRIPTION:Are you ready to publicly tell others about your faith in Jesus?\nJoin us for Water Baptisms on Sunday\, November 8th at 9:00am. Our GOTBAPTISM? Class will be held prior to service. To sign up and get all the details\, please visit the Welcome Table before or after Sunday service and ask for a Baptism Packet\, or please email us at connect@vccfresno.org.
URL:https://www.vccfresno.org/event/water-baptism-nov-8th/
LOCATION:Valley Christian Center\, 4649 E. Shields Ave\, Fresno\, CA\, 93726\, United States
CATEGORIES:Kids,Life Groups,Men,Women,Youth
ATTACH;FMTTYPE=image/png:https://www.vccfresno.org/wp-content/uploads/2020/10/WaterBaptism-990000000005143c.png
END:VEVENT
BEGIN:VEVENT
DTSTART;TZID=America/Los_Angeles:20200814T170000
DTEND;TZID=America/Los_Angeles:20200814T210000
DTSTAMP:20260425T193603
CREATED:20200727T192611Z
LAST-MODIFIED:20200812T141738Z
UID:2030-1597424400-1597438800@www.vccfresno.org
SUMMARY:Fresno Street Eats: Airport
DESCRIPTION:Grab your family and friends and swing by the church for some dinner in our parking lot. \nFood Trucks will be available from 5-9pm. \nThis is a great opportunity to support our local businesses and show them some love. \nWe ask that you please honor the social distancing and bring your mask with you.
URL:https://www.vccfresno.org/event/fresno-street-eats-airport/
LOCATION:Valley Christian Center\, 4649 E. Shields Ave\, Fresno\, CA\, 93726\, United States
CATEGORIES:Family,Hispanic,Kids,Life Groups,Youth
ATTACH;FMTTYPE=image/png:https://www.vccfresno.org/wp-content/uploads/2020/07/image.png
END:VEVENT
BEGIN:VEVENT
DTSTART;VALUE=DATE:20200202
DTEND;VALUE=DATE:20200203
DTSTAMP:20260425T193603
CREATED:20200123T150311Z
LAST-MODIFIED:20200314T181158Z
UID:1537-1580601600-1580687999@www.vccfresno.org
SUMMARY:Connect Day - Jan 2020
DESCRIPTION:Sign up for a Life Group online or in person Sunday\, February 2nd. We are better together!
URL:https://www.vccfresno.org/event/connect-day-jan-2020/
LOCATION:Valley Christian Center\, 4649 E. Shields Ave\, Fresno\, CA\, 93726\, United States
CATEGORIES:Life Groups
ATTACH;FMTTYPE=image/jpeg:https://www.vccfresno.org/wp-content/uploads/2020/01/ConnectDay-Sp2020.jpg
END:VEVENT
END:VCALENDAR