BEGIN:VCALENDAR
VERSION:2.0
PRODID:-//Valley Christian Center - ECPv6.13.2.1//NONSGML v1.0//EN
CALSCALE:GREGORIAN
METHOD:PUBLISH
X-ORIGINAL-URL:https://www.vccfresno.org
X-WR-CALDESC:Events for Valley Christian Center
REFRESH-INTERVAL;VALUE=DURATION:PT1H
X-Robots-Tag:noindex
X-PUBLISHED-TTL:PT1H
BEGIN:VTIMEZONE
TZID:America/Los_Angeles
BEGIN:DAYLIGHT
TZOFFSETFROM:-0800
TZOFFSETTO:-0700
TZNAME:PDT
DTSTART:20220313T100000
END:DAYLIGHT
BEGIN:STANDARD
TZOFFSETFROM:-0700
TZOFFSETTO:-0800
TZNAME:PST
DTSTART:20221106T090000
END:STANDARD
BEGIN:DAYLIGHT
TZOFFSETFROM:-0800
TZOFFSETTO:-0700
TZNAME:PDT
DTSTART:20230312T100000
END:DAYLIGHT
BEGIN:STANDARD
TZOFFSETFROM:-0700
TZOFFSETTO:-0800
TZNAME:PST
DTSTART:20231105T090000
END:STANDARD
BEGIN:DAYLIGHT
TZOFFSETFROM:-0800
TZOFFSETTO:-0700
TZNAME:PDT
DTSTART:20240310T100000
END:DAYLIGHT
BEGIN:STANDARD
TZOFFSETFROM:-0700
TZOFFSETTO:-0800
TZNAME:PST
DTSTART:20241103T090000
END:STANDARD
END:VTIMEZONE
BEGIN:VEVENT
DTSTART;TZID=America/Los_Angeles:20240702T183000
DTEND;TZID=America/Los_Angeles:20240702T200000
DTSTAMP:20260425T130759
CREATED:20240501T204905Z
LAST-MODIFIED:20240501T204905Z
UID:7219-1719945000-1719950400@www.vccfresno.org
SUMMARY:Kingdom Marriage Connect Crew
DESCRIPTION:A Kingdom-minded couple allows the Lord Jesus Christ to rule and reign in every area of their lives…especially with one another. Join us as we discover ways to… Be victorious over conflict\, Grow closer to God and to each other\, Maintain the spark of intimacy\, Impact the world around you as a couple. \nThe journey begins Tuesday\, June 11th\, from 6:30 to 8:00pm. Be sure to sign you and your partner up here online\, Or in the Courtyard after Sunday service on June 2nd or 9th. \nSIGN UP HERE!
URL:https://www.vccfresno.org/event/kingdom-marriage-connect-crew-4/
LOCATION:Valley Christian Center\, 4649 E. Shields Ave\, Fresno\, CA\, 93726\, United States
CATEGORIES:Life Groups,Marriage
ATTACH;FMTTYPE=image/png:https://www.vccfresno.org/wp-content/uploads/2024/04/Kingdom-Marriage-Square.png
END:VEVENT
BEGIN:VEVENT
DTSTART;TZID=America/Los_Angeles:20240625T183000
DTEND;TZID=America/Los_Angeles:20240625T200000
DTSTAMP:20260425T130759
CREATED:20240501T204746Z
LAST-MODIFIED:20240501T204746Z
UID:7217-1719340200-1719345600@www.vccfresno.org
SUMMARY:Kingdom Marriage Connect Crew
DESCRIPTION:A Kingdom-minded couple allows the Lord Jesus Christ to rule and reign in every area of their lives…especially with one another. Join us as we discover ways to… Be victorious over conflict\, Grow closer to God and to each other\, Maintain the spark of intimacy\, Impact the world around you as a couple. \nThe journey begins Tuesday\, June 11th\, from 6:30 to 8:00pm. Be sure to sign you and your partner up here online\, Or in the Courtyard after Sunday service on June 2nd or 9th. \nSIGN UP HERE!
URL:https://www.vccfresno.org/event/kingdom-marriage-connect-crew-3/
LOCATION:CA
CATEGORIES:Life Groups,Marriage
ATTACH;FMTTYPE=image/png:https://www.vccfresno.org/wp-content/uploads/2024/04/Kingdom-Marriage-Square.png
END:VEVENT
BEGIN:VEVENT
DTSTART;TZID=America/Los_Angeles:20240618T183000
DTEND;TZID=America/Los_Angeles:20240618T200000
DTSTAMP:20260425T130759
CREATED:20240501T204604Z
LAST-MODIFIED:20240501T204604Z
UID:7215-1718735400-1718740800@www.vccfresno.org
SUMMARY:Kingdom Marriage Connect Crew
DESCRIPTION:A Kingdom-minded couple allows the Lord Jesus Christ to rule and reign in every area of their lives…especially with one another. Join us as we discover ways to… Be victorious over conflict\, Grow closer to God and to each other\, Maintain the spark of intimacy\, Impact the world around you as a couple. \nThe journey begins Tuesday\, June 11th\, from 6:30 to 8:00pm. Be sure to sign you and your partner up here online\, Or in the Courtyard after Sunday service on June 2nd or 9th. \nSIGN UP HERE!
URL:https://www.vccfresno.org/event/kingdom-marriage-connect-crew-2/
LOCATION:Valley Christian Center\, 4649 E. Shields Ave\, Fresno\, CA\, 93726\, United States
CATEGORIES:Life Groups,Marriage
ATTACH;FMTTYPE=image/png:https://www.vccfresno.org/wp-content/uploads/2024/04/Kingdom-Marriage-Square.png
END:VEVENT
BEGIN:VEVENT
DTSTART;TZID=America/Los_Angeles:20240611T183000
DTEND;TZID=America/Los_Angeles:20240611T200000
DTSTAMP:20260425T130759
CREATED:20240418T181751Z
LAST-MODIFIED:20240418T182105Z
UID:7188-1718130600-1718136000@www.vccfresno.org
SUMMARY:Kingdom Marriage Connect Crew
DESCRIPTION:A Kingdom-minded couple allows the Lord Jesus Christ to rule and reign in every area of their lives…especially with one another. Join us as we discover ways to… Be victorious over conflict\, Grow closer to God and to each other\, Maintain the spark of intimacy\, Impact the world around you as a couple. \nThe journey begins Tuesday\, June 11th\, from 6:30 to 8:00pm. Be sure to sign you and your partner up here online\, Or in the Courtyard after Sunday service on June 2nd or 9th. \nSIGN UP HERE!
URL:https://www.vccfresno.org/event/kingdom-marriage-connect-crew/
LOCATION:Valley Christian Center\, 4649 E. Shields Ave\, Fresno\, CA\, 93726\, United States
CATEGORIES:Life Groups,Marriage
ATTACH;FMTTYPE=image/png:https://www.vccfresno.org/wp-content/uploads/2024/04/Kingdom-Marriage-Square.png
END:VEVENT
BEGIN:VEVENT
DTSTART;TZID=America/Los_Angeles:20240211T110000
DTEND;TZID=America/Los_Angeles:20240211T120000
DTSTAMP:20260425T130759
CREATED:20240111T002713Z
LAST-MODIFIED:20240111T002713Z
UID:6731-1707649200-1707652800@www.vccfresno.org
SUMMARY:Spring Connect Week
DESCRIPTION:Connect Week is here! We are better together! Our Spring season of Connect Week is kicking off February 4th\, and we would love for you to be a part of the growing community at Valley Christian Center. During Connect Week\, February 4th-11th you can sign up in-person or online for Connect Crews\, find opportunities to serve\, and get connected to ministries at Valley. You can also check out vccfresno.org/connect-crews/ to see a listing of Connect Crews and sign-up.
URL:https://www.vccfresno.org/event/spring-connect-week-2/
LOCATION:Valley Christian Center\, 4649 E. Shields Ave\, Fresno\, CA\, 93726\, United States
CATEGORIES:Life Groups
ATTACH;FMTTYPE=image/png:https://www.vccfresno.org/wp-content/uploads/2024/01/General_No-Pic-2.png
END:VEVENT
BEGIN:VEVENT
DTSTART;TZID=America/Los_Angeles:20240204T110000
DTEND;TZID=America/Los_Angeles:20240204T120000
DTSTAMP:20260425T130759
CREATED:20240111T002545Z
LAST-MODIFIED:20240111T002545Z
UID:6727-1707044400-1707048000@www.vccfresno.org
SUMMARY:Spring Connect Week
DESCRIPTION:Connect Week is here! We are better together! Our Spring season of Connect Week is kicking off February 4th\, and we would love for you to be a part of the growing community at Valley Christian Center. During Connect Week\, February 4th-11th you can sign up in-person or online for Connect Crews\, find opportunities to serve\, and get connected to ministries at Valley. You can also check out vccfresno.org/connect-crews/ to see a listing of Connect Crews and sign-up.
URL:https://www.vccfresno.org/event/spring-connect-week/
LOCATION:Valley Christian Center\, 4649 E. Shields Ave\, Fresno\, CA\, 93726\, United States
CATEGORIES:Life Groups
ATTACH;FMTTYPE=image/png:https://www.vccfresno.org/wp-content/uploads/2024/01/General_No-Pic-2.png
END:VEVENT
BEGIN:VEVENT
DTSTART;VALUE=DATE:20230812
DTEND;VALUE=DATE:20230813
DTSTAMP:20260425T130759
CREATED:20230123T182542Z
LAST-MODIFIED:20230123T182544Z
UID:6106-1691798400-1691884799@www.vccfresno.org
SUMMARY:Connect Week
DESCRIPTION:We are better together! Our spring Connect Week is August 6th-August 13th. Connect Week is an opportunity to join in the growing community at Valley by way of our Connect Crews (small groups). Stop by the tables in the courtyard or check out the crews available on our Connect Crew Webpage by clicking “Find a Crew”. Crews consist of bible studies\, classes or interest crews and last from the end of September through the end of November.
URL:https://www.vccfresno.org/event/connect-week-24/
LOCATION:CA
CATEGORIES:Life Groups
ATTACH;FMTTYPE=image/png:https://www.vccfresno.org/wp-content/uploads/2023/01/Connect-Week-Banners-1.png
END:VEVENT
BEGIN:VEVENT
DTSTART;VALUE=DATE:20230812
DTEND;VALUE=DATE:20230813
DTSTAMP:20260425T130759
CREATED:20230123T182513Z
LAST-MODIFIED:20230123T182513Z
UID:6104-1691798400-1691884799@www.vccfresno.org
SUMMARY:Connect Week
DESCRIPTION:We are better together! Our spring Connect Week is August 6th-August 13th. Connect Week is an opportunity to join in the growing community at Valley by way of our Connect Crews (small groups). Stop by the tables in the courtyard or check out the crews available on our Connect Crew Webpage by clicking “Find a Crew”. Crews consist of bible studies\, classes or interest crews and last from the end of September through the end of November.
URL:https://www.vccfresno.org/event/connect-week-23/
LOCATION:CA
CATEGORIES:Life Groups
ATTACH;FMTTYPE=image/png:https://www.vccfresno.org/wp-content/uploads/2023/01/Connect-Week-Banners-1.png
END:VEVENT
BEGIN:VEVENT
DTSTART;VALUE=DATE:20230811
DTEND;VALUE=DATE:20230812
DTSTAMP:20260425T130759
CREATED:20230123T182327Z
LAST-MODIFIED:20230123T182442Z
UID:6098-1691712000-1691798399@www.vccfresno.org
SUMMARY:Connect Week
DESCRIPTION:We are better together! Our spring Connect Week is August 6th-August 13th. Connect Week is an opportunity to join in the growing community at Valley by way of our Connect Crews (small groups). Stop by the tables in the courtyard or check out the crews available on our Connect Crew Webpage by clicking “Find a Crew”. Crews consist of bible studies\, classes or interest crews and last from the end of September through the end of November.
URL:https://www.vccfresno.org/event/connect-crew/
LOCATION:CA
CATEGORIES:Life Groups
ATTACH;FMTTYPE=image/png:https://www.vccfresno.org/wp-content/uploads/2023/01/Connect-Week-Banners-1.png
END:VEVENT
BEGIN:VEVENT
DTSTART;VALUE=DATE:20230810
DTEND;VALUE=DATE:20230811
DTSTAMP:20260425T130759
CREATED:20230123T182208Z
LAST-MODIFIED:20230123T182422Z
UID:6096-1691625600-1691711999@www.vccfresno.org
SUMMARY:Connect Week
DESCRIPTION:We are better together! Our spring Connect Week is August 6th-August 13th. Connect Week is an opportunity to join in the growing community at Valley by way of our Connect Crews (small groups). Stop by the tables in the courtyard or check out the crews available on our Connect Crew Webpage by clicking “Find a Crew”. Crews consist of bible studies\, classes or interest crews and last from the end of September through the end of November.
URL:https://www.vccfresno.org/event/connect-crews/
LOCATION:CA
CATEGORIES:Life Groups
ATTACH;FMTTYPE=image/png:https://www.vccfresno.org/wp-content/uploads/2023/01/Connect-Week-Banners-1.png
END:VEVENT
BEGIN:VEVENT
DTSTART;VALUE=DATE:20230809
DTEND;VALUE=DATE:20230810
DTSTAMP:20260425T130759
CREATED:20230123T182127Z
LAST-MODIFIED:20230123T182140Z
UID:6094-1691539200-1691625599@www.vccfresno.org
SUMMARY:Connect Week
DESCRIPTION:We are better together! Our spring Connect Week is August 6th-August 13th. Connect Week is an opportunity to join in the growing community at Valley by way of our Connect Crews (small groups). Stop by the tables in the courtyard or check out the crews available on our Connect Crew Webpage by clicking “Find a Crew”. Crews consist of bible studies\, classes or interest crews and last from the end of September through the end of November.
URL:https://www.vccfresno.org/event/connect-week-22/
LOCATION:CA
CATEGORIES:Life Groups
ATTACH;FMTTYPE=image/png:https://www.vccfresno.org/wp-content/uploads/2023/01/Connect-Week-Banners-1.png
END:VEVENT
BEGIN:VEVENT
DTSTART;VALUE=DATE:20230808
DTEND;VALUE=DATE:20230809
DTSTAMP:20260425T130759
CREATED:20230123T181958Z
LAST-MODIFIED:20230123T181959Z
UID:6092-1691452800-1691539199@www.vccfresno.org
SUMMARY:Connect Week
DESCRIPTION:We are better together! Our spring Connect Week is August 6th-August 13th. Connect Week is an opportunity to join in the growing community at Valley by way of our Connect Crews (small groups). Stop by the tables in the courtyard or check out the crews available on our Connect Crew Webpage by clicking “Find a Crew”. Crews consist of bible studies\, classes or interest crews and last from the end of September through the end of November.
URL:https://www.vccfresno.org/event/connect-week-21/
LOCATION:CA
CATEGORIES:Life Groups
ATTACH;FMTTYPE=image/png:https://www.vccfresno.org/wp-content/uploads/2023/01/Connect-Week-Banners-1.png
END:VEVENT
BEGIN:VEVENT
DTSTART;VALUE=DATE:20230807
DTEND;VALUE=DATE:20230808
DTSTAMP:20260425T130759
CREATED:20230123T181921Z
LAST-MODIFIED:20230123T181921Z
UID:6090-1691366400-1691452799@www.vccfresno.org
SUMMARY:Connect Week
DESCRIPTION:We are better together! Our spring Connect Week is August 6th-August 13th. Connect Week is an opportunity to join in the growing community at Valley by way of our Connect Crews (small groups). Stop by the tables in the courtyard or check out the crews available on our Connect Crew Webpage by clicking “Find a Crew”. Crews consist of bible studies\, classes or interest crews and last from the end of September through the end of November.
URL:https://www.vccfresno.org/event/connect-week-20/
LOCATION:CA
CATEGORIES:Life Groups
ATTACH;FMTTYPE=image/png:https://www.vccfresno.org/wp-content/uploads/2023/01/Connect-Week-Banners-1.png
END:VEVENT
BEGIN:VEVENT
DTSTART;VALUE=DATE:20230806
DTEND;VALUE=DATE:20230807
DTSTAMP:20260425T130759
CREATED:20230123T181844Z
LAST-MODIFIED:20230123T181845Z
UID:6088-1691280000-1691366399@www.vccfresno.org
SUMMARY:Connect Week
DESCRIPTION:We are better together! Our spring Connect Week is August 6th-August 13th. Connect Week is an opportunity to join in the growing community at Valley by way of our Connect Crews (small groups). Stop by the tables in the courtyard or check out the crews available on our Connect Crew Webpage by clicking “Find a Crew”. Crews consist of bible studies\, classes or interest crews and last from the end of September through the end of November.
URL:https://www.vccfresno.org/event/connect-week-19/
LOCATION:CA
CATEGORIES:Life Groups
ATTACH;FMTTYPE=image/png:https://www.vccfresno.org/wp-content/uploads/2023/01/Connect-Week-Banners-1.png
END:VEVENT
BEGIN:VEVENT
DTSTART;VALUE=DATE:20230212
DTEND;VALUE=DATE:20230213
DTSTAMP:20260425T130759
CREATED:20230123T181554Z
LAST-MODIFIED:20230123T183134Z
UID:6086-1676160000-1676246399@www.vccfresno.org
SUMMARY:Connect Week
DESCRIPTION:We are better together! Our spring Connect Week is February 5th-February 12th. Connect Week is an opportunity to join in the growing community at Valley by way of our Connect Crews (small groups). Stop by the tables in the courtyard or check out the crews available on our Connect Crew Webpage by clicking “Find a Crew”. Crews consist of bible studies\, classes or interest crews and last from the end of February through May.
URL:https://www.vccfresno.org/event/connect-week-18/
LOCATION:CA
CATEGORIES:Life Groups
ATTACH;FMTTYPE=image/png:https://www.vccfresno.org/wp-content/uploads/2023/01/Connect-Week-Banners.png
END:VEVENT
BEGIN:VEVENT
DTSTART;VALUE=DATE:20230211
DTEND;VALUE=DATE:20230212
DTSTAMP:20260425T130759
CREATED:20230123T181523Z
LAST-MODIFIED:20230123T183051Z
UID:6084-1676073600-1676159999@www.vccfresno.org
SUMMARY:Connect Week
DESCRIPTION:We are better together! Our spring Connect Week is February 5th-February 12th. Connect Week is an opportunity to join in the growing community at Valley by way of our Connect Crews (small groups). Stop by the tables in the courtyard or check out the crews available on our Connect Crew Webpage by clicking “Find a Crew”. Crews consist of bible studies\, classes or interest crews and last from the end of February through May.
URL:https://www.vccfresno.org/event/connect-week-17/
LOCATION:CA
CATEGORIES:Life Groups
ATTACH;FMTTYPE=image/png:https://www.vccfresno.org/wp-content/uploads/2023/01/Connect-Week-Banners.png
END:VEVENT
BEGIN:VEVENT
DTSTART;VALUE=DATE:20230210
DTEND;VALUE=DATE:20230211
DTSTAMP:20260425T130759
CREATED:20230123T181309Z
LAST-MODIFIED:20230123T183013Z
UID:6082-1675987200-1676073599@www.vccfresno.org
SUMMARY:Connect Week
DESCRIPTION:We are better together! Our spring Connect Week is February 5th-February 12th. Connect Week is an opportunity to join in the growing community at Valley by way of our Connect Crews (small groups). Stop by the tables in the courtyard or check out the crews available on our Connect Crew Webpage by clicking “Find a Crew”. Crews consist of bible studies\, classes or interest crews and last from the end of February through May.
URL:https://www.vccfresno.org/event/connect-week-16/
LOCATION:CA
CATEGORIES:Life Groups
ATTACH;FMTTYPE=image/png:https://www.vccfresno.org/wp-content/uploads/2023/01/Connect-Week-Banners.png
END:VEVENT
BEGIN:VEVENT
DTSTART;VALUE=DATE:20230209
DTEND;VALUE=DATE:20230210
DTSTAMP:20260425T130759
CREATED:20230123T181235Z
LAST-MODIFIED:20230123T182901Z
UID:6080-1675900800-1675987199@www.vccfresno.org
SUMMARY:Connect Week
DESCRIPTION:We are better together! Our spring Connect Week is February 5th-February 12th. Connect Week is an opportunity to join in the growing community at Valley by way of our Connect Crews (small groups). Stop by the tables in the courtyard or check out the crews available on our Connect Crew Webpage by clicking “Find a Crew”. Crews consist of bible studies\, classes or interest crews and last from the end of February through May.
URL:https://www.vccfresno.org/event/connect-week-15/
LOCATION:CA
CATEGORIES:Life Groups
ATTACH;FMTTYPE=image/png:https://www.vccfresno.org/wp-content/uploads/2023/01/Connect-Week-Banners.png
END:VEVENT
BEGIN:VEVENT
DTSTART;VALUE=DATE:20230208
DTEND;VALUE=DATE:20230209
DTSTAMP:20260425T130759
CREATED:20230123T181113Z
LAST-MODIFIED:20230123T182838Z
UID:6078-1675814400-1675900799@www.vccfresno.org
SUMMARY:Connect Week
DESCRIPTION:We are better together! Our spring Connect Week is February 5th-February 12th. Connect Week is an opportunity to join in the growing community at Valley by way of our Connect Crews (small groups). Stop by the tables in the courtyard or check out the crews available on our Connect Crew Webpage by clicking “Find a Crew”. Crews consist of bible studies\, classes or interest crews and last from the end of February through May.
URL:https://www.vccfresno.org/event/connect-week-14/
LOCATION:CA
CATEGORIES:Life Groups
ATTACH;FMTTYPE=image/png:https://www.vccfresno.org/wp-content/uploads/2023/01/Connect-Week-Banners.png
END:VEVENT
BEGIN:VEVENT
DTSTART;VALUE=DATE:20230207
DTEND;VALUE=DATE:20230208
DTSTAMP:20260425T130759
CREATED:20230123T181034Z
LAST-MODIFIED:20230123T182810Z
UID:6076-1675728000-1675814399@www.vccfresno.org
SUMMARY:Connect Week
DESCRIPTION:We are better together! Our spring Connect Week is February 5th-February 12th. Connect Week is an opportunity to join in the growing community at Valley by way of our Connect Crews (small groups). Stop by the tables in the courtyard or check out the crews available on our Connect Crew Webpage by clicking “Find a Crew”. Crews consist of bible studies\, classes or interest crews and last from the end of February through May.
URL:https://www.vccfresno.org/event/connect-week-13/
LOCATION:CA
CATEGORIES:Life Groups
ATTACH;FMTTYPE=image/png:https://www.vccfresno.org/wp-content/uploads/2023/01/Connect-Week-Banners.png
END:VEVENT
BEGIN:VEVENT
DTSTART;VALUE=DATE:20230206
DTEND;VALUE=DATE:20230207
DTSTAMP:20260425T130759
CREATED:20230123T180950Z
LAST-MODIFIED:20230123T182745Z
UID:6074-1675641600-1675727999@www.vccfresno.org
SUMMARY:Connect Week
DESCRIPTION:We are better together! Our spring Connect Week is February 5th-February 12th. Connect Week is an opportunity to join in the growing community at Valley by way of our Connect Crews (small groups). Stop by the tables in the courtyard or check out the crews available on our Connect Crew Webpage by clicking “Find a Crew”. Crews consist of bible studies\, classes or interest crews and last from the end of February through May.
URL:https://www.vccfresno.org/event/connect-week-12/
LOCATION:CA
CATEGORIES:Life Groups
ATTACH;FMTTYPE=image/png:https://www.vccfresno.org/wp-content/uploads/2023/01/Connect-Week-Banners.png
END:VEVENT
BEGIN:VEVENT
DTSTART;VALUE=DATE:20230205
DTEND;VALUE=DATE:20230206
DTSTAMP:20260425T130759
CREATED:20230123T180904Z
LAST-MODIFIED:20230123T182711Z
UID:6068-1675555200-1675641599@www.vccfresno.org
SUMMARY:Connect Week
DESCRIPTION:We are better together! Our spring Connect Week is February 5th-February 12th. Connect Week is an opportunity to join in the growing community at Valley by way of our Connect Crews (small groups). Stop by the tables in the courtyard or check out the crews available on our Connect Crew Webpage by clicking “Find a Crew”. Crews consist of bible studies\, classes or interest crews and last from the end of February through May.
URL:https://www.vccfresno.org/event/connect-week-11/
LOCATION:CA
CATEGORIES:Life Groups
ATTACH;FMTTYPE=image/png:https://www.vccfresno.org/wp-content/uploads/2023/01/Connect-Week-Banners.png
END:VEVENT
BEGIN:VEVENT
DTSTART;VALUE=DATE:20220828
DTEND;VALUE=DATE:20220829
DTSTAMP:20260425T130759
CREATED:20220207T015137Z
LAST-MODIFIED:20220207T015137Z
UID:4560-1661644800-1661731199@www.vccfresno.org
SUMMARY:Connect Week
DESCRIPTION:We are better together! Our fall semester of Connect Crews are kicking off in September and we would love for you to be a part of the growing community at Valley Christian Center. You can check out the groups available this semester or sign up for a Connect Crew beginning August 21st in person or online at vccfresno.org/connect-crews/ If you are interested in starting a Connect Crew you can fill out a request at vccfresno.org/connect-crews/ and our Connections Pastor will reach out to you.
URL:https://www.vccfresno.org/event/connect-week-10/
LOCATION:CA
CATEGORIES:Life Groups
ATTACH;FMTTYPE=image/png:https://www.vccfresno.org/wp-content/uploads/2022/02/General_No-Pic-2.png
END:VEVENT
BEGIN:VEVENT
DTSTART;VALUE=DATE:20220827
DTEND;VALUE=DATE:20220828
DTSTAMP:20260425T130759
CREATED:20220207T015054Z
LAST-MODIFIED:20220207T015055Z
UID:4558-1661558400-1661644799@www.vccfresno.org
SUMMARY:Connect Week
DESCRIPTION:We are better together! Our fall semester of Connect Crews are kicking off in September and we would love for you to be a part of the growing community at Valley Christian Center. You can check out the groups available this semester or sign up for a Connect Crew beginning August 21st in person or online at vccfresno.org/connect-crews/ If you are interested in starting a Connect Crew you can fill out a request at vccfresno.org/connect-crews/ and our Connections Pastor will reach out to you.
URL:https://www.vccfresno.org/event/connect-week-9/
LOCATION:CA
CATEGORIES:Life Groups
ATTACH;FMTTYPE=image/png:https://www.vccfresno.org/wp-content/uploads/2022/02/General_No-Pic-2.png
END:VEVENT
BEGIN:VEVENT
DTSTART;VALUE=DATE:20220826
DTEND;VALUE=DATE:20220827
DTSTAMP:20260425T130759
CREATED:20220207T015014Z
LAST-MODIFIED:20220207T015014Z
UID:4555-1661472000-1661558399@www.vccfresno.org
SUMMARY:Connect Week
DESCRIPTION:We are better together! Our fall semester of Connect Crews are kicking off in September and we would love for you to be a part of the growing community at Valley Christian Center. You can check out the groups available this semester or sign up for a Connect Crew beginning August 21st in person or online at vccfresno.org/connect-crews/ If you are interested in starting a Connect Crew you can fill out a request at vccfresno.org/connect-crews/ and our Connections Pastor will reach out to you.
URL:https://www.vccfresno.org/event/connect-week-8/
LOCATION:CA
CATEGORIES:Life Groups
ATTACH;FMTTYPE=image/png:https://www.vccfresno.org/wp-content/uploads/2022/02/General_No-Pic-2.png
END:VEVENT
BEGIN:VEVENT
DTSTART;VALUE=DATE:20220825
DTEND;VALUE=DATE:20220826
DTSTAMP:20260425T130759
CREATED:20220207T014932Z
LAST-MODIFIED:20220207T014933Z
UID:4553-1661385600-1661471999@www.vccfresno.org
SUMMARY:Connect Week
DESCRIPTION:We are better together! Our fall semester of Connect Crews are kicking off in September and we would love for you to be a part of the growing community at Valley Christian Center. You can check out the groups available this semester or sign up for a Connect Crew beginning August 21st in person or online at vccfresno.org/connect-crews/ If you are interested in starting a Connect Crew you can fill out a request at vccfresno.org/connect-crews/ and our Connections Pastor will reach out to you.
URL:https://www.vccfresno.org/event/connect-week-7/
LOCATION:CA
CATEGORIES:Life Groups
ATTACH;FMTTYPE=image/png:https://www.vccfresno.org/wp-content/uploads/2022/02/General_No-Pic-2.png
END:VEVENT
BEGIN:VEVENT
DTSTART;VALUE=DATE:20220824
DTEND;VALUE=DATE:20220825
DTSTAMP:20260425T130759
CREATED:20220207T014647Z
LAST-MODIFIED:20220207T014647Z
UID:4551-1661299200-1661385599@www.vccfresno.org
SUMMARY:Connect Week
DESCRIPTION:We are better together! Our fall semester of Connect Crews are kicking off in September and we would love for you to be a part of the growing community at Valley Christian Center. You can check out the groups available this semester or sign up for a Connect Crew beginning August 21st in person or online at vccfresno.org/connect-crews/ If you are interested in starting a Connect Crew you can fill out a request at vccfresno.org/connect-crews/ and our Connections Pastor will reach out to you.
URL:https://www.vccfresno.org/event/connect-week-6/
LOCATION:CA
CATEGORIES:Life Groups
ATTACH;FMTTYPE=image/png:https://www.vccfresno.org/wp-content/uploads/2022/02/General_No-Pic-2.png
END:VEVENT
BEGIN:VEVENT
DTSTART;VALUE=DATE:20220823
DTEND;VALUE=DATE:20220824
DTSTAMP:20260425T130759
CREATED:20220207T014553Z
LAST-MODIFIED:20220207T014554Z
UID:4549-1661212800-1661299199@www.vccfresno.org
SUMMARY:Connect Week
DESCRIPTION:We are better together! Our fall semester of Connect Crews are kicking off in September and we would love for you to be a part of the growing community at Valley Christian Center. You can check out the groups available this semester or sign up for a Connect Crew beginning August 21st in person or online at vccfresno.org/connect-crews/ If you are interested in starting a Connect Crew you can fill out a request at vccfresno.org/connect-crews/ and our Connections Pastor will reach out to you.
URL:https://www.vccfresno.org/event/connect-week-5/
LOCATION:CA
CATEGORIES:Life Groups
ATTACH;FMTTYPE=image/png:https://www.vccfresno.org/wp-content/uploads/2022/02/General_No-Pic-2.png
END:VEVENT
BEGIN:VEVENT
DTSTART;VALUE=DATE:20220822
DTEND;VALUE=DATE:20220823
DTSTAMP:20260425T130759
CREATED:20220207T014516Z
LAST-MODIFIED:20220207T014516Z
UID:4547-1661126400-1661212799@www.vccfresno.org
SUMMARY:Connect Week
DESCRIPTION:We are better together! Our fall semester of Connect Crews are kicking off in September and we would love for you to be a part of the growing community at Valley Christian Center. You can check out the groups available this semester or sign up for a Connect Crew beginning August 21st in person or online at vccfresno.org/connect-crews/ If you are interested in starting a Connect Crew you can fill out a request at vccfresno.org/connect-crews/ and our Connections Pastor will reach out to you.
URL:https://www.vccfresno.org/event/connect-week-4/
LOCATION:CA
CATEGORIES:Life Groups
ATTACH;FMTTYPE=image/png:https://www.vccfresno.org/wp-content/uploads/2022/02/General_No-Pic-2.png
END:VEVENT
BEGIN:VEVENT
DTSTART;VALUE=DATE:20220821
DTEND;VALUE=DATE:20220822
DTSTAMP:20260425T130759
CREATED:20220207T014432Z
LAST-MODIFIED:20220207T014432Z
UID:4543-1661040000-1661126399@www.vccfresno.org
SUMMARY:Connect Week
DESCRIPTION:We are better together! Our fall semester of Connect Crews are kicking off in September and we would love for you to be a part of the growing community at Valley Christian Center. You can check out the groups available this semester or sign up for a Connect Crew beginning August 21st in person or online at vccfresno.org/connect-crews/ If you are interested in starting a Connect Crew you can fill out a request at vccfresno.org/connect-crews/ and our Connections Pastor will reach out to you.
URL:https://www.vccfresno.org/event/connect-week-3/
LOCATION:CA
CATEGORIES:Life Groups
ATTACH;FMTTYPE=image/png:https://www.vccfresno.org/wp-content/uploads/2022/02/General_No-Pic-2.png
END:VEVENT
END:VCALENDAR