BEGIN:VCALENDAR
VERSION:2.0
PRODID:-//Valley Christian Center - ECPv6.13.2.1//NONSGML v1.0//EN
CALSCALE:GREGORIAN
METHOD:PUBLISH
X-WR-CALNAME:Valley Christian Center
X-ORIGINAL-URL:https://www.vccfresno.org
X-WR-CALDESC:Events for Valley Christian Center
REFRESH-INTERVAL;VALUE=DURATION:PT1H
X-Robots-Tag:noindex
X-PUBLISHED-TTL:PT1H
BEGIN:VTIMEZONE
TZID:America/Los_Angeles
BEGIN:DAYLIGHT
TZOFFSETFROM:-0800
TZOFFSETTO:-0700
TZNAME:PDT
DTSTART:20240310T100000
END:DAYLIGHT
BEGIN:STANDARD
TZOFFSETFROM:-0700
TZOFFSETTO:-0800
TZNAME:PST
DTSTART:20241103T090000
END:STANDARD
END:VTIMEZONE
BEGIN:VEVENT
DTSTART;TZID=America/Los_Angeles:20240625T183000
DTEND;TZID=America/Los_Angeles:20240625T200000
DTSTAMP:20260425T082225
CREATED:20240501T204746Z
LAST-MODIFIED:20240501T204746Z
UID:7217-1719340200-1719345600@www.vccfresno.org
SUMMARY:Kingdom Marriage Connect Crew
DESCRIPTION:A Kingdom-minded couple allows the Lord Jesus Christ to rule and reign in every area of their lives…especially with one another. Join us as we discover ways to… Be victorious over conflict\, Grow closer to God and to each other\, Maintain the spark of intimacy\, Impact the world around you as a couple. \nThe journey begins Tuesday\, June 11th\, from 6:30 to 8:00pm. Be sure to sign you and your partner up here online\, Or in the Courtyard after Sunday service on June 2nd or 9th. \nSIGN UP HERE!
URL:https://www.vccfresno.org/event/kingdom-marriage-connect-crew-3/
CATEGORIES:Life Groups,Marriage
ATTACH;FMTTYPE=image/png:https://www.vccfresno.org/wp-content/uploads/2024/04/Kingdom-Marriage-Square.png
END:VEVENT
END:VCALENDAR