BEGIN:VCALENDAR
VERSION:2.0
PRODID:-//Valley Christian Center - ECPv6.13.2.1//NONSGML v1.0//EN
CALSCALE:GREGORIAN
METHOD:PUBLISH
X-WR-CALNAME:Valley Christian Center
X-ORIGINAL-URL:https://www.vccfresno.org
X-WR-CALDESC:Events for Valley Christian Center
REFRESH-INTERVAL;VALUE=DURATION:PT1H
X-Robots-Tag:noindex
X-PUBLISHED-TTL:PT1H
BEGIN:VTIMEZONE
TZID:America/Los_Angeles
BEGIN:DAYLIGHT
TZOFFSETFROM:-0800
TZOFFSETTO:-0700
TZNAME:PDT
DTSTART:20220313T100000
END:DAYLIGHT
BEGIN:STANDARD
TZOFFSETFROM:-0700
TZOFFSETTO:-0800
TZNAME:PST
DTSTART:20221106T090000
END:STANDARD
BEGIN:DAYLIGHT
TZOFFSETFROM:-0800
TZOFFSETTO:-0700
TZNAME:PDT
DTSTART:20230312T100000
END:DAYLIGHT
BEGIN:STANDARD
TZOFFSETFROM:-0700
TZOFFSETTO:-0800
TZNAME:PST
DTSTART:20231105T090000
END:STANDARD
END:VTIMEZONE
BEGIN:VEVENT
DTSTART;TZID=America/Los_Angeles:20231029T113000
DTEND;TZID=America/Los_Angeles:20231029T123000
DTSTAMP:20260423T122112
CREATED:20230114T173924Z
LAST-MODIFIED:20230120T000549Z
UID:6031-1698579000-1698582600@www.vccfresno.org
SUMMARY:Meet & Greet
DESCRIPTION:If you are new to Valley our team would love to meet you! Join us on any of the following Sunday’s February 26th\, April 30th\, July 30th\, or October 29th right after service for a Meet & Greet in the APR. There will be snacks\, refreshments\, and information on who we are at Valley and how you can get connected. We look forward to meeting you! Click the link to reserve your spot.\nSIGN UP HERE!
URL:https://www.vccfresno.org/event/meet-greet-8/
LOCATION:CA
CATEGORIES:Community,Meet
ATTACH;FMTTYPE=image/png:https://www.vccfresno.org/wp-content/uploads/2023/01/2023-Meet-Greet-Invitation-SQPC-.png
END:VEVENT
BEGIN:VEVENT
DTSTART;TZID=America/Los_Angeles:20230730T113000
DTEND;TZID=America/Los_Angeles:20230730T123000
DTSTAMP:20260423T122112
CREATED:20230114T173829Z
LAST-MODIFIED:20230120T000554Z
UID:6028-1690716600-1690720200@www.vccfresno.org
SUMMARY:Meet & Greet
DESCRIPTION:If you are new to Valley our team would love to meet you! Join us on any of the following Sunday’s February 26th\, April 30th\, July 30th\, or October 29th right after service for a Meet & Greet in the APR. There will be snacks\, refreshments\, and information on who we are at Valley and how you can get connected. We look forward to meeting you! Click the link to reserve your spot.\nSIGN UP HERE!
URL:https://www.vccfresno.org/event/meet-greet-7/
LOCATION:CA
CATEGORIES:Community,Meet
ATTACH;FMTTYPE=image/png:https://www.vccfresno.org/wp-content/uploads/2023/01/2023-Meet-Greet-Invitation-SQPC-.png
END:VEVENT
BEGIN:VEVENT
DTSTART;TZID=America/Los_Angeles:20230430T113000
DTEND;TZID=America/Los_Angeles:20230430T123000
DTSTAMP:20260423T122112
CREATED:20230114T173733Z
LAST-MODIFIED:20230120T000558Z
UID:6026-1682854200-1682857800@www.vccfresno.org
SUMMARY:Meet & Greet
DESCRIPTION:If you are new to Valley our team would love to meet you! Join us on any of the following Sunday’s February 26th\, April 30th\, July 30th\, or October 29th right after service for a Meet & Greet in the APR. There will be snacks\, refreshments\, and information on who we are at Valley and how you can get connected. We look forward to meeting you! Click the link to reserve your spot.\nSIGN UP HERE!
URL:https://www.vccfresno.org/event/meet-greet-6/
LOCATION:CA
CATEGORIES:Community,Meet
ATTACH;FMTTYPE=image/png:https://www.vccfresno.org/wp-content/uploads/2023/01/2023-Meet-Greet-Invitation-SQPC-.png
END:VEVENT
BEGIN:VEVENT
DTSTART;TZID=America/Los_Angeles:20230226T113000
DTEND;TZID=America/Los_Angeles:20230226T123000
DTSTAMP:20260423T122112
CREATED:20230114T173446Z
LAST-MODIFIED:20230120T000602Z
UID:6021-1677411000-1677414600@www.vccfresno.org
SUMMARY:Meet & Greet
DESCRIPTION:If you are new to Valley our team would love to meet you! Join us on any of the following Sunday’s February 26th\, April 30th\, July 30th\, or October 29th right after service for a Meet &amp; Greet in the APR. There will be snacks\, refreshments\, and information on who we are at Valley and how you can get connected. We look forward to meeting you! Click the link to reserve your spot.\nSIGN UP HERE!
URL:https://www.vccfresno.org/event/meet-greet-5/
LOCATION:CA
CATEGORIES:Community,Meet
ATTACH;FMTTYPE=image/png:https://www.vccfresno.org/wp-content/uploads/2023/01/2023-Meet-Greet-Invitation-SQPC-.png
END:VEVENT
BEGIN:VEVENT
DTSTART;TZID=America/Los_Angeles:20221030T111500
DTEND;TZID=America/Los_Angeles:20221030T120000
DTSTAMP:20260423T122112
CREATED:20220130T144959Z
LAST-MODIFIED:20220525T003917Z
UID:4517-1667128500-1667131200@www.vccfresno.org
SUMMARY:Meet & Greet
DESCRIPTION:If you are new to Valley our team would love to meet you! Join us on Sunday\, October 30th right after service for a Meet & Greet in the APR with snacks\, refreshments\, who we are at Valley and how you can get connected. We look forward to meeting you! Click the link to reserve your spot. \nSIGN UP HERE!
URL:https://www.vccfresno.org/event/meet-greet-4/
LOCATION:CA
CATEGORIES:Meet
ATTACH;FMTTYPE=image/png:https://www.vccfresno.org/wp-content/uploads/2022/01/4.png
END:VEVENT
BEGIN:VEVENT
DTSTART;TZID=America/Los_Angeles:20220529T111500
DTEND;TZID=America/Los_Angeles:20220529T120000
DTSTAMP:20260423T122112
CREATED:20220130T144904Z
LAST-MODIFIED:20220525T003915Z
UID:4511-1653822900-1653825600@www.vccfresno.org
SUMMARY:Meet & Greet
DESCRIPTION:If you are new to Valley our team would love to meet you! Join us on Sunday\, May 29th right after service for a Meet & Greet in the APR with snacks\, refreshments\, who we are at Valley and how you can get connected. We look forward to meeting you! Click the link to reserve your spot. \n  \nSIGN UP HERE!
URL:https://www.vccfresno.org/event/meet-greet-3/
LOCATION:CA
CATEGORIES:Meet
ATTACH;FMTTYPE=image/png:https://www.vccfresno.org/wp-content/uploads/2022/01/3-1.png
END:VEVENT
END:VCALENDAR