BEGIN:VCALENDAR
VERSION:2.0
PRODID:-//Valley Christian Center - ECPv6.13.2.1//NONSGML v1.0//EN
CALSCALE:GREGORIAN
METHOD:PUBLISH
X-ORIGINAL-URL:https://www.vccfresno.org
X-WR-CALDESC:Events for Valley Christian Center
REFRESH-INTERVAL;VALUE=DURATION:PT1H
X-Robots-Tag:noindex
X-PUBLISHED-TTL:PT1H
BEGIN:VTIMEZONE
TZID:America/Los_Angeles
BEGIN:DAYLIGHT
TZOFFSETFROM:-0800
TZOFFSETTO:-0700
TZNAME:PDT
DTSTART:20240310T100000
END:DAYLIGHT
BEGIN:STANDARD
TZOFFSETFROM:-0700
TZOFFSETTO:-0800
TZNAME:PST
DTSTART:20241103T090000
END:STANDARD
END:VTIMEZONE
BEGIN:VEVENT
DTSTART;TZID=America/Los_Angeles:20240817T083000
DTEND;TZID=America/Los_Angeles:20240817T100000
DTSTAMP:20260425T045457
CREATED:20240710T204929Z
LAST-MODIFIED:20240710T204929Z
UID:7538-1723883400-1723888800@www.vccfresno.org
SUMMARY:Men's Breakfast
DESCRIPTION:Calling all Men! Come join us on August 17th in the All Purpose Room from 8:30am to 10:00am for breakfast and the Word as we prepare to kick off our fall season with Iron Men Ministry. Cost is $10.00 per person. Register online through August 14th. \nSIGN UP HERE!
URL:https://www.vccfresno.org/event/mens-breakfast-3/
LOCATION:Valley Christian Center\, 4649 E. Shields Ave\, Fresno\, CA\, 93726\, United States
CATEGORIES:Men
ATTACH;FMTTYPE=image/png:https://www.vccfresno.org/wp-content/uploads/2024/07/8172024-Mens-Breakfast-SQ.png
END:VEVENT
END:VCALENDAR