BEGIN:VCALENDAR
VERSION:2.0
PRODID:-//Valley Christian Center - ECPv6.13.2.1//NONSGML v1.0//EN
CALSCALE:GREGORIAN
METHOD:PUBLISH
X-WR-CALNAME:Valley Christian Center
X-ORIGINAL-URL:https://www.vccfresno.org
X-WR-CALDESC:Events for Valley Christian Center
REFRESH-INTERVAL;VALUE=DURATION:PT1H
X-Robots-Tag:noindex
X-PUBLISHED-TTL:PT1H
BEGIN:VTIMEZONE
TZID:America/Los_Angeles
BEGIN:DAYLIGHT
TZOFFSETFROM:-0800
TZOFFSETTO:-0700
TZNAME:PDT
DTSTART:20220313T100000
END:DAYLIGHT
BEGIN:STANDARD
TZOFFSETFROM:-0700
TZOFFSETTO:-0800
TZNAME:PST
DTSTART:20221106T090000
END:STANDARD
END:VTIMEZONE
BEGIN:VEVENT
DTSTART;TZID=America/Los_Angeles:20221220T080000
DTEND;TZID=America/Los_Angeles:20221220T170000
DTSTAMP:20260423T184809
CREATED:20220221T205758Z
LAST-MODIFIED:20220226T002047Z
UID:4721-1671523200-1671555600@www.vccfresno.org
SUMMARY:Men’s Power Breakfast
DESCRIPTION:Men’s Power Breakfast\nEvery Tuesday from 7:00-8:00am\nValley Christian Center – APR\nEnjoy a breakfast burrito while we dive into to God’s Word together.\nNo registration needed\, just show up.
URL:https://www.vccfresno.org/event/mens-power-breakfast-18/
LOCATION:CA
CATEGORIES:Men
ATTACH;FMTTYPE=image/png:https://www.vccfresno.org/wp-content/uploads/2022/02/MENS-POWER-BREAKFAST-SQ-1.png
END:VEVENT
BEGIN:VEVENT
DTSTART;TZID=America/Los_Angeles:20221213T070000
DTEND;TZID=America/Los_Angeles:20221213T080000
DTSTAMP:20260423T184809
CREATED:20220221T205326Z
LAST-MODIFIED:20220226T002221Z
UID:4717-1670914800-1670918400@www.vccfresno.org
SUMMARY:Men's Power Breakfast
DESCRIPTION:Men’s Power Breakfast\nEvery Tuesday from 7:00-8:00am\nValley Christian Center – APR\nEnjoy a breakfast burrito while we dive into to God’s Word together.\nNo registration needed\, just show up.
URL:https://www.vccfresno.org/event/mens-power-breakfast-45/
LOCATION:CA
CATEGORIES:Men
ATTACH;FMTTYPE=image/png:https://www.vccfresno.org/wp-content/uploads/2022/02/MENS-POWER-BREAKFAST-SQ-1.png
END:VEVENT
BEGIN:VEVENT
DTSTART;TZID=America/Los_Angeles:20221206T070000
DTEND;TZID=America/Los_Angeles:20221206T080000
DTSTAMP:20260423T184809
CREATED:20220221T205035Z
LAST-MODIFIED:20220226T002327Z
UID:4714-1670310000-1670313600@www.vccfresno.org
SUMMARY:Men's Power Breakfast
DESCRIPTION:Men’s Power Breakfast\nEvery Tuesday from 7:00-8:00am\nValley Christian Center – APR\nEnjoy a breakfast burrito while we dive into to God’s Word together.\nNo registration needed\, just show up.
URL:https://www.vccfresno.org/event/mens-power-breakfast-44/
LOCATION:CA
CATEGORIES:Men
ATTACH;FMTTYPE=image/png:https://www.vccfresno.org/wp-content/uploads/2022/02/MENS-POWER-BREAKFAST-SQ-1.png
END:VEVENT
BEGIN:VEVENT
DTSTART;TZID=America/Los_Angeles:20221129T070000
DTEND;TZID=America/Los_Angeles:20221129T080000
DTSTAMP:20260423T184809
CREATED:20220221T204954Z
LAST-MODIFIED:20220226T002415Z
UID:4712-1669705200-1669708800@www.vccfresno.org
SUMMARY:Men's Power Breakfast
DESCRIPTION:Men’s Power Breakfast\nEvery Tuesday from 7:00-8:00am\nValley Christian Center – APR\nEnjoy a breakfast burrito while we dive into to God’s Word together.\nNo registration needed\, just show up.
URL:https://www.vccfresno.org/event/mens-power-breakfast-43/
LOCATION:CA
CATEGORIES:Men
ATTACH;FMTTYPE=image/png:https://www.vccfresno.org/wp-content/uploads/2022/02/MENS-POWER-BREAKFAST-SQ-1.png
END:VEVENT
BEGIN:VEVENT
DTSTART;TZID=America/Los_Angeles:20221122T070000
DTEND;TZID=America/Los_Angeles:20221122T080000
DTSTAMP:20260423T184809
CREATED:20220221T204912Z
LAST-MODIFIED:20220226T002646Z
UID:4710-1669100400-1669104000@www.vccfresno.org
SUMMARY:Men's Power Breakfast
DESCRIPTION:Men’s Power Breakfast\nEvery Tuesday from 7:00-8:00am\nValley Christian Center – APR\nEnjoy a breakfast burrito while we dive into to God’s Word together.\nNo registration needed\, just show up.
URL:https://www.vccfresno.org/event/mens-power-breakfast-42/
LOCATION:CA
CATEGORIES:Men
ATTACH;FMTTYPE=image/png:https://www.vccfresno.org/wp-content/uploads/2022/02/MENS-POWER-BREAKFAST-SQ-1.png
END:VEVENT
BEGIN:VEVENT
DTSTART;TZID=America/Los_Angeles:20221115T070000
DTEND;TZID=America/Los_Angeles:20221115T080000
DTSTAMP:20260423T184809
CREATED:20220221T204825Z
LAST-MODIFIED:20220226T002705Z
UID:4708-1668495600-1668499200@www.vccfresno.org
SUMMARY:Men's Power Breakfast
DESCRIPTION:Men’s Power Breakfast\nEvery Tuesday from 7:00-8:00am\nValley Christian Center – APR\nEnjoy a breakfast burrito while we dive into to God’s Word together.\nNo registration needed\, just show up.
URL:https://www.vccfresno.org/event/mens-power-breakfast-41/
LOCATION:CA
CATEGORIES:Men
ATTACH;FMTTYPE=image/png:https://www.vccfresno.org/wp-content/uploads/2022/02/MENS-POWER-BREAKFAST-SQ-1.png
END:VEVENT
BEGIN:VEVENT
DTSTART;TZID=America/Los_Angeles:20221108T070000
DTEND;TZID=America/Los_Angeles:20221108T080000
DTSTAMP:20260423T184809
CREATED:20220221T204719Z
LAST-MODIFIED:20220226T002827Z
UID:4706-1667890800-1667894400@www.vccfresno.org
SUMMARY:Men's Power Breakfast
DESCRIPTION:Men’s Power Breakfast\nEvery Tuesday from 7:00-8:00am\nValley Christian Center – APR\nEnjoy a breakfast burrito while we dive into to God’s Word together.\nNo registration needed\, just show up.
URL:https://www.vccfresno.org/event/mens-power-breakfast-40/
LOCATION:CA
CATEGORIES:Men
ATTACH;FMTTYPE=image/png:https://www.vccfresno.org/wp-content/uploads/2022/02/MENS-POWER-BREAKFAST-SQ-1.png
END:VEVENT
BEGIN:VEVENT
DTSTART;TZID=America/Los_Angeles:20221101T070000
DTEND;TZID=America/Los_Angeles:20221101T080000
DTSTAMP:20260423T184809
CREATED:20220221T204554Z
LAST-MODIFIED:20220226T002910Z
UID:4704-1667286000-1667289600@www.vccfresno.org
SUMMARY:Men's Power Breakfast
DESCRIPTION:Men’s Power Breakfast\nEvery Tuesday from 7:00-8:00am\nValley Christian Center – APR\nEnjoy a breakfast burrito while we dive into to God’s Word together.\nNo registration needed\, just show up.
URL:https://www.vccfresno.org/event/mens-power-breakfast-39/
LOCATION:CA
CATEGORIES:Men
ATTACH;FMTTYPE=image/png:https://www.vccfresno.org/wp-content/uploads/2022/02/MENS-POWER-BREAKFAST-SQ-1.png
END:VEVENT
BEGIN:VEVENT
DTSTART;TZID=America/Los_Angeles:20221025T070000
DTEND;TZID=America/Los_Angeles:20221025T080000
DTSTAMP:20260423T184809
CREATED:20220221T204512Z
LAST-MODIFIED:20220226T002915Z
UID:4702-1666681200-1666684800@www.vccfresno.org
SUMMARY:Men's Power Breakfast
DESCRIPTION:Men’s Power Breakfast\nEvery Tuesday from 7:00-8:00am\nValley Christian Center – APR\nEnjoy a breakfast burrito while we dive into to God’s Word together.\nNo registration needed\, just show up.
URL:https://www.vccfresno.org/event/mens-power-breakfast-38/
LOCATION:CA
CATEGORIES:Men
ATTACH;FMTTYPE=image/png:https://www.vccfresno.org/wp-content/uploads/2022/02/MENS-POWER-BREAKFAST-SQ-1.png
END:VEVENT
BEGIN:VEVENT
DTSTART;TZID=America/Los_Angeles:20221018T070000
DTEND;TZID=America/Los_Angeles:20221018T080000
DTSTAMP:20260423T184809
CREATED:20220221T204434Z
LAST-MODIFIED:20220226T002928Z
UID:4700-1666076400-1666080000@www.vccfresno.org
SUMMARY:Men's Power Breakfast
DESCRIPTION:Men’s Power Breakfast\nEvery Tuesday from 7:00-8:00am\nValley Christian Center – APR\nEnjoy a breakfast burrito while we dive into to God’s Word together.\nNo registration needed\, just show up.
URL:https://www.vccfresno.org/event/mens-power-breakfast-37/
LOCATION:CA
CATEGORIES:Men
ATTACH;FMTTYPE=image/png:https://www.vccfresno.org/wp-content/uploads/2022/02/MENS-POWER-BREAKFAST-SQ-1.png
END:VEVENT
BEGIN:VEVENT
DTSTART;TZID=America/Los_Angeles:20221011T070000
DTEND;TZID=America/Los_Angeles:20221011T080000
DTSTAMP:20260423T184809
CREATED:20220221T204309Z
LAST-MODIFIED:20220226T003110Z
UID:4697-1665471600-1665475200@www.vccfresno.org
SUMMARY:Men's Power Breakfast
DESCRIPTION:Men’s Power Breakfast\nEvery Tuesday from 7:00-8:00am\nValley Christian Center – APR\nEnjoy a breakfast burrito while we dive into to God’s Word together.\nNo registration needed\, just show up.
URL:https://www.vccfresno.org/event/mens-power-breakfast-36/
LOCATION:CA
CATEGORIES:Men
ATTACH;FMTTYPE=image/png:https://www.vccfresno.org/wp-content/uploads/2022/02/MENS-POWER-BREAKFAST-SQ-1.png
END:VEVENT
BEGIN:VEVENT
DTSTART;TZID=America/Los_Angeles:20221004T070000
DTEND;TZID=America/Los_Angeles:20221004T080000
DTSTAMP:20260423T184809
CREATED:20220221T204233Z
LAST-MODIFIED:20220226T003117Z
UID:4695-1664866800-1664870400@www.vccfresno.org
SUMMARY:Men's Power Breakfast
DESCRIPTION:Men’s Power Breakfast\nEvery Tuesday from 7:00-8:00am\nValley Christian Center – APR\nEnjoy a breakfast burrito while we dive into to God’s Word together.\nNo registration needed\, just show up.
URL:https://www.vccfresno.org/event/mens-power-breakfast-35/
LOCATION:CA
CATEGORIES:Men
ATTACH;FMTTYPE=image/png:https://www.vccfresno.org/wp-content/uploads/2022/02/MENS-POWER-BREAKFAST-SQ-1.png
END:VEVENT
BEGIN:VEVENT
DTSTART;TZID=America/Los_Angeles:20220927T080000
DTEND;TZID=America/Los_Angeles:20220927T170000
DTSTAMP:20260423T184809
CREATED:20220221T204046Z
LAST-MODIFIED:20220226T003118Z
UID:4692-1664265600-1664298000@www.vccfresno.org
SUMMARY:Men's Power Breakfast
DESCRIPTION:Men’s Power Breakfast\nEvery Tuesday from 7:00-8:00am\nValley Christian Center – APR\nEnjoy a breakfast burrito while we dive into to God’s Word together.\nNo registration needed\, just show up.
URL:https://www.vccfresno.org/event/mens-power-breakfast-34/
LOCATION:CA
CATEGORIES:Men
ATTACH;FMTTYPE=image/png:https://www.vccfresno.org/wp-content/uploads/2022/02/MENS-POWER-BREAKFAST-SQ-1.png
END:VEVENT
BEGIN:VEVENT
DTSTART;TZID=America/Los_Angeles:20220920T070000
DTEND;TZID=America/Los_Angeles:20220920T080000
DTSTAMP:20260423T184809
CREATED:20220221T203937Z
LAST-MODIFIED:20220226T003252Z
UID:4689-1663657200-1663660800@www.vccfresno.org
SUMMARY:Men's Power Breakfast
DESCRIPTION:Men’s Power Breakfast\nEvery Tuesday from 7:00-8:00am\nValley Christian Center – APR\nEnjoy a breakfast burrito while we dive into to God’s Word together.\nNo registration needed\, just show up.
URL:https://www.vccfresno.org/event/mens-power-breakfast-33/
LOCATION:CA
CATEGORIES:Men
ATTACH;FMTTYPE=image/png:https://www.vccfresno.org/wp-content/uploads/2022/02/MENS-POWER-BREAKFAST-SQ-1.png
END:VEVENT
BEGIN:VEVENT
DTSTART;TZID=America/Los_Angeles:20220916T153000
DTEND;TZID=America/Los_Angeles:20220918T120000
DTSTAMP:20260423T184809
CREATED:20220729T183949Z
LAST-MODIFIED:20220810T193325Z
UID:5783-1663342200-1663502400@www.vccfresno.org
SUMMARY:Iron Men Men’s Retreat 2022
DESCRIPTION:Grab your sleeping bag and toothbrush for a crazy awesome getaway to the mountains! Dr. Dewayne Coleman from The Word Community Church and Pastor Rene M. Charest from Valley Christian Center will be bringing the Word! \n\n\nIt will be a much needed retreat to hang out with other men in the fresh air\, do guy things and encourage each other while worshiping God at Camp Sugar Pine with Iron Men Ministries on September 16th – September 18th! \n\n“As iron sharpens iron\, so one man sharpens another.” Proverbs 27:17\n\nCost is $200.00 per person. Space is limited so register early!\nSIGN UP HERE!
URL:https://www.vccfresno.org/event/iron-men-mens-retreat-2022/
LOCATION:CA
CATEGORIES:Men
ATTACH;FMTTYPE=image/png:https://www.vccfresno.org/wp-content/uploads/2022/07/July-2022-Mens-Retreat-2022-Form-Banner1000x562px-1.png
END:VEVENT
BEGIN:VEVENT
DTSTART;TZID=America/Los_Angeles:20220913T070000
DTEND;TZID=America/Los_Angeles:20220913T080000
DTSTAMP:20260423T184809
CREATED:20220221T203851Z
LAST-MODIFIED:20220226T003254Z
UID:4687-1663052400-1663056000@www.vccfresno.org
SUMMARY:Men's Power Breakfast
DESCRIPTION:Men’s Power Breakfast\nEvery Tuesday from 7:00-8:00am\nValley Christian Center – APR\nEnjoy a breakfast burrito while we dive into to God’s Word together.\nNo registration needed\, just show up.
URL:https://www.vccfresno.org/event/mens-power-breakfast-32/
LOCATION:CA
CATEGORIES:Men
ATTACH;FMTTYPE=image/png:https://www.vccfresno.org/wp-content/uploads/2022/02/MENS-POWER-BREAKFAST-SQ-1.png
END:VEVENT
BEGIN:VEVENT
DTSTART;TZID=America/Los_Angeles:20220906T070000
DTEND;TZID=America/Los_Angeles:20220906T080000
DTSTAMP:20260423T184809
CREATED:20220221T203814Z
LAST-MODIFIED:20220226T003312Z
UID:4685-1662447600-1662451200@www.vccfresno.org
SUMMARY:Men's Power Breakfast
DESCRIPTION:Men’s Power Breakfast\nEvery Tuesday from 7:00-8:00am\nValley Christian Center – APR\nEnjoy a breakfast burrito while we dive into to God’s Word together.\nNo registration needed\, just show up.
URL:https://www.vccfresno.org/event/mens-power-breakfast-31/
LOCATION:CA
CATEGORIES:Men
ATTACH;FMTTYPE=image/png:https://www.vccfresno.org/wp-content/uploads/2022/02/MENS-POWER-BREAKFAST-SQ-1.png
END:VEVENT
BEGIN:VEVENT
DTSTART;TZID=America/Los_Angeles:20220830T070000
DTEND;TZID=America/Los_Angeles:20220830T080000
DTSTAMP:20260423T184809
CREATED:20220221T203733Z
LAST-MODIFIED:20220226T003324Z
UID:4683-1661842800-1661846400@www.vccfresno.org
SUMMARY:Men's Power Breakfast
DESCRIPTION:Men’s Power Breakfast\nEvery Tuesday from 7:00-8:00am\nValley Christian Center – APR\nEnjoy a breakfast burrito while we dive into to God’s Word together.\nNo registration needed\, just show up.
URL:https://www.vccfresno.org/event/mens-power-breakfast-30/
LOCATION:CA
CATEGORIES:Men
ATTACH;FMTTYPE=image/png:https://www.vccfresno.org/wp-content/uploads/2022/02/MENS-POWER-BREAKFAST-SQ-1.png
END:VEVENT
BEGIN:VEVENT
DTSTART;TZID=America/Los_Angeles:20220823T070000
DTEND;TZID=America/Los_Angeles:20220823T080000
DTSTAMP:20260423T184809
CREATED:20220221T203650Z
LAST-MODIFIED:20220226T003337Z
UID:4681-1661238000-1661241600@www.vccfresno.org
SUMMARY:Men's Power Breakfast
DESCRIPTION:Men’s Power Breakfast\nEvery Tuesday from 7:00-8:00am\nValley Christian Center – APR\nEnjoy a breakfast burrito while we dive into to God’s Word together.\nNo registration needed\, just show up.
URL:https://www.vccfresno.org/event/mens-power-breakfast-29/
LOCATION:CA
CATEGORIES:Men
ATTACH;FMTTYPE=image/png:https://www.vccfresno.org/wp-content/uploads/2022/02/MENS-POWER-BREAKFAST-SQ-1.png
END:VEVENT
BEGIN:VEVENT
DTSTART;TZID=America/Los_Angeles:20220816T070000
DTEND;TZID=America/Los_Angeles:20220816T080000
DTSTAMP:20260423T184809
CREATED:20220221T203611Z
LAST-MODIFIED:20220226T003433Z
UID:4679-1660633200-1660636800@www.vccfresno.org
SUMMARY:Men's Power Breakfast
DESCRIPTION:Men’s Power Breakfast\nEvery Tuesday from 7:00-8:00am\nValley Christian Center – APR\nEnjoy a breakfast burrito while we dive into to God’s Word together.\nNo registration needed\, just show up.
URL:https://www.vccfresno.org/event/mens-power-breakfast-28/
LOCATION:CA
CATEGORIES:Men
ATTACH;FMTTYPE=image/png:https://www.vccfresno.org/wp-content/uploads/2022/02/MENS-POWER-BREAKFAST-SQ-1.png
END:VEVENT
BEGIN:VEVENT
DTSTART;TZID=America/Los_Angeles:20220809T070000
DTEND;TZID=America/Los_Angeles:20220809T080000
DTSTAMP:20260423T184809
CREATED:20220221T203532Z
LAST-MODIFIED:20220226T003445Z
UID:4677-1660028400-1660032000@www.vccfresno.org
SUMMARY:Men's Power Breakfast
DESCRIPTION:Men’s Power Breakfast\nEvery Tuesday from 7:00-8:00am\nValley Christian Center – APR\nEnjoy a breakfast burrito while we dive into to God’s Word together.\nNo registration needed\, just show up.
URL:https://www.vccfresno.org/event/mens-power-breakfast-27/
LOCATION:CA
CATEGORIES:Men
ATTACH;FMTTYPE=image/png:https://www.vccfresno.org/wp-content/uploads/2022/02/MENS-POWER-BREAKFAST-SQ-1.png
END:VEVENT
BEGIN:VEVENT
DTSTART;TZID=America/Los_Angeles:20220802T070000
DTEND;TZID=America/Los_Angeles:20220802T080000
DTSTAMP:20260423T184809
CREATED:20220221T203428Z
LAST-MODIFIED:20220226T003458Z
UID:4675-1659423600-1659427200@www.vccfresno.org
SUMMARY:Men's Power Breakfast
DESCRIPTION:Men’s Power Breakfast\nEvery Tuesday from 7:00-8:00am\nValley Christian Center – APR\nEnjoy a breakfast burrito while we dive into to God’s Word together.\nNo registration needed\, just show up.
URL:https://www.vccfresno.org/event/mens-power-breakfast-26/
LOCATION:CA
CATEGORIES:Men
ATTACH;FMTTYPE=image/png:https://www.vccfresno.org/wp-content/uploads/2022/02/MENS-POWER-BREAKFAST-SQ-1.png
END:VEVENT
BEGIN:VEVENT
DTSTART;TZID=America/Los_Angeles:20220726T070000
DTEND;TZID=America/Los_Angeles:20220726T080000
DTSTAMP:20260423T184809
CREATED:20220221T203344Z
LAST-MODIFIED:20220226T003514Z
UID:4672-1658818800-1658822400@www.vccfresno.org
SUMMARY:Men's Power Breakfast
DESCRIPTION:Men’s Power Breakfast\nEvery Tuesday from 7:00-8:00am\nValley Christian Center – APR\nEnjoy a breakfast burrito while we dive into to God’s Word together.\nNo registration needed\, just show up.
URL:https://www.vccfresno.org/event/mens-power-breakfast-25/
LOCATION:CA
CATEGORIES:Men
ATTACH;FMTTYPE=image/png:https://www.vccfresno.org/wp-content/uploads/2022/02/MENS-POWER-BREAKFAST-SQ-1.png
END:VEVENT
BEGIN:VEVENT
DTSTART;TZID=America/Los_Angeles:20220719T070000
DTEND;TZID=America/Los_Angeles:20220719T080000
DTSTAMP:20260423T184809
CREATED:20220221T203224Z
LAST-MODIFIED:20220226T003529Z
UID:4670-1658214000-1658217600@www.vccfresno.org
SUMMARY:Men's Power Breakfast
DESCRIPTION:Men’s Power Breakfast\nEvery Tuesday from 7:00-8:00am\nValley Christian Center – APR\nEnjoy a breakfast burrito while we dive into to God’s Word together.\nNo registration needed\, just show up.
URL:https://www.vccfresno.org/event/mens-power-breakfast-24/
LOCATION:CA
CATEGORIES:Men
ATTACH;FMTTYPE=image/png:https://www.vccfresno.org/wp-content/uploads/2022/02/MENS-POWER-BREAKFAST-SQ-1.png
END:VEVENT
BEGIN:VEVENT
DTSTART;TZID=America/Los_Angeles:20220712T070000
DTEND;TZID=America/Los_Angeles:20220712T080000
DTSTAMP:20260423T184809
CREATED:20220221T203117Z
LAST-MODIFIED:20220226T003911Z
UID:4668-1657609200-1657612800@www.vccfresno.org
SUMMARY:Men's Power Breakfast
DESCRIPTION:Men’s Power Breakfast\nEvery Tuesday from 7:00-8:00am\nValley Christian Center – APR\nEnjoy a breakfast burrito while we dive into to God’s Word together.\nNo registration needed\, just show up.
URL:https://www.vccfresno.org/event/mens-power-breakfast-23/
LOCATION:CA
CATEGORIES:Men
ATTACH;FMTTYPE=image/png:https://www.vccfresno.org/wp-content/uploads/2022/02/MENS-POWER-BREAKFAST-SQ-1.png
END:VEVENT
BEGIN:VEVENT
DTSTART;TZID=America/Los_Angeles:20220705T080000
DTEND;TZID=America/Los_Angeles:20220705T170000
DTSTAMP:20260423T184809
CREATED:20220221T202957Z
LAST-MODIFIED:20220226T003909Z
UID:4666-1657008000-1657040400@www.vccfresno.org
SUMMARY:Men's Power Breakfast
DESCRIPTION:Men’s Power Breakfast\nEvery Tuesday from 7:00-8:00am\nValley Christian Center – APR\nEnjoy a breakfast burrito while we dive into to God’s Word together.\nNo registration needed\, just show up.
URL:https://www.vccfresno.org/event/mens-power-breakfast-22/
LOCATION:CA
CATEGORIES:Men
ATTACH;FMTTYPE=image/png:https://www.vccfresno.org/wp-content/uploads/2022/02/MENS-POWER-BREAKFAST-SQ-1.png
END:VEVENT
BEGIN:VEVENT
DTSTART;TZID=America/Los_Angeles:20220628T070000
DTEND;TZID=America/Los_Angeles:20220628T080000
DTSTAMP:20260423T184809
CREATED:20220221T202128Z
LAST-MODIFIED:20220226T004044Z
UID:4663-1656399600-1656403200@www.vccfresno.org
SUMMARY:Men's Power Breakfast
DESCRIPTION:Men’s Power Breakfast\nEvery Tuesday from 7:00-8:00am\nValley Christian Center – APR\nEnjoy a breakfast burrito while we dive into to God’s Word together.\nNo registration needed\, just show up.
URL:https://www.vccfresno.org/event/mens-power-breakfast-21/
LOCATION:CA
CATEGORIES:Men
ATTACH;FMTTYPE=image/png:https://www.vccfresno.org/wp-content/uploads/2022/02/MENS-POWER-BREAKFAST-SQ-1.png
END:VEVENT
BEGIN:VEVENT
DTSTART;TZID=America/Los_Angeles:20220626T113000
DTEND;TZID=America/Los_Angeles:20220626T140000
DTSTAMP:20260423T184809
CREATED:20220621T031537Z
LAST-MODIFIED:20220621T031605Z
UID:5737-1656243000-1656252000@www.vccfresno.org
SUMMARY:Cornhole Tournament
DESCRIPTION:Come play some cornhole with us!\n2 person teams\n-Kids/youth: 17yrs & under\n-Adults: 18+years bracket\nNo entry fee – single elimination style. Bragging rights for the victorious!\nRegister your team in the courtyard after service on Sunday\, June 19th or June 26th. \n  \n 
URL:https://www.vccfresno.org/event/cornhole-tournament/
LOCATION:CA
CATEGORIES:Men
ATTACH;FMTTYPE=image/jpeg:https://www.vccfresno.org/wp-content/uploads/2022/06/62022-MEN-Cornhole-Tournament-Flyer-square.jpg
END:VEVENT
BEGIN:VEVENT
DTSTART;TZID=America/Los_Angeles:20220621T070000
DTEND;TZID=America/Los_Angeles:20220621T080000
DTSTAMP:20260423T184809
CREATED:20220221T202054Z
LAST-MODIFIED:20220226T004041Z
UID:4661-1655794800-1655798400@www.vccfresno.org
SUMMARY:Men's Power Breakfast
DESCRIPTION:Men’s Power Breakfast\nEvery Tuesday from 7:00-8:00am\nValley Christian Center – APR\nEnjoy a breakfast burrito while we dive into to God’s Word together.\nNo registration needed\, just show up.
URL:https://www.vccfresno.org/event/mens-power-breakfast-20/
LOCATION:CA
CATEGORIES:Men
ATTACH;FMTTYPE=image/png:https://www.vccfresno.org/wp-content/uploads/2022/02/MENS-POWER-BREAKFAST-SQ-1.png
END:VEVENT
BEGIN:VEVENT
DTSTART;TZID=America/Los_Angeles:20220614T070000
DTEND;TZID=America/Los_Angeles:20220614T080000
DTSTAMP:20260423T184809
CREATED:20220221T202020Z
LAST-MODIFIED:20220226T004040Z
UID:4659-1655190000-1655193600@www.vccfresno.org
SUMMARY:Men's Power Breakfast
DESCRIPTION:Men’s Power Breakfast\nEvery Tuesday from 7:00-8:00am\nValley Christian Center – APR\nEnjoy a breakfast burrito while we dive into to God’s Word together.\nNo registration needed\, just show up.
URL:https://www.vccfresno.org/event/mens-power-breakfast-19/
LOCATION:CA
CATEGORIES:Men
ATTACH;FMTTYPE=image/png:https://www.vccfresno.org/wp-content/uploads/2022/02/MENS-POWER-BREAKFAST-SQ-1.png
END:VEVENT
END:VCALENDAR