BEGIN:VCALENDAR
VERSION:2.0
PRODID:-//Valley Christian Center - ECPv6.13.2.1//NONSGML v1.0//EN
CALSCALE:GREGORIAN
METHOD:PUBLISH
X-ORIGINAL-URL:https://www.vccfresno.org
X-WR-CALDESC:Events for Valley Christian Center
REFRESH-INTERVAL;VALUE=DURATION:PT1H
X-Robots-Tag:noindex
X-PUBLISHED-TTL:PT1H
BEGIN:VTIMEZONE
TZID:America/Los_Angeles
BEGIN:DAYLIGHT
TZOFFSETFROM:-0800
TZOFFSETTO:-0700
TZNAME:PDT
DTSTART:20210314T100000
END:DAYLIGHT
BEGIN:STANDARD
TZOFFSETFROM:-0700
TZOFFSETTO:-0800
TZNAME:PST
DTSTART:20211107T090000
END:STANDARD
BEGIN:DAYLIGHT
TZOFFSETFROM:-0800
TZOFFSETTO:-0700
TZNAME:PDT
DTSTART:20220313T100000
END:DAYLIGHT
BEGIN:STANDARD
TZOFFSETFROM:-0700
TZOFFSETTO:-0800
TZNAME:PST
DTSTART:20221106T090000
END:STANDARD
END:VTIMEZONE
BEGIN:VEVENT
DTSTART;TZID=America/Los_Angeles:20220809T070000
DTEND;TZID=America/Los_Angeles:20220809T080000
DTSTAMP:20260423T220706
CREATED:20220221T203532Z
LAST-MODIFIED:20220226T003445Z
UID:4677-1660028400-1660032000@www.vccfresno.org
SUMMARY:Men's Power Breakfast
DESCRIPTION:Men’s Power Breakfast\nEvery Tuesday from 7:00-8:00am\nValley Christian Center – APR\nEnjoy a breakfast burrito while we dive into to God’s Word together.\nNo registration needed\, just show up.
URL:https://www.vccfresno.org/event/mens-power-breakfast-27/
CATEGORIES:Men
ATTACH;FMTTYPE=image/png:https://www.vccfresno.org/wp-content/uploads/2022/02/MENS-POWER-BREAKFAST-SQ-1.png
END:VEVENT
BEGIN:VEVENT
DTSTART;TZID=America/Los_Angeles:20220802T070000
DTEND;TZID=America/Los_Angeles:20220802T080000
DTSTAMP:20260423T220706
CREATED:20220221T203428Z
LAST-MODIFIED:20220226T003458Z
UID:4675-1659423600-1659427200@www.vccfresno.org
SUMMARY:Men's Power Breakfast
DESCRIPTION:Men’s Power Breakfast\nEvery Tuesday from 7:00-8:00am\nValley Christian Center – APR\nEnjoy a breakfast burrito while we dive into to God’s Word together.\nNo registration needed\, just show up.
URL:https://www.vccfresno.org/event/mens-power-breakfast-26/
CATEGORIES:Men
ATTACH;FMTTYPE=image/png:https://www.vccfresno.org/wp-content/uploads/2022/02/MENS-POWER-BREAKFAST-SQ-1.png
END:VEVENT
BEGIN:VEVENT
DTSTART;TZID=America/Los_Angeles:20220726T070000
DTEND;TZID=America/Los_Angeles:20220726T080000
DTSTAMP:20260423T220706
CREATED:20220221T203344Z
LAST-MODIFIED:20220226T003514Z
UID:4672-1658818800-1658822400@www.vccfresno.org
SUMMARY:Men's Power Breakfast
DESCRIPTION:Men’s Power Breakfast\nEvery Tuesday from 7:00-8:00am\nValley Christian Center – APR\nEnjoy a breakfast burrito while we dive into to God’s Word together.\nNo registration needed\, just show up.
URL:https://www.vccfresno.org/event/mens-power-breakfast-25/
CATEGORIES:Men
ATTACH;FMTTYPE=image/png:https://www.vccfresno.org/wp-content/uploads/2022/02/MENS-POWER-BREAKFAST-SQ-1.png
END:VEVENT
BEGIN:VEVENT
DTSTART;TZID=America/Los_Angeles:20220719T070000
DTEND;TZID=America/Los_Angeles:20220719T080000
DTSTAMP:20260423T220706
CREATED:20220221T203224Z
LAST-MODIFIED:20220226T003529Z
UID:4670-1658214000-1658217600@www.vccfresno.org
SUMMARY:Men's Power Breakfast
DESCRIPTION:Men’s Power Breakfast\nEvery Tuesday from 7:00-8:00am\nValley Christian Center – APR\nEnjoy a breakfast burrito while we dive into to God’s Word together.\nNo registration needed\, just show up.
URL:https://www.vccfresno.org/event/mens-power-breakfast-24/
CATEGORIES:Men
ATTACH;FMTTYPE=image/png:https://www.vccfresno.org/wp-content/uploads/2022/02/MENS-POWER-BREAKFAST-SQ-1.png
END:VEVENT
BEGIN:VEVENT
DTSTART;TZID=America/Los_Angeles:20220712T070000
DTEND;TZID=America/Los_Angeles:20220712T080000
DTSTAMP:20260423T220706
CREATED:20220221T203117Z
LAST-MODIFIED:20220226T003911Z
UID:4668-1657609200-1657612800@www.vccfresno.org
SUMMARY:Men's Power Breakfast
DESCRIPTION:Men’s Power Breakfast\nEvery Tuesday from 7:00-8:00am\nValley Christian Center – APR\nEnjoy a breakfast burrito while we dive into to God’s Word together.\nNo registration needed\, just show up.
URL:https://www.vccfresno.org/event/mens-power-breakfast-23/
CATEGORIES:Men
ATTACH;FMTTYPE=image/png:https://www.vccfresno.org/wp-content/uploads/2022/02/MENS-POWER-BREAKFAST-SQ-1.png
END:VEVENT
BEGIN:VEVENT
DTSTART;TZID=America/Los_Angeles:20220705T080000
DTEND;TZID=America/Los_Angeles:20220705T170000
DTSTAMP:20260423T220706
CREATED:20220221T202957Z
LAST-MODIFIED:20220226T003909Z
UID:4666-1657008000-1657040400@www.vccfresno.org
SUMMARY:Men's Power Breakfast
DESCRIPTION:Men’s Power Breakfast\nEvery Tuesday from 7:00-8:00am\nValley Christian Center – APR\nEnjoy a breakfast burrito while we dive into to God’s Word together.\nNo registration needed\, just show up.
URL:https://www.vccfresno.org/event/mens-power-breakfast-22/
CATEGORIES:Men
ATTACH;FMTTYPE=image/png:https://www.vccfresno.org/wp-content/uploads/2022/02/MENS-POWER-BREAKFAST-SQ-1.png
END:VEVENT
BEGIN:VEVENT
DTSTART;TZID=America/Los_Angeles:20220628T070000
DTEND;TZID=America/Los_Angeles:20220628T080000
DTSTAMP:20260423T220706
CREATED:20220221T202128Z
LAST-MODIFIED:20220226T004044Z
UID:4663-1656399600-1656403200@www.vccfresno.org
SUMMARY:Men's Power Breakfast
DESCRIPTION:Men’s Power Breakfast\nEvery Tuesday from 7:00-8:00am\nValley Christian Center – APR\nEnjoy a breakfast burrito while we dive into to God’s Word together.\nNo registration needed\, just show up.
URL:https://www.vccfresno.org/event/mens-power-breakfast-21/
CATEGORIES:Men
ATTACH;FMTTYPE=image/png:https://www.vccfresno.org/wp-content/uploads/2022/02/MENS-POWER-BREAKFAST-SQ-1.png
END:VEVENT
BEGIN:VEVENT
DTSTART;TZID=America/Los_Angeles:20220626T113000
DTEND;TZID=America/Los_Angeles:20220626T140000
DTSTAMP:20260423T220706
CREATED:20220621T031537Z
LAST-MODIFIED:20220621T031605Z
UID:5737-1656243000-1656252000@www.vccfresno.org
SUMMARY:Cornhole Tournament
DESCRIPTION:Come play some cornhole with us!\n2 person teams\n-Kids/youth: 17yrs & under\n-Adults: 18+years bracket\nNo entry fee – single elimination style. Bragging rights for the victorious!\nRegister your team in the courtyard after service on Sunday\, June 19th or June 26th. \n  \n 
URL:https://www.vccfresno.org/event/cornhole-tournament/
CATEGORIES:Men
ATTACH;FMTTYPE=image/jpeg:https://www.vccfresno.org/wp-content/uploads/2022/06/62022-MEN-Cornhole-Tournament-Flyer-square.jpg
END:VEVENT
BEGIN:VEVENT
DTSTART;TZID=America/Los_Angeles:20220621T070000
DTEND;TZID=America/Los_Angeles:20220621T080000
DTSTAMP:20260423T220706
CREATED:20220221T202054Z
LAST-MODIFIED:20220226T004041Z
UID:4661-1655794800-1655798400@www.vccfresno.org
SUMMARY:Men's Power Breakfast
DESCRIPTION:Men’s Power Breakfast\nEvery Tuesday from 7:00-8:00am\nValley Christian Center – APR\nEnjoy a breakfast burrito while we dive into to God’s Word together.\nNo registration needed\, just show up.
URL:https://www.vccfresno.org/event/mens-power-breakfast-20/
CATEGORIES:Men
ATTACH;FMTTYPE=image/png:https://www.vccfresno.org/wp-content/uploads/2022/02/MENS-POWER-BREAKFAST-SQ-1.png
END:VEVENT
BEGIN:VEVENT
DTSTART;TZID=America/Los_Angeles:20220614T070000
DTEND;TZID=America/Los_Angeles:20220614T080000
DTSTAMP:20260423T220706
CREATED:20220221T202020Z
LAST-MODIFIED:20220226T004040Z
UID:4659-1655190000-1655193600@www.vccfresno.org
SUMMARY:Men's Power Breakfast
DESCRIPTION:Men’s Power Breakfast\nEvery Tuesday from 7:00-8:00am\nValley Christian Center – APR\nEnjoy a breakfast burrito while we dive into to God’s Word together.\nNo registration needed\, just show up.
URL:https://www.vccfresno.org/event/mens-power-breakfast-19/
CATEGORIES:Men
ATTACH;FMTTYPE=image/png:https://www.vccfresno.org/wp-content/uploads/2022/02/MENS-POWER-BREAKFAST-SQ-1.png
END:VEVENT
BEGIN:VEVENT
DTSTART;TZID=America/Los_Angeles:20220607T070000
DTEND;TZID=America/Los_Angeles:20220607T080000
DTSTAMP:20260423T220706
CREATED:20220221T201900Z
LAST-MODIFIED:20220226T010419Z
UID:4655-1654585200-1654588800@www.vccfresno.org
SUMMARY:Men's Power Breakfast
DESCRIPTION:Men’s Power Breakfast\nEvery Tuesday from 7:00-8:00am\nValley Christian Center – APR\nEnjoy a breakfast burrito while we dive into to God’s Word together.\nNo registration needed\, just show up.
URL:https://www.vccfresno.org/event/mens-power-breakfast-17/
CATEGORIES:Men
ATTACH;FMTTYPE=image/png:https://www.vccfresno.org/wp-content/uploads/2022/02/MENS-POWER-BREAKFAST-SQ-1.png
END:VEVENT
BEGIN:VEVENT
DTSTART;TZID=America/Los_Angeles:20220531T070000
DTEND;TZID=America/Los_Angeles:20220531T080000
DTSTAMP:20260423T220706
CREATED:20220221T201821Z
LAST-MODIFIED:20220226T010418Z
UID:4653-1653980400-1653984000@www.vccfresno.org
SUMMARY:Men's Power Breakfast
DESCRIPTION:Men’s Power Breakfast\nEvery Tuesday from 7:00-8:00am\nValley Christian Center – APR\nEnjoy a breakfast burrito while we dive into to God’s Word together.\nNo registration needed\, just show up.
URL:https://www.vccfresno.org/event/mens-power-breakfast-16/
CATEGORIES:Men
ATTACH;FMTTYPE=image/png:https://www.vccfresno.org/wp-content/uploads/2022/02/MENS-POWER-BREAKFAST-SQ-1.png
END:VEVENT
BEGIN:VEVENT
DTSTART;TZID=America/Los_Angeles:20220524T070000
DTEND;TZID=America/Los_Angeles:20220524T080000
DTSTAMP:20260423T220706
CREATED:20220221T201728Z
LAST-MODIFIED:20220226T010416Z
UID:4650-1653375600-1653379200@www.vccfresno.org
SUMMARY:Men's Power Breakfast
DESCRIPTION:Men’s Power Breakfast\nEvery Tuesday from 7:00-8:00am\nValley Christian Center – APR\nEnjoy a breakfast burrito while we dive into to God’s Word together.\nNo registration needed\, just show up.
URL:https://www.vccfresno.org/event/mens-power-breakfast-15/
CATEGORIES:Men
ATTACH;FMTTYPE=image/png:https://www.vccfresno.org/wp-content/uploads/2022/02/MENS-POWER-BREAKFAST-SQ-1.png
END:VEVENT
BEGIN:VEVENT
DTSTART;TZID=America/Los_Angeles:20220517T070000
DTEND;TZID=America/Los_Angeles:20220517T080000
DTSTAMP:20260423T220706
CREATED:20220221T201645Z
LAST-MODIFIED:20220226T010712Z
UID:4648-1652770800-1652774400@www.vccfresno.org
SUMMARY:Men's Power Breakfast
DESCRIPTION:Men’s Power Breakfast\nEvery Tuesday from 7:00-8:00am\nValley Christian Center – APR\nEnjoy a breakfast burrito while we dive into to God’s Word together.\nNo registration needed\, just show up.
URL:https://www.vccfresno.org/event/mens-power-breakfast-14/
CATEGORIES:Men
ATTACH;FMTTYPE=image/png:https://www.vccfresno.org/wp-content/uploads/2022/02/MENS-POWER-BREAKFAST-SQ-1.png
END:VEVENT
BEGIN:VEVENT
DTSTART;TZID=America/Los_Angeles:20220510T070000
DTEND;TZID=America/Los_Angeles:20220510T080000
DTSTAMP:20260423T220706
CREATED:20220221T201559Z
LAST-MODIFIED:20220226T010711Z
UID:4646-1652166000-1652169600@www.vccfresno.org
SUMMARY:Men's Power Breakfast
DESCRIPTION:Men’s Power Breakfast\nEvery Tuesday from 7:00-8:00am\nValley Christian Center – APR\nEnjoy a breakfast burrito while we dive into to God’s Word together.\nNo registration needed\, just show up.
URL:https://www.vccfresno.org/event/mens-power-breakfast-13/
CATEGORIES:Men
ATTACH;FMTTYPE=image/png:https://www.vccfresno.org/wp-content/uploads/2022/02/MENS-POWER-BREAKFAST-SQ-1.png
END:VEVENT
BEGIN:VEVENT
DTSTART;TZID=America/Los_Angeles:20220503T070000
DTEND;TZID=America/Los_Angeles:20220503T080000
DTSTAMP:20260423T220706
CREATED:20220221T201516Z
LAST-MODIFIED:20220226T010709Z
UID:4644-1651561200-1651564800@www.vccfresno.org
SUMMARY:Men's Power Breakfast
DESCRIPTION:Men’s Power Breakfast\nEvery Tuesday from 7:00-8:00am\nValley Christian Center – APR\nEnjoy a breakfast burrito while we dive into to God’s Word together.\nNo registration needed\, just show up.
URL:https://www.vccfresno.org/event/mens-power-breakfast-12/
CATEGORIES:Men
ATTACH;FMTTYPE=image/png:https://www.vccfresno.org/wp-content/uploads/2022/02/MENS-POWER-BREAKFAST-SQ-1.png
END:VEVENT
BEGIN:VEVENT
DTSTART;TZID=America/Los_Angeles:20220426T070000
DTEND;TZID=America/Los_Angeles:20220426T080000
DTSTAMP:20260423T220706
CREATED:20220221T201303Z
LAST-MODIFIED:20220226T010704Z
UID:4641-1650956400-1650960000@www.vccfresno.org
SUMMARY:Men's Power Breakfast
DESCRIPTION:Men’s Power Breakfast\nEvery Tuesday from 7:00-8:00am\nValley Christian Center – APR\nEnjoy a breakfast burrito while we dive into to God’s Word together.\nNo registration needed\, just show up.
URL:https://www.vccfresno.org/event/mens-power-breakfast-11/
CATEGORIES:Men
ATTACH;FMTTYPE=image/png:https://www.vccfresno.org/wp-content/uploads/2022/02/MENS-POWER-BREAKFAST-SQ-1.png
END:VEVENT
BEGIN:VEVENT
DTSTART;TZID=America/Los_Angeles:20220419T070000
DTEND;TZID=America/Los_Angeles:20220419T080000
DTSTAMP:20260423T220706
CREATED:20220221T200946Z
LAST-MODIFIED:20220226T010825Z
UID:4638-1650351600-1650355200@www.vccfresno.org
SUMMARY:Men's Power Breakfast
DESCRIPTION:Men’s Power Breakfast\nEvery Tuesday from 7:00-8:00am\nValley Christian Center – APR\nEnjoy a breakfast burrito while we dive into to God’s Word together.\nNo registration needed\, just show up.
URL:https://www.vccfresno.org/event/mens-power-breakfast-10/
CATEGORIES:Men
ATTACH;FMTTYPE=image/png:https://www.vccfresno.org/wp-content/uploads/2022/02/MENS-POWER-BREAKFAST-SQ-1.png
END:VEVENT
BEGIN:VEVENT
DTSTART;TZID=America/Los_Angeles:20220412T070000
DTEND;TZID=America/Los_Angeles:20220412T080000
DTSTAMP:20260423T220706
CREATED:20220221T200913Z
LAST-MODIFIED:20220226T010826Z
UID:4636-1649746800-1649750400@www.vccfresno.org
SUMMARY:Men's Power Breakfast
DESCRIPTION:Men’s Power Breakfast\nEvery Tuesday from 7:00-8:00am\nValley Christian Center – APR\nEnjoy a breakfast burrito while we dive into to God’s Word together.\nNo registration needed\, just show up.
URL:https://www.vccfresno.org/event/mens-power-breakfast-9/
CATEGORIES:Men
ATTACH;FMTTYPE=image/png:https://www.vccfresno.org/wp-content/uploads/2022/02/MENS-POWER-BREAKFAST-SQ-1.png
END:VEVENT
BEGIN:VEVENT
DTSTART;TZID=America/Los_Angeles:20220405T070000
DTEND;TZID=America/Los_Angeles:20220405T080000
DTSTAMP:20260423T220706
CREATED:20220221T200839Z
LAST-MODIFIED:20220226T010840Z
UID:4634-1649142000-1649145600@www.vccfresno.org
SUMMARY:Men's Power Breakfast
DESCRIPTION:Men’s Power Breakfast\nEvery Tuesday from 7:00-8:00am\nValley Christian Center – APR\nEnjoy a breakfast burrito while we dive into to God’s Word together.\nNo registration needed\, just show up.
URL:https://www.vccfresno.org/event/mens-power-breakfast-8/
CATEGORIES:Men
ATTACH;FMTTYPE=image/png:https://www.vccfresno.org/wp-content/uploads/2022/02/MENS-POWER-BREAKFAST-SQ-1.png
END:VEVENT
BEGIN:VEVENT
DTSTART;TZID=America/Los_Angeles:20220329T070000
DTEND;TZID=America/Los_Angeles:20220329T080000
DTSTAMP:20260423T220706
CREATED:20220221T200755Z
LAST-MODIFIED:20220226T010849Z
UID:4632-1648537200-1648540800@www.vccfresno.org
SUMMARY:Men's Power Breakfast
DESCRIPTION:Men’s Power Breakfast\nEvery Tuesday from 7:00-8:00am\nValley Christian Center – APR\nEnjoy a breakfast burrito while we dive into to God’s Word together.\nNo registration needed\, just show up.
URL:https://www.vccfresno.org/event/mens-power-breakfast-7/
CATEGORIES:Men
ATTACH;FMTTYPE=image/png:https://www.vccfresno.org/wp-content/uploads/2022/02/MENS-POWER-BREAKFAST-SQ-1.png
END:VEVENT
BEGIN:VEVENT
DTSTART;TZID=America/Los_Angeles:20220322T070000
DTEND;TZID=America/Los_Angeles:20220322T080000
DTSTAMP:20260423T220706
CREATED:20220221T200720Z
LAST-MODIFIED:20220226T011130Z
UID:4630-1647932400-1647936000@www.vccfresno.org
SUMMARY:Men's Power Breakfast
DESCRIPTION:Men’s Power Breakfast\nEvery Tuesday from 7:00-8:00am\nValley Christian Center – APR\nEnjoy a breakfast burrito while we dive into to God’s Word together.\nNo registration needed\, just show up.
URL:https://www.vccfresno.org/event/mens-power-breakfast-6/
CATEGORIES:Men
ATTACH;FMTTYPE=image/png:https://www.vccfresno.org/wp-content/uploads/2022/02/MENS-POWER-BREAKFAST-SQ-1.png
END:VEVENT
BEGIN:VEVENT
DTSTART;TZID=America/Los_Angeles:20220315T070000
DTEND;TZID=America/Los_Angeles:20220315T080000
DTSTAMP:20260423T220706
CREATED:20220221T200633Z
LAST-MODIFIED:20220226T011132Z
UID:4628-1647327600-1647331200@www.vccfresno.org
SUMMARY:Men's Power Breakfast
DESCRIPTION:Men’s Power Breakfast\nEvery Tuesday from 7:00-8:00am\nValley Christian Center – APR\nEnjoy a breakfast burrito while we dive into to God’s Word together.\nNo registration needed\, just show up.
URL:https://www.vccfresno.org/event/mens-power-breakfast-5/
CATEGORIES:Men
ATTACH;FMTTYPE=image/png:https://www.vccfresno.org/wp-content/uploads/2022/02/MENS-POWER-BREAKFAST-SQ-1.png
END:VEVENT
BEGIN:VEVENT
DTSTART;TZID=America/Los_Angeles:20220308T070000
DTEND;TZID=America/Los_Angeles:20220308T080000
DTSTAMP:20260423T220706
CREATED:20220221T200548Z
LAST-MODIFIED:20220226T011134Z
UID:4626-1646722800-1646726400@www.vccfresno.org
SUMMARY:Men's Power Breakfast
DESCRIPTION:Men’s Power Breakfast\nEvery Tuesday from 7:00-8:00am\nValley Christian Center – APR\nEnjoy a breakfast burrito while we dive into to God’s Word together.\nNo registration needed\, just show up.
URL:https://www.vccfresno.org/event/mens-power-breakfast-4/
CATEGORIES:Men
ATTACH;FMTTYPE=image/png:https://www.vccfresno.org/wp-content/uploads/2022/02/MENS-POWER-BREAKFAST-SQ-1.png
END:VEVENT
BEGIN:VEVENT
DTSTART;TZID=America/Los_Angeles:20220301T070000
DTEND;TZID=America/Los_Angeles:20220301T080000
DTSTAMP:20260423T220706
CREATED:20220221T200454Z
LAST-MODIFIED:20220226T011138Z
UID:4624-1646118000-1646121600@www.vccfresno.org
SUMMARY:Men's Power Breakfast
DESCRIPTION:Men’s Power Breakfast\nEvery Tuesday from 7:00-8:00am\nValley Christian Center – APR\nEnjoy a breakfast burrito while we dive into to God’s Word together.\nNo registration needed\, just show up.
URL:https://www.vccfresno.org/event/mens-power-breakfast-3/
CATEGORIES:Men
ATTACH;FMTTYPE=image/png:https://www.vccfresno.org/wp-content/uploads/2022/02/MENS-POWER-BREAKFAST-SQ-1.png
END:VEVENT
BEGIN:VEVENT
DTSTART;TZID=America/Los_Angeles:20220222T070000
DTEND;TZID=America/Los_Angeles:20220222T080000
DTSTAMP:20260423T220706
CREATED:20220221T200331Z
LAST-MODIFIED:20220221T200331Z
UID:4622-1645513200-1645516800@www.vccfresno.org
SUMMARY:Men's Power Breakfast
DESCRIPTION:Men’s Power Breakfast\nEvery Tuesday from 7:00-8:00am\nValley Christian Center – APR\nEnjoy a breakfast burrito while we dive into to God’s Word together.\nNo registration needed\, just show up.
URL:https://www.vccfresno.org/event/mens-power-breakfast-2/
CATEGORIES:Men
ATTACH;FMTTYPE=image/png:https://www.vccfresno.org/wp-content/uploads/2022/01/MENS-POWER-BREAKFAST.png
END:VEVENT
BEGIN:VEVENT
DTSTART;TZID=America/Los_Angeles:20220208T070000
DTEND;TZID=America/Los_Angeles:20220208T080000
DTSTAMP:20260423T220706
CREATED:20220130T145308Z
LAST-MODIFIED:20220221T200412Z
UID:4519-1644303600-1644307200@www.vccfresno.org
SUMMARY:Men's Power Breakfast
DESCRIPTION:Men’s Power Breakfast\nEvery Tuesday from 7:00-8:00am\nValley Christian Center – APR\nEnjoy a breakfast burrito while we dive into to God’s Word together.\nNo registration needed\, just show up.
URL:https://www.vccfresno.org/event/mens-power-breakfast/
CATEGORIES:Men
ATTACH;FMTTYPE=image/png:https://www.vccfresno.org/wp-content/uploads/2022/01/MENS-POWER-BREAKFAST.png
END:VEVENT
BEGIN:VEVENT
DTSTART;TZID=America/Los_Angeles:20210731T083000
DTEND;TZID=America/Los_Angeles:20210731T103000
DTSTAMP:20260423T220706
CREATED:20210626T163631Z
LAST-MODIFIED:20210626T163631Z
UID:3845-1627720200-1627727400@www.vccfresno.org
SUMMARY:Men's Breakfast at Valley Dream Center
DESCRIPTION:Men’s Breakfast at Valley Dream Center\nEnjoy an inspirational message and a challenge to be great with Deputy Mayor Matthew Grundy! \nFeaturing Worship By: Twelve Gate City \nSaturday\, July 31st\, 2021 • 8:30-10:30am \nValley Dream Center (1835 N. Winery Ave • Fresno) \n$7.00 per person (Includes: Breakfast • Raffle • Sports Activities in the Gym) \nIf you would like to register click here!
URL:https://www.vccfresno.org/event/mens-breakfast-at-valley-dream-center/
CATEGORIES:Men
ATTACH;FMTTYPE=image/png:https://www.vccfresno.org/wp-content/uploads/2021/06/VDCMatthewGrundyBannerPic-4x2-1.png
END:VEVENT
BEGIN:VEVENT
DTSTART;VALUE=DATE:20210418
DTEND;VALUE=DATE:20210426
DTSTAMP:20260423T220706
CREATED:20210408T005109Z
LAST-MODIFIED:20210414T002801Z
UID:3313-1618704000-1619395199@www.vccfresno.org
SUMMARY:Connect Week
DESCRIPTION:  \nLife Groups are where we are known and grown! Our next semester of Life Groups is May-July and we would love for you to get connected. Connect Week is happening April 18th -25th. This is where you can check out and sign-up for Life Groups in person or online. Group info will be available April 11th at vccfresno.org/life-groups
URL:https://www.vccfresno.org/event/connect-week/
CATEGORIES:Life Groups,Men
ATTACH;FMTTYPE=image/png:https://www.vccfresno.org/wp-content/uploads/2021/04/Life-Group-Connect-Week-Web-Event-Banner-Apr-2021-1.png
END:VEVENT
BEGIN:VEVENT
DTSTART;TZID=America/Los_Angeles:20210214T100000
DTEND;TZID=America/Los_Angeles:20210214T103000
DTSTAMP:20260423T220706
CREATED:20210128T135807Z
LAST-MODIFIED:20210219T190829Z
UID:2679-1613296800-1613298600@www.vccfresno.org
SUMMARY:Water Baptism - FEB 14th
DESCRIPTION:Are you ready to take your next step in your relationship with Jesus?\nWe are having Water Baptisms on Sunday\, February 14th at 10:00am. We will be having a GOTBAPTISM? class for those wanting to be baptized at 9:00am. To get all the details\, please visit our Welcome Table and ask for a baptism packet or email us at connect@vccfresno.org. Sign ups will be available in the Courtyard on January 31st and February 5th.
URL:https://www.vccfresno.org/event/water-baptism-feb-14th/
CATEGORIES:Kids,Life Groups,Men,Water Baptism,Women,Youth
ATTACH;FMTTYPE=image/png:https://www.vccfresno.org/wp-content/uploads/2021/02/Baptism-w-class-wide.png
END:VEVENT
END:VCALENDAR