BEGIN:VCALENDAR
VERSION:2.0
PRODID:-//Valley Christian Center - ECPv6.13.2.1//NONSGML v1.0//EN
CALSCALE:GREGORIAN
METHOD:PUBLISH
X-ORIGINAL-URL:https://www.vccfresno.org
X-WR-CALDESC:Events for Valley Christian Center
REFRESH-INTERVAL;VALUE=DURATION:PT1H
X-Robots-Tag:noindex
X-PUBLISHED-TTL:PT1H
BEGIN:VTIMEZONE
TZID:America/Los_Angeles
BEGIN:DAYLIGHT
TZOFFSETFROM:-0800
TZOFFSETTO:-0700
TZNAME:PDT
DTSTART:20240310T100000
END:DAYLIGHT
BEGIN:STANDARD
TZOFFSETFROM:-0700
TZOFFSETTO:-0800
TZNAME:PST
DTSTART:20241103T090000
END:STANDARD
END:VTIMEZONE
BEGIN:VEVENT
DTSTART;TZID=America/Los_Angeles:20241006T113000
DTEND;TZID=America/Los_Angeles:20241006T130000
DTSTAMP:20260425T095029
CREATED:20240110T220150Z
LAST-MODIFIED:20240110T220150Z
UID:6721-1728214200-1728219600@www.vccfresno.org
SUMMARY:PrimeTime Brunch
DESCRIPTION:Come hang out with old and new friends as we enjoy brunch together! Find out all the details when you sign up in the Courtyard before service (9:30-9:55am) on October 6th.
URL:https://www.vccfresno.org/event/primetime-brunch-9/
CATEGORIES:PrimeTime
ATTACH;FMTTYPE=image/png:https://www.vccfresno.org/wp-content/uploads/2024/01/PT-Brunch-After-Service-Banner.png
END:VEVENT
BEGIN:VEVENT
DTSTART;TZID=America/Los_Angeles:20241016T180000
DTEND;TZID=America/Los_Angeles:20241016T200000
DTSTAMP:20260425T095029
CREATED:20241003T172820Z
LAST-MODIFIED:20241003T172820Z
UID:7846-1729101600-1729108800@www.vccfresno.org
SUMMARY:PrimeTime 55+ Mini Golf Night
DESCRIPTION:Join us at Blackbeard’s Family Entertainment Center (4055 N. Chestnut Diagonal/Fresno) as we meet up on the course with our PrimeTime 55+ friends for a fun night of mini golf on Wednesday\, October 16th from 6:00pm to 8:00pm!\nCost is $15.00 per person.\nSIGN UP HERE!
URL:https://www.vccfresno.org/event/primetime-55-mini-golf-night/
LOCATION:Blackbeard’s Family Entertainment\, 4055 N Chestnut Diagonal\, Fresno\, CA\, 93726\, United States
CATEGORIES:PrimeTime
ATTACH;FMTTYPE=image/png:https://www.vccfresno.org/wp-content/uploads/2024/10/October-16th-PT55-Mini-Golf-SQ-Instagram-Post.png
END:VEVENT
END:VCALENDAR