BEGIN:VCALENDAR
VERSION:2.0
PRODID:-//Valley Christian Center - ECPv6.13.2.1//NONSGML v1.0//EN
CALSCALE:GREGORIAN
METHOD:PUBLISH
X-ORIGINAL-URL:https://www.vccfresno.org
X-WR-CALDESC:Events for Valley Christian Center
REFRESH-INTERVAL;VALUE=DURATION:PT1H
X-Robots-Tag:noindex
X-PUBLISHED-TTL:PT1H
BEGIN:VTIMEZONE
TZID:America/Los_Angeles
BEGIN:DAYLIGHT
TZOFFSETFROM:-0800
TZOFFSETTO:-0700
TZNAME:PDT
DTSTART:20250309T100000
END:DAYLIGHT
BEGIN:STANDARD
TZOFFSETFROM:-0700
TZOFFSETTO:-0800
TZNAME:PST
DTSTART:20251102T090000
END:STANDARD
END:VTIMEZONE
BEGIN:VEVENT
DTSTART;TZID=America/Los_Angeles:20251102T110000
DTEND;TZID=America/Los_Angeles:20251102T130000
DTSTAMP:20260423T200506
CREATED:20250525T010732Z
LAST-MODIFIED:20250525T010732Z
UID:8527-1762081200-1762088400@www.vccfresno.org
SUMMARY:PrimeTime Brunch
DESCRIPTION:Come hang out with old and new friends as we enjoy brunch together! Find out all the details when you sign up in the Courtyard before service (9:30-9:55am) on November 2nd.
URL:https://www.vccfresno.org/event/primetime-brunch-16/
CATEGORIES:PrimeTime
ATTACH;FMTTYPE=image/png:https://www.vccfresno.org/wp-content/uploads/2024/05/PT-Brunch-NewLogo.png
END:VEVENT
END:VCALENDAR