BEGIN:VCALENDAR
VERSION:2.0
PRODID:-//Valley Christian Center - ECPv6.13.2.1//NONSGML v1.0//EN
CALSCALE:GREGORIAN
METHOD:PUBLISH
X-WR-CALNAME:Valley Christian Center
X-ORIGINAL-URL:https://www.vccfresno.org
X-WR-CALDESC:Events for Valley Christian Center
REFRESH-INTERVAL;VALUE=DURATION:PT1H
X-Robots-Tag:noindex
X-PUBLISHED-TTL:PT1H
BEGIN:VTIMEZONE
TZID:America/Los_Angeles
BEGIN:DAYLIGHT
TZOFFSETFROM:-0800
TZOFFSETTO:-0700
TZNAME:PDT
DTSTART:20240310T100000
END:DAYLIGHT
BEGIN:STANDARD
TZOFFSETFROM:-0700
TZOFFSETTO:-0800
TZNAME:PST
DTSTART:20241103T090000
END:STANDARD
END:VTIMEZONE
BEGIN:VEVENT
DTSTART;TZID=America/Los_Angeles:20241107T180000
DTEND;TZID=America/Los_Angeles:20241107T200000
DTSTAMP:20260425T095036
CREATED:20241028T194000Z
LAST-MODIFIED:20241028T194000Z
UID:7894-1731002400-1731009600@www.vccfresno.org
SUMMARY:PrimeTime 55+ Bunco Night
DESCRIPTION:Join us on Thursday\, November 7th from 6:00pm to 8:00pm in the All Purpose Room for BUNCO Night!\nCome learn this fun\, fast-paced game with the PrimeTime 55+ gang! Bring a friend and snack to share! Beginners welcome! See you there!Online Registration only through November 4th.\nSIGN UP HERE!
URL:https://www.vccfresno.org/event/primetime-55-bunco-night-4/
LOCATION:Valley Christian Center\, 4649 E. Shields Ave\, Fresno\, CA\, 93726\, United States
CATEGORIES:PrimeTime
ATTACH;FMTTYPE=image/png:https://www.vccfresno.org/wp-content/uploads/2024/05/PT55-July-18th-BUNCO-SQ.png
END:VEVENT
END:VCALENDAR