BEGIN:VCALENDAR
VERSION:2.0
PRODID:-//Valley Christian Center - ECPv6.13.2.1//NONSGML v1.0//EN
CALSCALE:GREGORIAN
METHOD:PUBLISH
X-ORIGINAL-URL:https://www.vccfresno.org
X-WR-CALDESC:Events for Valley Christian Center
REFRESH-INTERVAL;VALUE=DURATION:PT1H
X-Robots-Tag:noindex
X-PUBLISHED-TTL:PT1H
BEGIN:VTIMEZONE
TZID:America/Los_Angeles
BEGIN:DAYLIGHT
TZOFFSETFROM:-0800
TZOFFSETTO:-0700
TZNAME:PDT
DTSTART:20220313T100000
END:DAYLIGHT
BEGIN:STANDARD
TZOFFSETFROM:-0700
TZOFFSETTO:-0800
TZNAME:PST
DTSTART:20221106T090000
END:STANDARD
BEGIN:DAYLIGHT
TZOFFSETFROM:-0800
TZOFFSETTO:-0700
TZNAME:PDT
DTSTART:20230312T100000
END:DAYLIGHT
BEGIN:STANDARD
TZOFFSETFROM:-0700
TZOFFSETTO:-0800
TZNAME:PST
DTSTART:20231105T090000
END:STANDARD
END:VTIMEZONE
BEGIN:VEVENT
DTSTART;TZID=America/Los_Angeles:20230525T180000
DTEND;TZID=America/Los_Angeles:20230525T200000
DTSTAMP:20260423T231358
CREATED:20230428T163759Z
LAST-MODIFIED:20230428T163759Z
UID:6268-1685037600-1685044800@www.vccfresno.org
SUMMARY:Potluck & Line Dancing
DESCRIPTION:We are in for a great time of dinner\, fellowship and line dancing on Thursday\, May 25th at VALLEY in Rooms 402-403 from 6:00-8:00pm!\nCome learn beginning line dancing (taught by the Pughs) or just join us for the potluck! \nREGISTER HERE!
URL:https://www.vccfresno.org/event/potluck-line-dancing/
LOCATION:Valley Christian Center\, 4649 E. Shields Ave\, Fresno\, CA\, 93726\, United States
CATEGORIES:PrimeTime
ATTACH;FMTTYPE=image/png:https://www.vccfresno.org/wp-content/uploads/2023/04/PT55-May-2023-PotluckLineDancing-Banner-1000x562px.png
END:VEVENT
BEGIN:VEVENT
DTSTART;TZID=America/Los_Angeles:20230516T180000
DTEND;TZID=America/Los_Angeles:20230516T200000
DTSTAMP:20260423T231358
CREATED:20230428T163031Z
LAST-MODIFIED:20230428T164640Z
UID:6261-1684260000-1684267200@www.vccfresno.org
SUMMARY:PrimeTime 55+ BUNCO Night
DESCRIPTION:Back by popular demand…BUNCO Night!\nCome enjoy this fun\, fast-paced game on Thursday\, May 16th at VALLEY in the All Purpose Room from 6:00-8:00pm with all your PrimeTime 55+ friends!\n\n  \nREGISTER HERE!
URL:https://www.vccfresno.org/event/primetime-55-bunco-night/
LOCATION:Valley Christian Center\, 4649 E. Shields Ave\, Fresno\, CA\, 93726\, United States
CATEGORIES:PrimeTime
ATTACH;FMTTYPE=image/png:https://www.vccfresno.org/wp-content/uploads/2023/04/PT55-May-2023-BUNCO-Banner-1000-×-562-px.png
END:VEVENT
BEGIN:VEVENT
DTSTART;TZID=America/Los_Angeles:20230507T113000
DTEND;TZID=America/Los_Angeles:20230507T130000
DTSTAMP:20260423T231358
CREATED:20230206T183331Z
LAST-MODIFIED:20230308T171741Z
UID:6161-1683459000-1683464400@www.vccfresno.org
SUMMARY:PrimeTime55+ Brunch After Church
DESCRIPTION:Come hang out with old and new friends as we enjoy brunch together! Find out all the details when you sign up in the Courtyard before service (9:30-9:55am) on May 7th.
URL:https://www.vccfresno.org/event/primetime55-brunch-after-church-16/
CATEGORIES:PrimeTime
ATTACH;FMTTYPE=image/png:https://www.vccfresno.org/wp-content/uploads/2023/02/PT-Brunch-After-Service-Banner.png
END:VEVENT
BEGIN:VEVENT
DTSTART;TZID=America/Los_Angeles:20230406T180000
DTEND;TZID=America/Los_Angeles:20230406T200000
DTSTAMP:20260423T231358
CREATED:20230322T184956Z
LAST-MODIFIED:20230327T162804Z
UID:6208-1680804000-1680811200@www.vccfresno.org
SUMMARY:PrimeTime 55+ Game Night
DESCRIPTION:Join us for Game Night on Thursday\, April 6th from 6:00-8:00pm in Room 305! \nBring your favorite card or board game and a snack to share! \nSee you there! \nSIGN UP HERE!
URL:https://www.vccfresno.org/event/primetime-55-game-night/
LOCATION:Valley Christian Center\, 4649 E. Shields Ave\, Fresno\, CA\, 93726\, United States
CATEGORIES:PrimeTime
ATTACH;FMTTYPE=image/png:https://www.vccfresno.org/wp-content/uploads/2023/03/PT55-April-2023-Game-Night-Banner.png
END:VEVENT
BEGIN:VEVENT
DTSTART;TZID=America/Los_Angeles:20230402T113000
DTEND;TZID=America/Los_Angeles:20230402T130000
DTSTAMP:20260423T231358
CREATED:20230206T183254Z
LAST-MODIFIED:20230308T171732Z
UID:6159-1680435000-1680440400@www.vccfresno.org
SUMMARY:PrimeTime55+ Brunch After Church
DESCRIPTION:Come hang out with old and new friends as we enjoy brunch together! Find out all the details when you sign up in the Courtyard before service (9:30-9:55am) on April 2nd.
URL:https://www.vccfresno.org/event/primetime55-brunch-after-church-15/
CATEGORIES:PrimeTime
ATTACH;FMTTYPE=image/png:https://www.vccfresno.org/wp-content/uploads/2023/02/PT-Brunch-After-Service-Banner.png
END:VEVENT
BEGIN:VEVENT
DTSTART;TZID=America/Los_Angeles:20230323T133000
DTEND;TZID=America/Los_Angeles:20230323T153000
DTSTAMP:20260423T231358
CREATED:20230308T171501Z
LAST-MODIFIED:20230308T171501Z
UID:6202-1679578200-1679585400@www.vccfresno.org
SUMMARY:PrimeTime 55+ Bingo in the Afternoon
DESCRIPTION:Back by popular demand!\n\nWe’re playing BINGO on March 23rd from 1:30-3:30pm in the All Purpose Room!\nBring your favorite snack and plan on having a good time!\n\nLet’s have fun – B10 – I23 – N26 – G52 – O70!\nSIGN UP HERE!
URL:https://www.vccfresno.org/event/primetime-55-bingo-in-the-afternoon-2/
CATEGORIES:PrimeTime
ATTACH;FMTTYPE=image/png:https://www.vccfresno.org/wp-content/uploads/2023/03/BINGO-Banner-NewLogo.png
END:VEVENT
BEGIN:VEVENT
DTSTART;TZID=America/Los_Angeles:20230305T113000
DTEND;TZID=America/Los_Angeles:20230305T130000
DTSTAMP:20260423T231358
CREATED:20230206T183218Z
LAST-MODIFIED:20230206T183218Z
UID:6157-1678015800-1678021200@www.vccfresno.org
SUMMARY:PrimeTime55+ Brunch After Church
DESCRIPTION:Come hang out with old and new friends as we enjoy brunch together! Find out all the details when you sign up in the Courtyard before service (9:30-9:55am) on March 5th.
URL:https://www.vccfresno.org/event/primetime55-brunch-after-church-14/
CATEGORIES:PrimeTime
ATTACH;FMTTYPE=image/png:https://www.vccfresno.org/wp-content/uploads/2022/02/DO-NOT-TOUCH-ORIGINAL-Hexagon-Logos-4.png
END:VEVENT
BEGIN:VEVENT
DTSTART;TZID=America/Los_Angeles:20230205T113000
DTEND;TZID=America/Los_Angeles:20230205T130000
DTSTAMP:20260423T231358
CREATED:20230206T183135Z
LAST-MODIFIED:20230206T183135Z
UID:6155-1675596600-1675602000@www.vccfresno.org
SUMMARY:PrimeTime55+ Brunch After Church
DESCRIPTION:Come hang out with old and new friends as we enjoy brunch together! Find out all the details when you sign up in the Courtyard before service (9:30-9:55am) on February 5th.
URL:https://www.vccfresno.org/event/primetime55-brunch-after-church-13/
CATEGORIES:PrimeTime
ATTACH;FMTTYPE=image/png:https://www.vccfresno.org/wp-content/uploads/2022/02/DO-NOT-TOUCH-ORIGINAL-Hexagon-Logos-4.png
END:VEVENT
BEGIN:VEVENT
DTSTART;TZID=America/Los_Angeles:20221204T113000
DTEND;TZID=America/Los_Angeles:20221204T130000
DTSTAMP:20260423T231358
CREATED:20211204T031952Z
LAST-MODIFIED:20220205T014803Z
UID:4261-1670153400-1670158800@www.vccfresno.org
SUMMARY:PrimeTime55+ Brunch After Church
DESCRIPTION:Come hang out with old and new friends as we enjoy brunch together! Find out all the details when you sign up in the Courtyard before service (9:30-9:55am) on December 4th. 
URL:https://www.vccfresno.org/event/primetime55-brunch-after-church-12/
CATEGORIES:PrimeTime
ATTACH;FMTTYPE=image/png:https://www.vccfresno.org/wp-content/uploads/2021/12/PT-Brunch-After-Service-Banner-1.png
END:VEVENT
BEGIN:VEVENT
DTSTART;TZID=America/Los_Angeles:20221203T120000
DTEND;TZID=America/Los_Angeles:20221203T150000
DTSTAMP:20260423T231358
CREATED:20211204T025917Z
LAST-MODIFIED:20221031T030401Z
UID:4236-1670068800-1670079600@www.vccfresno.org
SUMMARY:PrimeTime 55+ A Touch of Italy Christmas Luncheon
DESCRIPTION:Join us on Saturday\, December 3rd from 12:00-3:00pm in the All Purpose Room as we kick-off the Christmas season with an Italian-style lunch catered by Luna Italian Restaurant. A gluten-free option will be available. \n\nIt’s going to be a great time of food\, music\, fun games and Christmas carols with Santa!\n\n\nSIGN UP HERE!
URL:https://www.vccfresno.org/event/primetime-55-christmas-potluck/
CATEGORIES:PrimeTime
ATTACH;FMTTYPE=image/png:https://www.vccfresno.org/wp-content/uploads/2021/12/October-2022-PrimeTime-55-Christmas-Luncheon-Banner-1000x562px.png
END:VEVENT
BEGIN:VEVENT
DTSTART;TZID=America/Los_Angeles:20221113T140000
DTEND;TZID=America/Los_Angeles:20221113T160000
DTSTAMP:20260423T231358
CREATED:20220305T010740Z
LAST-MODIFIED:20220929T160818Z
UID:5240-1668348000-1668355200@www.vccfresno.org
SUMMARY:2nd Space Theatre Day
DESCRIPTION:We are taking reservations now for our trip to the 2nd Space Theatre (928 E. Olive Ave.) on Sunday\, November 13th where we’ll see the 2:00pm showing of The (Worst) Best Christmas Pageant Ever. \nABOUT THE SHOW:\nPlagued with being assigned the most misbehaved children in school to participate in this year’s Annual Christmas Program\, the frustrated teacher soon learns that talent\, charm and possibilities also abound in the less-than-perfect students. Lose yourself in an afternoon of laughter and heart-warming nostalgia as you relive your childhood and the fun that abounds at Christmas time. \nTicket price per person is $20.00 and online reservations MUST be made by 5:00pm on October 9th. \nFYI – 2nd Space Theatre COVID-19 requirements: They will accept full vaccination card OR proof of negative rapid COVID test taken the day of the performance. Masks are required. \n**Once registered\, you will and email with additional important information** \nSIGN UP HERE!
URL:https://www.vccfresno.org/event/primetime-55-homemade-holidays-at-2nd-space-theater/
CATEGORIES:PrimeTime
ATTACH;FMTTYPE=image/png:https://www.vccfresno.org/wp-content/uploads/2022/03/September-2022-PrimeTime-55-November-2nd-Space-Theatre-Day-Banner-1000x562px.png
END:VEVENT
BEGIN:VEVENT
DTSTART;TZID=America/Los_Angeles:20221106T113000
DTEND;TZID=America/Los_Angeles:20221106T130000
DTSTAMP:20260423T231358
CREATED:20211204T031914Z
LAST-MODIFIED:20220205T014827Z
UID:4259-1667734200-1667739600@www.vccfresno.org
SUMMARY:PrimeTime55+ Brunch After Church
DESCRIPTION:Come hang out with old and new friends as we enjoy brunch together! Find out all the details when you sign up in the Courtyard before service (9:30-9:55am) on November 6th.
URL:https://www.vccfresno.org/event/primetime55-brunch-after-church-11/
CATEGORIES:PrimeTime
ATTACH;FMTTYPE=image/png:https://www.vccfresno.org/wp-content/uploads/2021/12/PT-Brunch-After-Service-Banner-1.png
END:VEVENT
BEGIN:VEVENT
DTSTART;TZID=America/Los_Angeles:20221010T100000
DTEND;TZID=America/Los_Angeles:20221010T120000
DTSTAMP:20260423T231358
CREATED:20220929T160556Z
LAST-MODIFIED:20220930T152844Z
UID:5858-1665396000-1665403200@www.vccfresno.org
SUMMARY:PrimeTime 55+ Legion of Valor Museum Day
DESCRIPTION:Come visit the Legion of Valor Museum with us on October 10th at 10:00am.\n\nThe museum is focused on cultivating and honoring veteran’s history. Come see the numerous framed citations\, photographs and exhibits that tell the story of America’s wars as seen by individual soldiers\, sailors\, marine and airmen. Uniforms and equipment of different eras are on display as well. \n\nThe museum is located in the Fresno Memorial Building (2425 Fresno St.). \nSIGN UP HERE!
URL:https://www.vccfresno.org/event/primetime-55-legion-of-valor-museum-day/
CATEGORIES:PrimeTime
ATTACH;FMTTYPE=image/png:https://www.vccfresno.org/wp-content/uploads/2022/09/September-2022-PrimeTime-55-October-Legion-of-Valor-Museum-Day-Banner-1000x562px.png
END:VEVENT
BEGIN:VEVENT
DTSTART;TZID=America/Los_Angeles:20221002T110000
DTEND;TZID=America/Los_Angeles:20221002T130000
DTSTAMP:20260423T231358
CREATED:20211204T031829Z
LAST-MODIFIED:20220205T014900Z
UID:4257-1664708400-1664715600@www.vccfresno.org
SUMMARY:PrimeTime55+ Brunch After Church
DESCRIPTION:Come hang out with old and new friends as we enjoy brunch together! Find out all the details when you sign up in the Courtyard before service (9:30-9:55am) on October 2nd.
URL:https://www.vccfresno.org/event/primetime55-brunch-after-church-10/
CATEGORIES:PrimeTime
ATTACH;FMTTYPE=image/png:https://www.vccfresno.org/wp-content/uploads/2021/12/PT-Brunch-After-Service-Banner-1.png
END:VEVENT
BEGIN:VEVENT
DTSTART;TZID=America/Los_Angeles:20220925T120000
DTEND;TZID=America/Los_Angeles:20220925T163000
DTSTAMP:20260423T231358
CREATED:20220305T010658Z
LAST-MODIFIED:20220901T060601Z
UID:5238-1664107200-1664123400@www.vccfresno.org
SUMMARY:Taco Bar Open House
DESCRIPTION:Join us on Sunday\, September 25th between 12:00-4:30pm for a great afternoon of visiting with old friends\, meeting new ones and eating tacos – YUM!\n**Once registered\, you will receive location address and information**\n\n\nSIGN UP HERE!
URL:https://www.vccfresno.org/event/primetime-55-taco-bar-sunday/
CATEGORIES:PrimeTime
ATTACH;FMTTYPE=image/png:https://www.vccfresno.org/wp-content/uploads/2022/03/August-2022-PrimeTime-55-September-Taco-Bar-Banner-1000x562px-.png
END:VEVENT
BEGIN:VEVENT
DTSTART;TZID=America/Los_Angeles:20220904T113000
DTEND;TZID=America/Los_Angeles:20220904T130000
DTSTAMP:20260423T231358
CREATED:20211204T031742Z
LAST-MODIFIED:20220205T014929Z
UID:4255-1662291000-1662296400@www.vccfresno.org
SUMMARY:PrimeTime55+ Brunch After Church
DESCRIPTION:Come hang out with old and new friends as we enjoy brunch together! Find out all the details when you sign up in the Courtyard before service (9:30-9:55am) on September 4th.
URL:https://www.vccfresno.org/event/primetime55-brunch-after-church-9/
CATEGORIES:PrimeTime
ATTACH;FMTTYPE=image/png:https://www.vccfresno.org/wp-content/uploads/2021/12/PT-Brunch-After-Service-Banner-1.png
END:VEVENT
BEGIN:VEVENT
DTSTART;TZID=America/Los_Angeles:20220807T113000
DTEND;TZID=America/Los_Angeles:20220807T130000
DTSTAMP:20260423T231358
CREATED:20211204T031708Z
LAST-MODIFIED:20220205T014957Z
UID:4253-1659871800-1659877200@www.vccfresno.org
SUMMARY:PrimeTime55+ Brunch After Church
DESCRIPTION:Come hang out with old and new friends as we enjoy brunch together! Find out all the details when you sign up in the Courtyard before service (9:30-9:55am) on August 7th.
URL:https://www.vccfresno.org/event/primetime55-brunch-after-church-8/
CATEGORIES:PrimeTime
ATTACH;FMTTYPE=image/png:https://www.vccfresno.org/wp-content/uploads/2021/12/PT-Brunch-After-Service-Banner-1.png
END:VEVENT
BEGIN:VEVENT
DTSTART;TZID=America/Los_Angeles:20220711T120000
DTEND;TZID=America/Los_Angeles:20220711T153000
DTSTAMP:20260423T231358
CREATED:20220629T165853Z
LAST-MODIFIED:20220629T165909Z
UID:5770-1657540800-1657553400@www.vccfresno.org
SUMMARY:PrimeTime 55+ Movie Matinee
DESCRIPTION:Join us Monday\, July 11th from 12:00-3:30pm for our matinee showing of American Underdog\, the uplifting story about football but also about faith\, family and never giving up! \n\nRemember to bring your lunch and join the team in Room 402!\n\nREGISTER HERE!
URL:https://www.vccfresno.org/event/primetime-55-movie-matinee-2/
CATEGORIES:PrimeTime
ATTACH;FMTTYPE=image/png:https://www.vccfresno.org/wp-content/uploads/2022/06/June-2022-PrimeTime-55-July-Movie-Matinee-Banner-1000-×-562-px.png
END:VEVENT
BEGIN:VEVENT
DTSTART;TZID=America/Los_Angeles:20220703T113000
DTEND;TZID=America/Los_Angeles:20220703T130000
DTSTAMP:20260423T231358
CREATED:20211204T031631Z
LAST-MODIFIED:20220205T015037Z
UID:4251-1656847800-1656853200@www.vccfresno.org
SUMMARY:PrimeTime55+ Brunch After Church
DESCRIPTION:Come hang out with old and new friends as we enjoy brunch together! Find out all the details when you sign up in the Courtyard before service (9:30-9:55am) on July 3rd.
URL:https://www.vccfresno.org/event/primetime55-brunch-after-church-7/
CATEGORIES:PrimeTime
ATTACH;FMTTYPE=image/png:https://www.vccfresno.org/wp-content/uploads/2021/12/PT-Brunch-After-Service-Banner-1.png
END:VEVENT
BEGIN:VEVENT
DTSTART;TZID=America/Los_Angeles:20220605T113000
DTEND;TZID=America/Los_Angeles:20220605T130000
DTSTAMP:20260423T231358
CREATED:20211204T031550Z
LAST-MODIFIED:20220205T015111Z
UID:4249-1654428600-1654434000@www.vccfresno.org
SUMMARY:PrimeTime55+ Brunch After Church
DESCRIPTION:Come hang out with old and new friends as we enjoy brunch together! Find out all the details when you sign up in the Courtyard before service (9:30-9:55am) on June 5th.
URL:https://www.vccfresno.org/event/primetime55-brunch-after-church-6/
CATEGORIES:PrimeTime
ATTACH;FMTTYPE=image/png:https://www.vccfresno.org/wp-content/uploads/2021/12/PT-Brunch-After-Service-Banner-1.png
END:VEVENT
BEGIN:VEVENT
DTSTART;TZID=America/Los_Angeles:20220602T183000
DTEND;TZID=America/Los_Angeles:20220602T203000
DTSTAMP:20260423T231358
CREATED:20211204T025719Z
LAST-MODIFIED:20220504T163450Z
UID:4230-1654194600-1654201800@www.vccfresno.org
SUMMARY:Mini Golf
DESCRIPTION:Join us at Blackbeard’s Family Entertainment Center (4055 N. Chestnut Diagonal/Fresno 93726) on Thursday\, June 2nd at 6:30pm as we meet up on the course with our PrimeTime 55+ friends. Cost is $12.00 per person.\n\nAfterwards\, we’ll be going to Flame It Burgers next door where you can get a yummy treat while we hand out prizes!\n\nReady to sink that hole-in-one? See you there!\n\n\nSIGN UP HERE!
URL:https://www.vccfresno.org/event/primetime-55-mini-golf/
CATEGORIES:PrimeTime
ATTACH;FMTTYPE=image/png:https://www.vccfresno.org/wp-content/uploads/2021/12/PT-Miniature-Golf-Banner-1000-×-562-px.png
END:VEVENT
BEGIN:VEVENT
DTSTART;TZID=America/Los_Angeles:20220522T140000
DTEND;TZID=America/Los_Angeles:20220522T160000
DTSTAMP:20260423T231358
CREATED:20220305T010459Z
LAST-MODIFIED:20220310T152840Z
UID:5236-1653228000-1653235200@www.vccfresno.org
SUMMARY:PrimeTime 55+ Shrek The Musical at the Golden Chain Theater
DESCRIPTION:We are taking early reservations (in order to reserve the best seats) for our trip to the Golden Chain Theater (42130 Hwy 41\, Oakhurst) on Sunday\, May 22nd where we’ll see the 2:00pm showing of Shrek The Musical.\n\nThose who are interested are welcome to join us on the way home at El Cid Mexican Cuisine (41939 Hwy 41\, Oakhurst) for a no-host\, post-show meal\, YUM!\n\nThe price per person is $17.00 and reservations MUST be made by March 27th. You don’t want to miss it!\n\nRegister for Shrek The Musical in the Courtyard before and after service on March 20th and March 27th or online March 14th-27th here:\n\n\nSIGN UP HERE!\n\n 
URL:https://www.vccfresno.org/event/primetime-55-shrek-the-musical-at-the-golden-chain-theater/
CATEGORIES:PrimeTime
ATTACH;FMTTYPE=image/png:https://www.vccfresno.org/wp-content/uploads/2022/03/PrimeTime55-May-Shrek-the-Musical-Banner-500x281px.png
END:VEVENT
BEGIN:VEVENT
DTSTART;TZID=America/Los_Angeles:20220503T183000
DTEND;TZID=America/Los_Angeles:20220503T203000
DTSTAMP:20260423T231358
CREATED:20211204T025622Z
LAST-MODIFIED:20220420T212949Z
UID:4228-1651602600-1651609800@www.vccfresno.org
SUMMARY:PrimeTime 55+ BUNCO in the APR
DESCRIPTION:Back by popular demand…BUNCO!\n\nCome enjoy this fun\, fast-paced game on Tuesday\, May 3rd at VALLEY in the APR from 6:30-8:30pm with all your PrimeTime 55+ friends!\n\nSIGN UP HERE!
URL:https://www.vccfresno.org/event/primetime-55-bunco/
CATEGORIES:PrimeTime
ATTACH;FMTTYPE=image/png:https://www.vccfresno.org/wp-content/uploads/2021/12/PT-BUNCO-in-the-APR-Banner-1000-×-562-px.png
END:VEVENT
BEGIN:VEVENT
DTSTART;TZID=America/Los_Angeles:20220501T113000
DTEND;TZID=America/Los_Angeles:20220501T130000
DTSTAMP:20260423T231358
CREATED:20211204T031505Z
LAST-MODIFIED:20220205T015145Z
UID:4247-1651404600-1651410000@www.vccfresno.org
SUMMARY:PrimeTime55+ Brunch After Church
DESCRIPTION:Come hang out with old and new friends as we enjoy brunch together! Find out all the details when you sign up in the Courtyard before service (9:30-9:55am) on May 1st.
URL:https://www.vccfresno.org/event/primetime55-brunch-after-church-5/
CATEGORIES:PrimeTime
ATTACH;FMTTYPE=image/png:https://www.vccfresno.org/wp-content/uploads/2021/12/PT-Brunch-After-Service-Banner-1.png
END:VEVENT
BEGIN:VEVENT
DTSTART;TZID=America/Los_Angeles:20220428T100000
DTEND;TZID=America/Los_Angeles:20220428T130000
DTSTAMP:20260423T231358
CREATED:20220305T010350Z
LAST-MODIFIED:20220330T030152Z
UID:5234-1651140000-1651150800@www.vccfresno.org
SUMMARY:Chaffee Zoo Day
DESCRIPTION:Come have a roaring good time at the Fresno Chaffee Zoo with your PrimeTime 55+ friends!\n\nThursday\, April 28th at 10:00am\n\nCost: $14.95 per person (Under Age 62) or $8.95 per person (Ages 62+)\n\nThere is a $5.00 per car entrance fee to Roeding Park. If you are interested in carpooling (needing or providing a ride)\, please be sure to let us know in the Transportation section below!\n\n**Please Note – Vaccinated guests are NOT required to wear masks in the OUTDOOR areas\, but ALL guests are encourage to wear masks in the INDOOR areas or when feeding the giraffes.**\n\nRegister for Chaffee Zoo Day in the Courtyard before Sunday service on April 3rd\, before and after Sunday service on April 10th and April 24th or online April 3rd – April 24th here: \nSIGN UP HERE!
URL:https://www.vccfresno.org/event/primetime-55-chaffee-zoo-adventure/
CATEGORIES:PrimeTime
ATTACH;FMTTYPE=image/png:https://www.vccfresno.org/wp-content/uploads/2022/03/PrimeTime55-Chaffee-Zoo-Day-Banner-1000-×-562-px.png
END:VEVENT
BEGIN:VEVENT
DTSTART;TZID=America/Los_Angeles:20220403T113000
DTEND;TZID=America/Los_Angeles:20220403T130000
DTSTAMP:20260423T231358
CREATED:20211204T031412Z
LAST-MODIFIED:20220205T015226Z
UID:4245-1648985400-1648990800@www.vccfresno.org
SUMMARY:PrimeTime55+ Brunch After Church
DESCRIPTION:Come hang out with old and new friends as we enjoy brunch together! Find out all the details when you sign up in the Courtyard before service (9:30-9:55am) on April 3rd.
URL:https://www.vccfresno.org/event/primetime55-brunch-after-church-4/
CATEGORIES:PrimeTime
ATTACH;FMTTYPE=image/png:https://www.vccfresno.org/wp-content/uploads/2021/12/PT-Brunch-After-Service-Banner-1.png
END:VEVENT
BEGIN:VEVENT
DTSTART;TZID=America/Los_Angeles:20220324T130000
DTEND;TZID=America/Los_Angeles:20220324T160000
DTSTAMP:20260423T231358
CREATED:20220305T010157Z
LAST-MODIFIED:20220310T013834Z
UID:5232-1648126800-1648137600@www.vccfresno.org
SUMMARY:PrimeTime 55+ Bingo in the Afternoon
DESCRIPTION:Back by popular demand!\n\n\nWe’re playing BINGO on March 24th from 1:00-4:00pm in the All Purpose Room! \n\nBring your favorite snack and plan on having a good time! Let’s have fun – B10 – I23 – N26 – G52 – O70!\n\nRegister for BINGO in the Afternoon in the Courtyard before and after service on March 20th or online March 14th-20th here:\n\nSIGN UP HERE!
URL:https://www.vccfresno.org/event/primetime-55-bingo-in-the-afternoon/
CATEGORIES:PrimeTime
ATTACH;FMTTYPE=image/png:https://www.vccfresno.org/wp-content/uploads/2022/03/BINGO-Banner-NewLogo-500x281-1.png
END:VEVENT
BEGIN:VEVENT
DTSTART;TZID=America/Los_Angeles:20220306T113000
DTEND;TZID=America/Los_Angeles:20220306T130000
DTSTAMP:20260423T231358
CREATED:20211204T031324Z
LAST-MODIFIED:20220205T015302Z
UID:4243-1646566200-1646571600@www.vccfresno.org
SUMMARY:PrimeTime55+ Brunch After Church
DESCRIPTION:Come hang out with old and new friends as we enjoy brunch together! Find out all the details when you sign up in the Courtyard before service (9:30-9:55am) on March 6th.
URL:https://www.vccfresno.org/event/primetime55-brunch-after-church-3/
CATEGORIES:PrimeTime
ATTACH;FMTTYPE=image/png:https://www.vccfresno.org/wp-content/uploads/2021/12/PT-Brunch-After-Service-Banner-1.png
END:VEVENT
BEGIN:VEVENT
DTSTART;TZID=America/Los_Angeles:20220214T120000
DTEND;TZID=America/Los_Angeles:20220214T150000
DTSTAMP:20260423T231358
CREATED:20220125T005622Z
LAST-MODIFIED:20220205T015551Z
UID:4448-1644840000-1644850800@www.vccfresno.org
SUMMARY:PrimeTime 55+ Valentine’s Day Movie Matinee
DESCRIPTION:Celebrate Valentine’s Day\, February 14th\, with lunch and a movie with your PrimeTime 55+ friends!\n\nBring your favorite sack lunch and join us in Room 402 at 12:00pm. We’ll be watching Badge of Faith. Whatever you think about police stories; think again. This film will make you laugh\, cry and cheer for the resilience of the human spirit.\n\nSign up for the Valentine’s Day Movie Matinee in the Courtyard after service on February 13th or online February 7th-13th.\n\nSIGN UP HERE!
URL:https://www.vccfresno.org/event/primetime-55-valentines-day-movie-matinee/
CATEGORIES:PrimeTime
ATTACH;FMTTYPE=image/png:https://www.vccfresno.org/wp-content/uploads/2022/01/PrimeTime-55-February-Movie-Matinee-New-Logo-Banner.png
END:VEVENT
BEGIN:VEVENT
DTSTART;TZID=America/Los_Angeles:20220206T113000
DTEND;TZID=America/Los_Angeles:20220206T130000
DTSTAMP:20260423T231358
CREATED:20211204T031241Z
LAST-MODIFIED:20220205T015339Z
UID:4241-1644147000-1644152400@www.vccfresno.org
SUMMARY:PrimeTime55+ Brunch After Church
DESCRIPTION:Come hang out with old and new friends as we enjoy brunch together! Find out all the details when you sign up in the Courtyard before service (9:30-9:55am) on February 6th.
URL:https://www.vccfresno.org/event/primetime55-brunch-after-church-2/
CATEGORIES:PrimeTime
ATTACH;FMTTYPE=image/png:https://www.vccfresno.org/wp-content/uploads/2021/12/PT-Brunch-After-Service-Banner-1.png
END:VEVENT
END:VCALENDAR