BEGIN:VCALENDAR
VERSION:2.0
PRODID:-//Valley Christian Center - ECPv6.13.2.1//NONSGML v1.0//EN
CALSCALE:GREGORIAN
METHOD:PUBLISH
X-WR-CALNAME:Valley Christian Center
X-ORIGINAL-URL:https://www.vccfresno.org
X-WR-CALDESC:Events for Valley Christian Center
REFRESH-INTERVAL;VALUE=DURATION:PT1H
X-Robots-Tag:noindex
X-PUBLISHED-TTL:PT1H
BEGIN:VTIMEZONE
TZID:America/Los_Angeles
BEGIN:DAYLIGHT
TZOFFSETFROM:-0800
TZOFFSETTO:-0700
TZNAME:PDT
DTSTART:20190310T100000
END:DAYLIGHT
BEGIN:STANDARD
TZOFFSETFROM:-0700
TZOFFSETTO:-0800
TZNAME:PST
DTSTART:20191103T090000
END:STANDARD
BEGIN:DAYLIGHT
TZOFFSETFROM:-0800
TZOFFSETTO:-0700
TZNAME:PDT
DTSTART:20200308T100000
END:DAYLIGHT
BEGIN:STANDARD
TZOFFSETFROM:-0700
TZOFFSETTO:-0800
TZNAME:PST
DTSTART:20201101T090000
END:STANDARD
BEGIN:DAYLIGHT
TZOFFSETFROM:-0800
TZOFFSETTO:-0700
TZNAME:PDT
DTSTART:20210314T100000
END:DAYLIGHT
BEGIN:STANDARD
TZOFFSETFROM:-0700
TZOFFSETTO:-0800
TZNAME:PST
DTSTART:20211107T090000
END:STANDARD
BEGIN:DAYLIGHT
TZOFFSETFROM:-0800
TZOFFSETTO:-0700
TZNAME:PDT
DTSTART:20220313T100000
END:DAYLIGHT
BEGIN:STANDARD
TZOFFSETFROM:-0700
TZOFFSETTO:-0800
TZNAME:PST
DTSTART:20221106T090000
END:STANDARD
END:VTIMEZONE
BEGIN:VEVENT
DTSTART;TZID=America/Los_Angeles:20220602T183000
DTEND;TZID=America/Los_Angeles:20220602T203000
DTSTAMP:20260424T022234
CREATED:20211204T025719Z
LAST-MODIFIED:20220504T163450Z
UID:4230-1654194600-1654201800@www.vccfresno.org
SUMMARY:Mini Golf
DESCRIPTION:Join us at Blackbeard’s Family Entertainment Center (4055 N. Chestnut Diagonal/Fresno 93726) on Thursday\, June 2nd at 6:30pm as we meet up on the course with our PrimeTime 55+ friends. Cost is $12.00 per person.\n\nAfterwards\, we’ll be going to Flame It Burgers next door where you can get a yummy treat while we hand out prizes!\n\nReady to sink that hole-in-one? See you there!\n\n\nSIGN UP HERE!
URL:https://www.vccfresno.org/event/primetime-55-mini-golf/
CATEGORIES:PrimeTime
ATTACH;FMTTYPE=image/png:https://www.vccfresno.org/wp-content/uploads/2021/12/PT-Miniature-Golf-Banner-1000-×-562-px.png
END:VEVENT
BEGIN:VEVENT
DTSTART;TZID=America/Los_Angeles:20220522T140000
DTEND;TZID=America/Los_Angeles:20220522T160000
DTSTAMP:20260424T022234
CREATED:20220305T010459Z
LAST-MODIFIED:20220310T152840Z
UID:5236-1653228000-1653235200@www.vccfresno.org
SUMMARY:PrimeTime 55+ Shrek The Musical at the Golden Chain Theater
DESCRIPTION:We are taking early reservations (in order to reserve the best seats) for our trip to the Golden Chain Theater (42130 Hwy 41\, Oakhurst) on Sunday\, May 22nd where we’ll see the 2:00pm showing of Shrek The Musical.\n\nThose who are interested are welcome to join us on the way home at El Cid Mexican Cuisine (41939 Hwy 41\, Oakhurst) for a no-host\, post-show meal\, YUM!\n\nThe price per person is $17.00 and reservations MUST be made by March 27th. You don’t want to miss it!\n\nRegister for Shrek The Musical in the Courtyard before and after service on March 20th and March 27th or online March 14th-27th here:\n\n\nSIGN UP HERE!\n\n 
URL:https://www.vccfresno.org/event/primetime-55-shrek-the-musical-at-the-golden-chain-theater/
CATEGORIES:PrimeTime
ATTACH;FMTTYPE=image/png:https://www.vccfresno.org/wp-content/uploads/2022/03/PrimeTime55-May-Shrek-the-Musical-Banner-500x281px.png
END:VEVENT
BEGIN:VEVENT
DTSTART;TZID=America/Los_Angeles:20220503T183000
DTEND;TZID=America/Los_Angeles:20220503T203000
DTSTAMP:20260424T022234
CREATED:20211204T025622Z
LAST-MODIFIED:20220420T212949Z
UID:4228-1651602600-1651609800@www.vccfresno.org
SUMMARY:PrimeTime 55+ BUNCO in the APR
DESCRIPTION:Back by popular demand…BUNCO!\n\nCome enjoy this fun\, fast-paced game on Tuesday\, May 3rd at VALLEY in the APR from 6:30-8:30pm with all your PrimeTime 55+ friends!\n\nSIGN UP HERE!
URL:https://www.vccfresno.org/event/primetime-55-bunco/
CATEGORIES:PrimeTime
ATTACH;FMTTYPE=image/png:https://www.vccfresno.org/wp-content/uploads/2021/12/PT-BUNCO-in-the-APR-Banner-1000-×-562-px.png
END:VEVENT
BEGIN:VEVENT
DTSTART;TZID=America/Los_Angeles:20220501T113000
DTEND;TZID=America/Los_Angeles:20220501T130000
DTSTAMP:20260424T022234
CREATED:20211204T031505Z
LAST-MODIFIED:20220205T015145Z
UID:4247-1651404600-1651410000@www.vccfresno.org
SUMMARY:PrimeTime55+ Brunch After Church
DESCRIPTION:Come hang out with old and new friends as we enjoy brunch together! Find out all the details when you sign up in the Courtyard before service (9:30-9:55am) on May 1st.
URL:https://www.vccfresno.org/event/primetime55-brunch-after-church-5/
CATEGORIES:PrimeTime
ATTACH;FMTTYPE=image/png:https://www.vccfresno.org/wp-content/uploads/2021/12/PT-Brunch-After-Service-Banner-1.png
END:VEVENT
BEGIN:VEVENT
DTSTART;TZID=America/Los_Angeles:20220428T100000
DTEND;TZID=America/Los_Angeles:20220428T130000
DTSTAMP:20260424T022234
CREATED:20220305T010350Z
LAST-MODIFIED:20220330T030152Z
UID:5234-1651140000-1651150800@www.vccfresno.org
SUMMARY:Chaffee Zoo Day
DESCRIPTION:Come have a roaring good time at the Fresno Chaffee Zoo with your PrimeTime 55+ friends!\n\nThursday\, April 28th at 10:00am\n\nCost: $14.95 per person (Under Age 62) or $8.95 per person (Ages 62+)\n\nThere is a $5.00 per car entrance fee to Roeding Park. If you are interested in carpooling (needing or providing a ride)\, please be sure to let us know in the Transportation section below!\n\n**Please Note – Vaccinated guests are NOT required to wear masks in the OUTDOOR areas\, but ALL guests are encourage to wear masks in the INDOOR areas or when feeding the giraffes.**\n\nRegister for Chaffee Zoo Day in the Courtyard before Sunday service on April 3rd\, before and after Sunday service on April 10th and April 24th or online April 3rd – April 24th here: \nSIGN UP HERE!
URL:https://www.vccfresno.org/event/primetime-55-chaffee-zoo-adventure/
CATEGORIES:PrimeTime
ATTACH;FMTTYPE=image/png:https://www.vccfresno.org/wp-content/uploads/2022/03/PrimeTime55-Chaffee-Zoo-Day-Banner-1000-×-562-px.png
END:VEVENT
BEGIN:VEVENT
DTSTART;TZID=America/Los_Angeles:20220403T113000
DTEND;TZID=America/Los_Angeles:20220403T130000
DTSTAMP:20260424T022234
CREATED:20211204T031412Z
LAST-MODIFIED:20220205T015226Z
UID:4245-1648985400-1648990800@www.vccfresno.org
SUMMARY:PrimeTime55+ Brunch After Church
DESCRIPTION:Come hang out with old and new friends as we enjoy brunch together! Find out all the details when you sign up in the Courtyard before service (9:30-9:55am) on April 3rd.
URL:https://www.vccfresno.org/event/primetime55-brunch-after-church-4/
CATEGORIES:PrimeTime
ATTACH;FMTTYPE=image/png:https://www.vccfresno.org/wp-content/uploads/2021/12/PT-Brunch-After-Service-Banner-1.png
END:VEVENT
BEGIN:VEVENT
DTSTART;TZID=America/Los_Angeles:20220324T130000
DTEND;TZID=America/Los_Angeles:20220324T160000
DTSTAMP:20260424T022234
CREATED:20220305T010157Z
LAST-MODIFIED:20220310T013834Z
UID:5232-1648126800-1648137600@www.vccfresno.org
SUMMARY:PrimeTime 55+ Bingo in the Afternoon
DESCRIPTION:Back by popular demand!\n\n\nWe’re playing BINGO on March 24th from 1:00-4:00pm in the All Purpose Room! \n\nBring your favorite snack and plan on having a good time! Let’s have fun – B10 – I23 – N26 – G52 – O70!\n\nRegister for BINGO in the Afternoon in the Courtyard before and after service on March 20th or online March 14th-20th here:\n\nSIGN UP HERE!
URL:https://www.vccfresno.org/event/primetime-55-bingo-in-the-afternoon/
CATEGORIES:PrimeTime
ATTACH;FMTTYPE=image/png:https://www.vccfresno.org/wp-content/uploads/2022/03/BINGO-Banner-NewLogo-500x281-1.png
END:VEVENT
BEGIN:VEVENT
DTSTART;TZID=America/Los_Angeles:20220306T113000
DTEND;TZID=America/Los_Angeles:20220306T130000
DTSTAMP:20260424T022234
CREATED:20211204T031324Z
LAST-MODIFIED:20220205T015302Z
UID:4243-1646566200-1646571600@www.vccfresno.org
SUMMARY:PrimeTime55+ Brunch After Church
DESCRIPTION:Come hang out with old and new friends as we enjoy brunch together! Find out all the details when you sign up in the Courtyard before service (9:30-9:55am) on March 6th.
URL:https://www.vccfresno.org/event/primetime55-brunch-after-church-3/
CATEGORIES:PrimeTime
ATTACH;FMTTYPE=image/png:https://www.vccfresno.org/wp-content/uploads/2021/12/PT-Brunch-After-Service-Banner-1.png
END:VEVENT
BEGIN:VEVENT
DTSTART;TZID=America/Los_Angeles:20220214T120000
DTEND;TZID=America/Los_Angeles:20220214T150000
DTSTAMP:20260424T022234
CREATED:20220125T005622Z
LAST-MODIFIED:20220205T015551Z
UID:4448-1644840000-1644850800@www.vccfresno.org
SUMMARY:PrimeTime 55+ Valentine’s Day Movie Matinee
DESCRIPTION:Celebrate Valentine’s Day\, February 14th\, with lunch and a movie with your PrimeTime 55+ friends!\n\nBring your favorite sack lunch and join us in Room 402 at 12:00pm. We’ll be watching Badge of Faith. Whatever you think about police stories; think again. This film will make you laugh\, cry and cheer for the resilience of the human spirit.\n\nSign up for the Valentine’s Day Movie Matinee in the Courtyard after service on February 13th or online February 7th-13th.\n\nSIGN UP HERE!
URL:https://www.vccfresno.org/event/primetime-55-valentines-day-movie-matinee/
CATEGORIES:PrimeTime
ATTACH;FMTTYPE=image/png:https://www.vccfresno.org/wp-content/uploads/2022/01/PrimeTime-55-February-Movie-Matinee-New-Logo-Banner.png
END:VEVENT
BEGIN:VEVENT
DTSTART;TZID=America/Los_Angeles:20220206T113000
DTEND;TZID=America/Los_Angeles:20220206T130000
DTSTAMP:20260424T022234
CREATED:20211204T031241Z
LAST-MODIFIED:20220205T015339Z
UID:4241-1644147000-1644152400@www.vccfresno.org
SUMMARY:PrimeTime55+ Brunch After Church
DESCRIPTION:Come hang out with old and new friends as we enjoy brunch together! Find out all the details when you sign up in the Courtyard before service (9:30-9:55am) on February 6th.
URL:https://www.vccfresno.org/event/primetime55-brunch-after-church-2/
CATEGORIES:PrimeTime
ATTACH;FMTTYPE=image/png:https://www.vccfresno.org/wp-content/uploads/2021/12/PT-Brunch-After-Service-Banner-1.png
END:VEVENT
BEGIN:VEVENT
DTSTART;TZID=America/Los_Angeles:20220120T140000
DTEND;TZID=America/Los_Angeles:20220120T160000
DTSTAMP:20260424T022234
CREATED:20211202T214800Z
LAST-MODIFIED:20211202T214854Z
UID:4223-1642687200-1642694400@www.vccfresno.org
SUMMARY:PrimeTime 55+ BINGO in the APR
DESCRIPTION:When was the last time you played BINGO?\n\nJoin us on January 20th at 2:00pm in the APR for a fun time together playing BINGO! Bring your favorite snack and beverage! B10 – I23 – N26 – G52 – O70 – Let’s have fun!\n\nSign up BINGO in the APR in the Courtyard before and after service on January 16th or online January 9th-15th.\n\n–\nRegister Here!
URL:https://www.vccfresno.org/event/primetime-55-bingo-in-the-apr/
CATEGORIES:PrimeTime
ATTACH;FMTTYPE=image/png:https://www.vccfresno.org/wp-content/uploads/2021/12/PT55-January-BINGO-Banner-1000x562px.png
END:VEVENT
BEGIN:VEVENT
DTSTART;TZID=America/Los_Angeles:20220102T113000
DTEND;TZID=America/Los_Angeles:20220102T130000
DTSTAMP:20260424T022234
CREATED:20211204T031203Z
LAST-MODIFIED:20211204T031203Z
UID:4238-1641123000-1641128400@www.vccfresno.org
SUMMARY:PrimeTime55+ Brunch After Church
DESCRIPTION:Come hang out with old and new friends as we enjoy brunch together! Find out all the details when you sign up in the Courtyard before service (9:30-9:55am) on January 2nd.
URL:https://www.vccfresno.org/event/primetime55-brunch-after-church/
CATEGORIES:PrimeTime
ATTACH;FMTTYPE=image/png:https://www.vccfresno.org/wp-content/uploads/2021/12/PT-Brunch-After-Service-Banner.png
END:VEVENT
BEGIN:VEVENT
DTSTART;TZID=America/Los_Angeles:20211212T140000
DTEND;TZID=America/Los_Angeles:20211212T170000
DTSTAMP:20260424T022234
CREATED:20211130T175116Z
LAST-MODIFIED:20211130T175116Z
UID:4219-1639317600-1639328400@www.vccfresno.org
SUMMARY:PrimeTime 55+ Christmas Open House
DESCRIPTION:Come enjoy the warmth of the holidays with us on December 12th between 2:00-5:00pm at a Christmas Open House hosted by Paul & Carol Dooley. Finger foods will be served. \nAddress and directions will be provided to those who RSVP in the Courtyard before service (9:30-9:55am) on December 5th or by phone at 559-323-5052 by December 9th. 
URL:https://www.vccfresno.org/event/primetime-55-christmas-open-house/
CATEGORIES:PrimeTime
ATTACH;FMTTYPE=image/png:https://www.vccfresno.org/wp-content/uploads/2021/11/PT55-December-Christmas-Open-House-Banner.png
END:VEVENT
BEGIN:VEVENT
DTSTART;TZID=America/Los_Angeles:20211205T113000
DTEND;TZID=America/Los_Angeles:20211205T133000
DTSTAMP:20260424T022234
CREATED:20210728T181521Z
LAST-MODIFIED:20210902T162554Z
UID:3928-1638703800-1638711000@www.vccfresno.org
SUMMARY:Brunch After Church
DESCRIPTION:PrimeTime55+ Brunch After Church\nSunday\, December 5th at 11:30am \nCome hang out with old and new friends as we enjoy brunch together! Find out all the details when you sign up in the Courtyard before service (9:30-9:55am) on December 5th. 
URL:https://www.vccfresno.org/event/brunch-after-church-4/
CATEGORIES:PrimeTime
ATTACH;FMTTYPE=image/png:https://www.vccfresno.org/wp-content/uploads/2021/07/PT-Brunch-After-Service-Banner.png
END:VEVENT
BEGIN:VEVENT
DTSTART;TZID=America/Los_Angeles:20211121T140000
DTEND;TZID=America/Los_Angeles:20211121T160000
DTSTAMP:20260424T022234
CREATED:20210921T214909Z
LAST-MODIFIED:20210922T195957Z
UID:4085-1637503200-1637510400@www.vccfresno.org
SUMMARY:PrimeTime 55+ November Pop-Up: Holly Jolly Holidays
DESCRIPTION:Join us at The Good Company Players Second Space Theater (928 E. Olive Ave.\, Fresno) on November 21st for the 2:00pm production of Holly Jolly Holidays!\n\nCost is $18.00 per person. Snacks and beverages will be available for purchase during intermission.\nReservations MUST BE made by October 10th.\n\n(PLEASE NOTE – Second Space Theater is REQUIRING proof of COVID vaccination and that masks MUST be worn at ALL times while in the theater.) \nSign up Holly Jolly Holidays in the Courtyard before service on October 3rd\, before and after service on October 10th or online October 1st-10th. \n\n–\nREGISTER HERE!
URL:https://www.vccfresno.org/event/primetime-55-november-pop-up-holly-jolly-holidays/
CATEGORIES:PrimeTime
ATTACH;FMTTYPE=image/png:https://www.vccfresno.org/wp-content/uploads/2021/09/PT55-Nov-Pop-Up-Event-Banner-1000x562px-1-1.png
END:VEVENT
BEGIN:VEVENT
DTSTART;TZID=America/Los_Angeles:20211107T113000
DTEND;TZID=America/Los_Angeles:20211107T133000
DTSTAMP:20260424T022234
CREATED:20210728T181431Z
LAST-MODIFIED:20210902T162626Z
UID:3926-1636284600-1636291800@www.vccfresno.org
SUMMARY:Brunch After Church
DESCRIPTION:PrimeTime55+ Brunch After Church\nSunday\, November 7th at 11:30am \nCome hang out with old and new friends as we enjoy brunch together! Find out all the details when you sign up in the Courtyard before service (9:30-9:55am) on November 7th.
URL:https://www.vccfresno.org/event/brunch-after-church-3/
CATEGORIES:PrimeTime
ATTACH;FMTTYPE=image/png:https://www.vccfresno.org/wp-content/uploads/2021/07/PT-Brunch-After-Service-Banner.png
END:VEVENT
BEGIN:VEVENT
DTSTART;TZID=America/Los_Angeles:20211021T090000
DTEND;TZID=America/Los_Angeles:20211021T120000
DTSTAMP:20260424T022234
CREATED:20210728T184412Z
LAST-MODIFIED:20210922T200927Z
UID:3936-1634806800-1634817600@www.vccfresno.org
SUMMARY:Clovis Botanical Garden
DESCRIPTION:Meet us at Clovis Botanical Garden (945 N. Clovis Ave.\, Clovis) on October 21st at 9:00am for a tour of this three-acre water-wise garden! Don’t miss out on seeing the fall colors! \nBring your favorite lunch and beverage. After the tour we will be enjoying some time together in the covered pavilion. \n\nSign up for Clovis Botanical Garden in the Courtyard before service on October 3rd\, before and after service on October 10th or online October 1st-10th.\n\n\nREGISTER HERE!
URL:https://www.vccfresno.org/event/clovis-botanical-gardens/
CATEGORIES:PrimeTime
ATTACH;FMTTYPE=image/png:https://www.vccfresno.org/wp-content/uploads/2021/07/PT55-Clovis-Botanical-Garden-Banner-1000x562px.png
END:VEVENT
BEGIN:VEVENT
DTSTART;TZID=America/Los_Angeles:20211010T140000
DTEND;TZID=America/Los_Angeles:20211010T160000
DTSTAMP:20260424T022234
CREATED:20210826T213857Z
LAST-MODIFIED:20210826T221157Z
UID:4011-1633874400-1633881600@www.vccfresno.org
SUMMARY:PrimeTime 55+ October Pop-Up: A Day At The Theater
DESCRIPTION:We’re going to the Theater!\n\nJoin us at the Golden Chain Theater (42130 Hwy 41\, Oakhurst) on October 10th for the 2:00pm production of Mary Poppins!\n\nCost is $17.00 per person. Reservations MUST BE made by September 12th. \nSign up in the Courtyard before Sunday service on September 5th\, before or after Sunday Service on September 12th or online through September 12th.\nSIGN UP HERE!
URL:https://www.vccfresno.org/event/primetime-55-october-pop-up-a-day-at-the-theater/
CATEGORIES:PrimeTime
ATTACH;FMTTYPE=image/png:https://www.vccfresno.org/wp-content/uploads/2021/08/PT55-Oct-Pop-Up-Event-Banner-1000x562px.png
END:VEVENT
BEGIN:VEVENT
DTSTART;TZID=America/Los_Angeles:20211003T113000
DTEND;TZID=America/Los_Angeles:20211003T133000
DTSTAMP:20260424T022234
CREATED:20210728T181342Z
LAST-MODIFIED:20210902T162702Z
UID:3924-1633260600-1633267800@www.vccfresno.org
SUMMARY:Brunch After Church
DESCRIPTION:PrimeTime55+ Brunch After Church\nSunday\, October 3rd at 11:30am \nCome hang out with old and new friends as we enjoy brunch together! Find out all the details when you sign up in the Courtyard before service (9:30-9:55am) on October 3rd.
URL:https://www.vccfresno.org/event/brunch-after-church-2/
CATEGORIES:PrimeTime
ATTACH;FMTTYPE=image/png:https://www.vccfresno.org/wp-content/uploads/2021/07/PT-Brunch-After-Service-Banner.png
END:VEVENT
BEGIN:VEVENT
DTSTART;TZID=America/Los_Angeles:20210923T183000
DTEND;TZID=America/Los_Angeles:20210923T203000
DTSTAMP:20260424T022234
CREATED:20210728T184324Z
LAST-MODIFIED:20210826T221636Z
UID:3934-1632421800-1632429000@www.vccfresno.org
SUMMARY:Mini Golf at Blackbeard's
DESCRIPTION:We’re hitting the links…the mini links that is…for a fun evening of mini golf!\n\n\nJoin us at Blackbeard’s Family Entertainment Center (4055 N. Chestnut Diagonal/Fresno 93726) on September 23rd at 6:30pm. Afterwards\, we’ll be going to Flame It Burgers next door where you can get a yummy treat while we hand out prizes! \nReady to sink that hole-in-one? See you there!\n \n\nCost is $11.00 per person\n\nSign up in the Courtyard before Sunday service on September 5th\, before or after Sunday Service on September 12th or online through September 12th.\n\nSIGN UP HERE!
URL:https://www.vccfresno.org/event/blackbeards-miniature-golf/
CATEGORIES:PrimeTime
ATTACH;FMTTYPE=image/png:https://www.vccfresno.org/wp-content/uploads/2021/07/PT55-Mini-Golf-Banner-1000x562px.png
END:VEVENT
BEGIN:VEVENT
DTSTART;TZID=America/Los_Angeles:20210914T140000
DTEND;TZID=America/Los_Angeles:20210914T160000
DTSTAMP:20260424T022234
CREATED:20210825T001747Z
LAST-MODIFIED:20210826T215709Z
UID:4008-1631628000-1631635200@www.vccfresno.org
SUMMARY:PrimeTime 55+ Pop-Up BUNCO
DESCRIPTION:We had so much fun last time\, we’re doing it again!\n\n\nJoin us for our Pop-Up BUNCO Event on August 14th from 2:00-4:00pm in the APR. This fun\, fast-paced game is sure to make for an exciting afternoon! \nSign up in the Courtyard before Sunday service on September 5th\, before or after Sunday Service on September 12th or online through September 12th. \nSIGN UP HERE!
URL:https://www.vccfresno.org/event/primetime-55-pop-up-bunco/
CATEGORIES:PrimeTime
ATTACH;FMTTYPE=image/png:https://www.vccfresno.org/wp-content/uploads/2021/08/PT55-POP-UP-BUNCO-Banner-1000x562px.png
END:VEVENT
BEGIN:VEVENT
DTSTART;TZID=America/Los_Angeles:20210905T113000
DTEND;TZID=America/Los_Angeles:20210905T133000
DTSTAMP:20260424T022234
CREATED:20210728T181242Z
LAST-MODIFIED:20210902T162736Z
UID:3922-1630841400-1630848600@www.vccfresno.org
SUMMARY:Brunch After Church
DESCRIPTION:PrimeTime55+ Brunch After Church\nSunday\, September 5th at 11:30am \nCome hang out with old and new friends as we enjoy brunch together! Find out all the details when you sign up in the Courtyard before service (9:30-9:55am) on September 5th.
URL:https://www.vccfresno.org/event/brunch-after-church/
CATEGORIES:PrimeTime
ATTACH;FMTTYPE=image/png:https://www.vccfresno.org/wp-content/uploads/2021/07/PT-Brunch-After-Service-Banner.png
END:VEVENT
BEGIN:VEVENT
DTSTART;TZID=America/Los_Angeles:20210810T183000
DTEND;TZID=America/Los_Angeles:20210810T203000
DTSTAMP:20260424T022234
CREATED:20210727T164522Z
LAST-MODIFIED:20210728T171201Z
UID:3902-1628620200-1628627400@www.vccfresno.org
SUMMARY:BUNCO Night!
DESCRIPTION:Join us on August 10th from 6:30-8:30pm in the APR for a fun night learning BUNCO with Pam Owen and Terri Ortlieb! \nThis fun\, fast-paced game is sure to make for an exciting evening!\nWe will also be enjoying Rootbeer Floats and Ice Cream Sundaes…YUM! \nSign up in the Courtyard before service on August 1st\, before and after service on August 8th or online August 1st-8th here: \nSIGN UP HERE!\n 
URL:https://www.vccfresno.org/event/bunco-night/
CATEGORIES:PrimeTime
ATTACH;FMTTYPE=image/png:https://www.vccfresno.org/wp-content/uploads/2021/07/PT55-BUNCO-Night-Form-Pic-6x12-1.png
END:VEVENT
BEGIN:VEVENT
DTSTART;TZID=America/Los_Angeles:20210724T090000
DTEND;TZID=America/Los_Angeles:20210724T110000
DTSTAMP:20260424T022234
CREATED:20210625T015439Z
LAST-MODIFIED:20210630T001009Z
UID:3836-1627117200-1627124400@www.vccfresno.org
SUMMARY:Let's Get Cool at Forestiere Underground Gardens!
DESCRIPTION:We’re getting together and staying cool at Forestiere Underground Gardens (5021 W Shaw\, Fresno)! This historical site is a series of subterranean structures built by Italian immigrant\, Baldassare Forestiere. It’s a great way to beat the heat!\n\nOur tour will begin at 9:00am\, so arrive a bit early to find parking and meet up!\nCost per person (due at registration): $21.00 (Under Age 60) or $19.00 (Ages 60+)\nParking is limited to street parking only along Shaw\, Forestiere and Cornelia Avenues.\nAfter our tour\, we will be heading across the street for ice cream and a cold drink!\n\nSign-up in the Courtyard before service on July 4th\, before and after service on July 11th or online July 1st-9th here: \n\n–\n–\nSIGN UP HERE!
URL:https://www.vccfresno.org/event/lets-get-cool-at-forestiere-underground-gardens/
CATEGORIES:PrimeTime
ATTACH;FMTTYPE=image/png:https://www.vccfresno.org/wp-content/uploads/2021/06/PT55-Lets-Get-Cool-Form-Pic-6x12-1.png
END:VEVENT
BEGIN:VEVENT
DTSTART;TZID=America/Los_Angeles:20210617T120000
DTEND;TZID=America/Los_Angeles:20210617T150000
DTSTAMP:20260424T022234
CREATED:20210524T164514Z
LAST-MODIFIED:20210608T170101Z
UID:3668-1623931200-1623942000@www.vccfresno.org
SUMMARY:Afternoon Movie
DESCRIPTION:Join us for our Movie Matinee in Room 402\nThursday\, June 17th from 12:00 noon – 3:00pm\n\n••Remember to bring your favorite lunch and beverage!••\n\nWe will be watching: Overcomer (From the creators of WAR ROOM\, this is an inspirational story filled with a powerful mix of faith\, humor and heart. This story will have you on the edge of your seat.)\n\nSign up online June 3rd – June 11th: https://vccfresno.fellowshiponego.com/external/form/51ae3394-670d-4f49-bb92-f3d99cb30551 or in the Courtyard before or after Sunday Services on 6/13.
URL:https://www.vccfresno.org/event/afternoon-movie/
CATEGORIES:PrimeTime
ATTACH;FMTTYPE=image/png:https://www.vccfresno.org/wp-content/uploads/2021/05/Primetime55SQ-1.png
END:VEVENT
BEGIN:VEVENT
DTSTART;TZID=America/Los_Angeles:20210506T130000
DTEND;TZID=America/Los_Angeles:20210506T150000
DTSTAMP:20260424T022234
CREATED:20210415T122225Z
LAST-MODIFIED:20210421T170310Z
UID:3380-1620306000-1620313200@www.vccfresno.org
SUMMARY:BINGO in the Courtyard - May 6th
DESCRIPTION:BINGO in the Courtyard  – May 6th – 1:00-3:00pm\nIt’s time for some outdoor fun! Bring your favorite snack and beverage. We’ll supply the prizes! \nSign up in the Courtyard before or after service on May 2nd or online\, April 21st-April 30th. Click here to sign up online. \nWhen was the last time you played BINGO? Let’s do this!
URL:https://www.vccfresno.org/event/primetime-55-bingo-may-6/
CATEGORIES:PrimeTime
ATTACH;FMTTYPE=image/png:https://www.vccfresno.org/wp-content/uploads/2021/04/Primetime55SQ-2.png
END:VEVENT
BEGIN:VEVENT
DTSTART;TZID=America/Los_Angeles:20201205T120000
DTEND;TZID=America/Los_Angeles:20201205T143000
DTSTAMP:20260424T022234
CREATED:20201109T100029Z
LAST-MODIFIED:20201111T041154Z
UID:2310-1607169600-1607178600@www.vccfresno.org
SUMMARY:Christmas Un-Potluck
DESCRIPTION:Don’t miss out on an opportunity to gather together for lunch and a fun afternoon! The event is on Saturday\, December 5th at 12:00 noon in the All Purpose Room. Social distancing will be honored. This event is free of charge and a box lunch will be provided. Please bring canned/packaged food for the Valley Dream Center Pantry. \nSign Up Here
URL:https://www.vccfresno.org/event/christmas-un-potluck/
LOCATION:Valley Christian Center\, 4649 E. Shields Ave\, Fresno\, CA\, 93726\, United States
CATEGORIES:PrimeTime
ATTACH;FMTTYPE=image/png:https://www.vccfresno.org/wp-content/uploads/2020/11/Primetime-Christmas-Un-Potluck-Event-1.png
END:VEVENT
BEGIN:VEVENT
DTSTART;TZID=America/Los_Angeles:20201027T183000
DTEND;TZID=America/Los_Angeles:20201027T203000
DTSTAMP:20260424T022234
CREATED:20201016T170315Z
LAST-MODIFIED:20201016T170315Z
UID:2241-1603823400-1603830600@www.vccfresno.org
SUMMARY:PrimeTime Miniature Golf
DESCRIPTION:Hey PrimeTimers … Mark your calendars …\nWe’re going to Blackbeards for more miniature golf! \n$10.00 per person\nOctober 27\, 2020 at 6:30 pm\nat Blackbeards \n** Signups in the Courtyard –  Sundays\, October 18 & 25\, 2020 **\nOn-line Signups:   October 13 – 22
URL:https://www.vccfresno.org/event/primetime-miniature-golf/
LOCATION:Blackbeard’s Family Entertainment\, 4055 N Chestnut Diagonal\, Fresno\, CA\, 93726\, United States
CATEGORIES:PrimeTime
ATTACH;FMTTYPE=image/jpeg:https://www.vccfresno.org/wp-content/uploads/2020/10/image010.jpg
END:VEVENT
BEGIN:VEVENT
DTSTART;VALUE=DATE:20200222
DTEND;VALUE=DATE:20200223
DTSTAMP:20260424T022234
CREATED:20200103T000813Z
LAST-MODIFIED:20200103T001551Z
UID:1511-1582329600-1582415999@www.vccfresno.org
SUMMARY:PrimeTime Trip to The Ronald Reagan Presidential Library
DESCRIPTION:VCC’s PrimeTimers … our trip to the Ronald Reagan Presidential Library is scheduled for Saturday\, February 22\, 2020\, through Best Tours.  You must sign up immediately; we now have 30 seats reserved\, but can add to that number if we know soon enough. $79.00 per person (includes admission) \nYou can sign up and pay on Sunday\, January 5th or 12th following service or online now.
URL:https://www.vccfresno.org/event/primetime-trip-to-the-ronald-reagan-presidential-library/
CATEGORIES:PrimeTime
ATTACH;FMTTYPE=image/jpeg:https://www.vccfresno.org/wp-content/uploads/2020/01/PT-R-Reagan.jpg
END:VEVENT
BEGIN:VEVENT
DTSTART;TZID=America/Los_Angeles:20190714T140000
DTEND;TZID=America/Los_Angeles:20190714T140000
DTSTAMP:20260424T022234
CREATED:20190701T190902Z
LAST-MODIFIED:20191009T190139Z
UID:748-1563112800-1563112800@www.vccfresno.org
SUMMARY:Here Come the Cows
DESCRIPTION:For those of you who purchased tickets to the melodrama\, we’ll meet you there on Sunday\, July 14th! “Here Come The Cows” begins at 2:00pm at the Golden Chain Theatre (42130 Hwy 41\, Oakhurst). Be prepared to cheer the heroes and boo the villains as the melodrama unfolds before you. It’s going to be a great day!
URL:https://www.vccfresno.org/event/here-come-the-cows/
LOCATION:Golden Chain Theatre\, 42130 CA-41\, Oakhurst\, CA\, 93644\, United States
CATEGORIES:PrimeTime
ATTACH;FMTTYPE=image/png:https://www.vccfresno.org/wp-content/uploads/2019/07/Valley-Christian-Center_Here-Come-The-Cows.png
END:VEVENT
END:VCALENDAR