BEGIN:VCALENDAR
VERSION:2.0
PRODID:-//Valley Christian Center - ECPv6.13.2.1//NONSGML v1.0//EN
CALSCALE:GREGORIAN
METHOD:PUBLISH
X-ORIGINAL-URL:https://www.vccfresno.org
X-WR-CALDESC:Events for Valley Christian Center
REFRESH-INTERVAL;VALUE=DURATION:PT1H
X-Robots-Tag:noindex
X-PUBLISHED-TTL:PT1H
BEGIN:VTIMEZONE
TZID:America/Los_Angeles
BEGIN:DAYLIGHT
TZOFFSETFROM:-0800
TZOFFSETTO:-0700
TZNAME:PDT
DTSTART:20190310T100000
END:DAYLIGHT
BEGIN:STANDARD
TZOFFSETFROM:-0700
TZOFFSETTO:-0800
TZNAME:PST
DTSTART:20191103T090000
END:STANDARD
END:VTIMEZONE
BEGIN:VEVENT
DTSTART;TZID=America/Los_Angeles:20190701T180000
DTEND;TZID=America/Los_Angeles:20190701T210000
DTSTAMP:20260423T154738
CREATED:20190701T184732Z
LAST-MODIFIED:20191009T190139Z
UID:739-1562004000-1562014800@www.vccfresno.org
SUMMARY:Freedom Fest
DESCRIPTION:Valley Dream Center is having their annual Freedom Fest on Monday\, July 1st from 6:00-9:00pm. This is a free community event with hot dogs\, bounce houses\, an outdoor movie\, fireworks and much more! Make sure to stop by 1835 N. Winery Ave. and enjoy a fun-filled night for the whole family.
URL:https://www.vccfresno.org/event/freedom-fest/
LOCATION:Valley Dream Center\, 1835 N Winery Ave\, Fresno\, CA\, 93703\, United States
CATEGORIES:Valley Dream Center
ATTACH;FMTTYPE=image/png:https://www.vccfresno.org/wp-content/uploads/2019/07/Valley-Dream-Center_Freedom-Fest.png
END:VEVENT
END:VCALENDAR