BEGIN:VCALENDAR
VERSION:2.0
PRODID:-//Valley Christian Center - ECPv6.13.2.1//NONSGML v1.0//EN
CALSCALE:GREGORIAN
METHOD:PUBLISH
X-WR-CALNAME:Valley Christian Center
X-ORIGINAL-URL:https://www.vccfresno.org
X-WR-CALDESC:Events for Valley Christian Center
REFRESH-INTERVAL;VALUE=DURATION:PT1H
X-Robots-Tag:noindex
X-PUBLISHED-TTL:PT1H
BEGIN:VTIMEZONE
TZID:America/Los_Angeles
BEGIN:DAYLIGHT
TZOFFSETFROM:-0800
TZOFFSETTO:-0700
TZNAME:PDT
DTSTART:20240310T100000
END:DAYLIGHT
BEGIN:STANDARD
TZOFFSETFROM:-0700
TZOFFSETTO:-0800
TZNAME:PST
DTSTART:20241103T090000
END:STANDARD
END:VTIMEZONE
BEGIN:VEVENT
DTSTART;TZID=America/Los_Angeles:20241009T090000
DTEND;TZID=America/Los_Angeles:20241009T110000
DTSTAMP:20260424T182118
CREATED:20240918T202640Z
LAST-MODIFIED:20240918T202640Z
UID:7748-1728464400-1728471600@www.vccfresno.org
SUMMARY:Biblical Citizenship - Women Bible Study
DESCRIPTION:Wednesdays September 18th – November 20th from 9:00am-11:00am in room 305.
URL:https://www.vccfresno.org/event/biblical-citizenship-women-bible-study-3/
LOCATION:Valley Christian Center\, 4649 E. Shields Ave\, Fresno\, CA\, 93726\, United States
CATEGORIES:Life Groups,Women
ATTACH;FMTTYPE=image/png:https://www.vccfresno.org/wp-content/uploads/2024/08/CD-Biblical-Citizenship-Study.png
END:VEVENT
BEGIN:VEVENT
DTSTART;TZID=America/Los_Angeles:20241009T090000
DTEND;TZID=America/Los_Angeles:20241009T110000
DTSTAMP:20260424T182118
CREATED:20240918T202856Z
LAST-MODIFIED:20240918T202856Z
UID:7750-1728464400-1728471600@www.vccfresno.org
SUMMARY:
DESCRIPTION:Wednesdays September 18th – November 20th from 9:00am-11:00am in room 305. \nSIGN UP HERE!
URL:https://www.vccfresno.org/event/7750/
LOCATION:Valley Christian Center\, 4649 E. Shields Ave\, Fresno\, CA\, 93726\, United States
CATEGORIES:Life Groups,Women
ATTACH;FMTTYPE=image/png:https://www.vccfresno.org/wp-content/uploads/2024/08/CD-Biblical-Citizenship-Study.png
END:VEVENT
BEGIN:VEVENT
DTSTART;TZID=America/Los_Angeles:20241009T100000
DTEND;TZID=America/Los_Angeles:20241009T120000
DTSTAMP:20260424T182118
CREATED:20240918T201312Z
LAST-MODIFIED:20240918T201312Z
UID:7729-1728468000-1728475200@www.vccfresno.org
SUMMARY:DIY Crafting & Women in the Bible
DESCRIPTION:Join us for fellowship and crafty fun. You will have a space at a table for any DIY crafting that you want to work on. Enjoy spending time with other crafters while working on your projects. Each week we will share God’s word studying the women of the Bible. Bring a friend. Make new friends. Develop new connections while enjoying your hobby with others. September 4th – November 20th from 10:00am-12:00pm in the All Purpose Room. \nSIGN UP HERE!
URL:https://www.vccfresno.org/event/diy-crafting-women-in-the-bible/
LOCATION:Valley Christian Center\, 4649 E. Shields Ave\, Fresno\, CA\, 93726\, United States
CATEGORIES:Life Groups,Women
ATTACH;FMTTYPE=image/png:https://www.vccfresno.org/wp-content/uploads/2024/09/CW-Ladies-DIY-Crafting.png
END:VEVENT
END:VCALENDAR