BEGIN:VCALENDAR
VERSION:2.0
PRODID:-//Valley Christian Center - ECPv6.13.2.1//NONSGML v1.0//EN
CALSCALE:GREGORIAN
METHOD:PUBLISH
X-WR-CALNAME:Valley Christian Center
X-ORIGINAL-URL:https://www.vccfresno.org
X-WR-CALDESC:Events for Valley Christian Center
REFRESH-INTERVAL;VALUE=DURATION:PT1H
X-Robots-Tag:noindex
X-PUBLISHED-TTL:PT1H
BEGIN:VTIMEZONE
TZID:America/Los_Angeles
BEGIN:DAYLIGHT
TZOFFSETFROM:-0800
TZOFFSETTO:-0700
TZNAME:PDT
DTSTART:20250309T100000
END:DAYLIGHT
BEGIN:STANDARD
TZOFFSETFROM:-0700
TZOFFSETTO:-0800
TZNAME:PST
DTSTART:20251102T090000
END:STANDARD
END:VTIMEZONE
BEGIN:VEVENT
DTSTART;TZID=America/Los_Angeles:20250802T083000
DTEND;TZID=America/Los_Angeles:20250802T113000
DTSTAMP:20260424T025644
CREATED:20250312T100506Z
LAST-MODIFIED:20250723T223039Z
UID:8300-1754123400-1754134200@www.vccfresno.org
SUMMARY:Women Connect Summer Breakfast
DESCRIPTION:2025 Women Connect Summer Breakfast\nSaturday\, August 2nd\, 2025 from 8:30am to 11:30am\nValley Christian Center – APR \nLadies\, let’s do breakfast on Saturday\, August 2\, 2025 from 8:30am – 11:30am at Valley. Come for a time of worship\, to hear a Word from the Lord and chat around the table.\nOur Men’s Ministry will be making us a yummy hot breakfast. Please join us and bring your mama\, daughters\, sisters\, friends and neighbors.\nChildcare is NOT available for this event.\nSIGN UP HERE!
URL:https://www.vccfresno.org/event/women-connect-summer-breakfast/
LOCATION:Valley Christian Center\, 4649 E. Shields Ave\, Fresno\, CA\, 93726\, United States
CATEGORIES:Women
ATTACH;FMTTYPE=image/png:https://www.vccfresno.org/wp-content/uploads/2025/03/WC-Events-for-2025-Squares-1.png
END:VEVENT
END:VCALENDAR