BEGIN:VCALENDAR
VERSION:2.0
PRODID:-//Valley Christian Center - ECPv6.13.2.1//NONSGML v1.0//EN
CALSCALE:GREGORIAN
METHOD:PUBLISH
X-ORIGINAL-URL:https://www.vccfresno.org
X-WR-CALDESC:Events for Valley Christian Center
REFRESH-INTERVAL;VALUE=DURATION:PT1H
X-Robots-Tag:noindex
X-PUBLISHED-TTL:PT1H
BEGIN:VTIMEZONE
TZID:America/Los_Angeles
BEGIN:DAYLIGHT
TZOFFSETFROM:-0800
TZOFFSETTO:-0700
TZNAME:PDT
DTSTART:20240310T100000
END:DAYLIGHT
BEGIN:STANDARD
TZOFFSETFROM:-0700
TZOFFSETTO:-0800
TZNAME:PST
DTSTART:20241103T090000
END:STANDARD
END:VTIMEZONE
BEGIN:VEVENT
DTSTART;TZID=America/Los_Angeles:20240912T180000
DTEND;TZID=America/Los_Angeles:20240912T203000
DTSTAMP:20260424T165226
CREATED:20240819T202324Z
LAST-MODIFIED:20240819T202324Z
UID:7645-1726164000-1726173000@www.vccfresno.org
SUMMARY:Recovery Alive
DESCRIPTION:Recovery Alive! program is a practical\, powerful and proven resource combining the raw honesty of the 12 steps with the hope of Jesus Christ. Recovery Alive! helps you discover a pathway to true healing and lasting freedom from any bondage or brokenness that has kept you from experiencing the abundant life God has created for you! Recovery Alive! is for anyone. No need to register\, just show up. Childcare is provided.\nJoin us Thursday nights in room 403 at Valley Christian Center starting at 6:00pm with refreshments and then worship begins at 6:30pm. Childcare is available in room 301.
URL:https://www.vccfresno.org/event/recovery-alive-4/
LOCATION:Valley Christian Center\, 4649 E. Shields Ave\, Fresno\, CA\, 93726\, United States
CATEGORIES:Life Groups,Marriage,Men,Women,Young Adults
ATTACH;FMTTYPE=image/png:https://www.vccfresno.org/wp-content/uploads/2024/08/RECOVERY-ALIVE-WEBSITE-EVENT.png
END:VEVENT
BEGIN:VEVENT
DTSTART;TZID=America/Los_Angeles:20240912T180000
DTEND;TZID=America/Los_Angeles:20240912T203000
DTSTAMP:20260424T165226
CREATED:20240819T202456Z
LAST-MODIFIED:20240819T202456Z
UID:7647-1726164000-1726173000@www.vccfresno.org
SUMMARY:Recovery Alive
DESCRIPTION:Recovery Alive! program is a practical\, powerful and proven resource combining the raw honesty of the 12 steps with the hope of Jesus Christ. Recovery Alive! helps you discover a pathway to true healing and lasting freedom from any bondage or brokenness that has kept you from experiencing the abundant life God has created for you! Recovery Alive! is for anyone. No need to register\, just show up. Childcare is provided.\nJoin us Thursday nights in room 403 at Valley Christian Center starting at 6:00pm with refreshments and then worship begins at 6:30pm. Childcare is available in room 301.
URL:https://www.vccfresno.org/event/recovery-alive-5/
LOCATION:Valley Christian Center\, 4649 E. Shields Ave\, Fresno\, CA\, 93726\, United States
CATEGORIES:Life Groups,Marriage,Men,Women,Young Adults
ATTACH;FMTTYPE=image/png:https://www.vccfresno.org/wp-content/uploads/2024/08/RECOVERY-ALIVE-WEBSITE-EVENT.png
END:VEVENT
BEGIN:VEVENT
DTSTART;TZID=America/Los_Angeles:20240913T080000
DTEND;TZID=America/Los_Angeles:20240915T170000
DTSTAMP:20260424T165226
CREATED:20240819T194836Z
LAST-MODIFIED:20240819T200932Z
UID:7631-1726214400-1726419600@www.vccfresno.org
SUMMARY:2024 Men's Retreat
DESCRIPTION:Our annual Men Ministry Men’s Retreat in partnership with Iron Men Ministry is always an amazing event. Nothing is quite like when hundreds of men gather and fellowship in the name of Jesus.  Our keynote speaker is Pastor Glenn Shields. Up at Camp Sugar Pine there will be: Inspirational Worship\, Team Building\, Breakout Groups\, Competitive Games\, and Life Changing Messages. Registration is open now! RV: $200.00 per person or Cabin: $250.00 per person. \n  \nREGISTER HERE!
URL:https://www.vccfresno.org/event/mens-retreat/
LOCATION:Camp Sugar Pine\, 48478 Mill Canyon Rd\, Oakhurst\, CA\, 93644\, United States
CATEGORIES:Men,Young Adults
ATTACH;FMTTYPE=image/png:https://www.vccfresno.org/wp-content/uploads/2024/08/2024-Mens-Retreat-sqaure.png
END:VEVENT
BEGIN:VEVENT
DTSTART;TZID=America/Los_Angeles:20240919T180000
DTEND;TZID=America/Los_Angeles:20240919T203000
DTSTAMP:20260424T165226
CREATED:20240819T202641Z
LAST-MODIFIED:20240819T202641Z
UID:7649-1726768800-1726777800@www.vccfresno.org
SUMMARY:Recovery Alive
DESCRIPTION:Recovery Alive! program is a practical\, powerful and proven resource combining the raw honesty of the 12 steps with the hope of Jesus Christ. Recovery Alive! helps you discover a pathway to true healing and lasting freedom from any bondage or brokenness that has kept you from experiencing the abundant life God has created for you! Recovery Alive! is for anyone. No need to register\, just show up. Childcare is provided.\nJoin us Thursday nights in room 403 at Valley Christian Center starting at 6:00pm with refreshments and then worship begins at 6:30pm. Childcare is available in room 301.
URL:https://www.vccfresno.org/event/recovery-alive-6/
LOCATION:Valley Christian Center\, 4649 E. Shields Ave\, Fresno\, CA\, 93726\, United States
CATEGORIES:Life Groups,Marriage,Men,Women,Young Adults
ATTACH;FMTTYPE=image/png:https://www.vccfresno.org/wp-content/uploads/2024/08/RECOVERY-ALIVE-WEBSITE-EVENT.png
END:VEVENT
BEGIN:VEVENT
DTSTART;TZID=America/Los_Angeles:20240926T180000
DTEND;TZID=America/Los_Angeles:20240926T203000
DTSTAMP:20260424T165226
CREATED:20240819T202801Z
LAST-MODIFIED:20240819T202801Z
UID:7651-1727373600-1727382600@www.vccfresno.org
SUMMARY:Recovery Alive
DESCRIPTION:Recovery Alive! program is a practical\, powerful and proven resource combining the raw honesty of the 12 steps with the hope of Jesus Christ. Recovery Alive! helps you discover a pathway to true healing and lasting freedom from any bondage or brokenness that has kept you from experiencing the abundant life God has created for you! Recovery Alive! is for anyone. No need to register\, just show up. Childcare is provided.\nJoin us Thursday nights in room 403 at Valley Christian Center starting at 6:00pm with refreshments and then worship begins at 6:30pm. Childcare is available in room 301.
URL:https://www.vccfresno.org/event/recovery-alive-7/
LOCATION:Valley Christian Center\, 4649 E. Shields Ave\, Fresno\, CA\, 93726\, United States
CATEGORIES:Life Groups,Marriage,Men,Women,Young Adults
ATTACH;FMTTYPE=image/png:https://www.vccfresno.org/wp-content/uploads/2024/08/RECOVERY-ALIVE-WEBSITE-EVENT.png
END:VEVENT
END:VCALENDAR