BEGIN:VCALENDAR
VERSION:2.0
PRODID:-//Valley Christian Center - ECPv6.13.2.1//NONSGML v1.0//EN
CALSCALE:GREGORIAN
METHOD:PUBLISH
X-ORIGINAL-URL:https://www.vccfresno.org
X-WR-CALDESC:Events for Valley Christian Center
REFRESH-INTERVAL;VALUE=DURATION:PT1H
X-Robots-Tag:noindex
X-PUBLISHED-TTL:PT1H
BEGIN:VTIMEZONE
TZID:America/Los_Angeles
BEGIN:DAYLIGHT
TZOFFSETFROM:-0800
TZOFFSETTO:-0700
TZNAME:PDT
DTSTART:20250309T100000
END:DAYLIGHT
BEGIN:STANDARD
TZOFFSETFROM:-0700
TZOFFSETTO:-0800
TZNAME:PST
DTSTART:20251102T090000
END:STANDARD
BEGIN:DAYLIGHT
TZOFFSETFROM:-0800
TZOFFSETTO:-0700
TZNAME:PDT
DTSTART:20260308T100000
END:DAYLIGHT
BEGIN:STANDARD
TZOFFSETFROM:-0700
TZOFFSETTO:-0800
TZNAME:PST
DTSTART:20261101T090000
END:STANDARD
END:VTIMEZONE
BEGIN:VEVENT
DTSTART;TZID=America/Los_Angeles:20250903T183000
DTEND;TZID=America/Los_Angeles:20250903T200000
DTSTAMP:20260425T034930
CREATED:20250723T224334Z
LAST-MODIFIED:20250723T224334Z
UID:8614-1756924200-1756929600@www.vccfresno.org
SUMMARY:following Jesus: Foundations for Faith Class
DESCRIPTION:If you have recently accepted Jesus as your Lord and Savior\, we would like to invite you to our class\, following JESUS: foundations for faith. Christianity is a day by day personal relationship with Jesus Christ. We would love to walk with you as you begin this journey. \n\nEach 8-week session will meet on Wednesday nights from 6:30pm to 8:00pm in Room 305. Childcare is available upon request for ages birth through 12 years old.\n\nSIGN UP HERE!
URL:https://www.vccfresno.org/event/following-jesus-foundations-for-faith-class-5/
LOCATION:Valley Christian Center\, 4649 E. Shields Ave\, Fresno\, CA\, 93726\, United States
CATEGORIES:Life Groups,Young Adults
ATTACH;FMTTYPE=image/png:https://www.vccfresno.org/wp-content/uploads/2025/01/Following-Jesus-SQ.png
END:VEVENT
BEGIN:VEVENT
DTSTART;TZID=America/Los_Angeles:20250910T183000
DTEND;TZID=America/Los_Angeles:20250910T200000
DTSTAMP:20260425T034930
CREATED:20250723T224438Z
LAST-MODIFIED:20250723T224438Z
UID:8616-1757529000-1757534400@www.vccfresno.org
SUMMARY:following Jesus: Foundations for Faith Class
DESCRIPTION:If you have recently accepted Jesus as your Lord and Savior\, we would like to invite you to our class\, following JESUS: foundations for faith. Christianity is a day by day personal relationship with Jesus Christ. We would love to walk with you as you begin this journey. \n\nEach 8-week session will meet on Wednesday nights from 6:30pm to 8:00pm in Room 305. Childcare is available upon request for ages birth through 12 years old.\n\nSIGN UP HERE!
URL:https://www.vccfresno.org/event/following-jesus-foundations-for-faith-class-6/
LOCATION:Valley Christian Center\, 4649 E. Shields Ave\, Fresno\, CA\, 93726\, United States
CATEGORIES:Life Groups,Young Adults
ATTACH;FMTTYPE=image/png:https://www.vccfresno.org/wp-content/uploads/2025/01/Following-Jesus-SQ.png
END:VEVENT
BEGIN:VEVENT
DTSTART;TZID=America/Los_Angeles:20250917T183000
DTEND;TZID=America/Los_Angeles:20250917T200000
DTSTAMP:20260425T034930
CREATED:20250723T224539Z
LAST-MODIFIED:20250723T224539Z
UID:8618-1758133800-1758139200@www.vccfresno.org
SUMMARY:following Jesus: Foundations for Faith Class
DESCRIPTION:If you have recently accepted Jesus as your Lord and Savior\, we would like to invite you to our class\, following JESUS: foundations for faith. Christianity is a day by day personal relationship with Jesus Christ. We would love to walk with you as you begin this journey. \n\nEach 8-week session will meet on Wednesday nights from 6:30pm to 8:00pm in Room 305. Childcare is available upon request for ages birth through 12 years old.\n\nSIGN UP HERE!
URL:https://www.vccfresno.org/event/following-jesus-foundations-for-faith-class-7/
LOCATION:Valley Christian Center\, 4649 E. Shields Ave\, Fresno\, CA\, 93726\, United States
CATEGORIES:Life Groups,Young Adults
ATTACH;FMTTYPE=image/png:https://www.vccfresno.org/wp-content/uploads/2025/01/Following-Jesus-SQ.png
END:VEVENT
BEGIN:VEVENT
DTSTART;TZID=America/Los_Angeles:20250924T183000
DTEND;TZID=America/Los_Angeles:20250924T200000
DTSTAMP:20260425T034930
CREATED:20250723T224633Z
LAST-MODIFIED:20250723T224729Z
UID:8620-1758738600-1758744000@www.vccfresno.org
SUMMARY:following Jesus: Foundations for Faith Class
DESCRIPTION:If you have recently accepted Jesus as your Lord and Savior\, we would like to invite you to our class\, following JESUS: foundations for faith. Christianity is a day by day personal relationship with Jesus Christ. We would love to walk with you as you begin this journey. \n\nEach 8-week session will meet on Wednesday nights from 6:30pm to 8:00pm in Room 305. Childcare is available upon request for ages birth through 12 years old.\n\nSIGN UP HERE!
URL:https://www.vccfresno.org/event/following-jesus-foundations-for-faith-class-8/
LOCATION:Valley Christian Center\, 4649 E. Shields Ave\, Fresno\, CA\, 93726\, United States
CATEGORIES:Life Groups,Young Adults
ATTACH;FMTTYPE=image/png:https://www.vccfresno.org/wp-content/uploads/2025/01/Following-Jesus-SQ.png
END:VEVENT
BEGIN:VEVENT
DTSTART;TZID=America/Los_Angeles:20260206T180000
DTEND;TZID=America/Los_Angeles:20260206T200000
DTSTAMP:20260425T034930
CREATED:20260205T203657Z
LAST-MODIFIED:20260205T203657Z
UID:9245-1770400800-1770408000@www.vccfresno.org
SUMMARY:Young Adult/Young Couples/Young Families Dinner & Hangout
DESCRIPTION:Are you a young adult\, young couple or young family? Come hangout and eat dinner with us every first Friday of the month from 6:00-8:00pm at Jason and Monica Schneider’s home. Kiddos are welcome. Address sent when you sign-up. Hope to see you there! \nSIGN UP HERE!
URL:https://www.vccfresno.org/event/young-adult-young-couples-young-families-dinner-hangout/
LOCATION:CA
CATEGORIES:Young Adults
ATTACH;FMTTYPE=image/png:https://www.vccfresno.org/wp-content/uploads/2026/02/JS-MS-1stFridayYAYFamsDinnerHangout.png
END:VEVENT
BEGIN:VEVENT
DTSTART;TZID=America/Los_Angeles:20260306T180000
DTEND;TZID=America/Los_Angeles:20260306T200000
DTSTAMP:20260425T034930
CREATED:20260205T203803Z
LAST-MODIFIED:20260205T203803Z
UID:9247-1772820000-1772827200@www.vccfresno.org
SUMMARY:Young Adult/Young Couple/Young Families Dinner & Hangout
DESCRIPTION:Are you a young adult\, young couple or young family? Come hangout and eat dinner with us every first Friday of the month from 6:00-8:00pm at Jason and Monica Schneider’s home. Kiddos are welcome. Address sent when you sign-up. Hope to see you there! \nSIGN UP HERE!
URL:https://www.vccfresno.org/event/young-adult-young-couple-young-families-dinner-hangout/
LOCATION:CA
CATEGORIES:Young Adults
ATTACH;FMTTYPE=image/png:https://www.vccfresno.org/wp-content/uploads/2026/02/JS-MS-1stFridayYAYFamsDinnerHangout.png
END:VEVENT
BEGIN:VEVENT
DTSTART;TZID=America/Los_Angeles:20260313T190000
DTEND;TZID=America/Los_Angeles:20260313T210000
DTSTAMP:20260425T034930
CREATED:20260128T221717Z
LAST-MODIFIED:20260128T221717Z
UID:9201-1773428400-1773435600@www.vccfresno.org
SUMMARY:The Faith to Flourish Women's Event
DESCRIPTION:Ladies\, do you desire for your faith to not just grow but to flourish? We have been invited to a Night of Worship and the Word with Christine Cain\, The Faith to Flourish on March 13th\, by our sisters at Progressive Community Church\, in Stockton\, CA. \n\n\nOne of my greatest desires is that we would be known as women of tremendous faith\, and I think that this night will be an important milestone for us to attend together.   Please make every effort to be there….come as a Connect Crew\, call some girlfriends to drive up with you\,  share a hotel room with some gal pals or drive home afterwards. \nWe are at an important time in the life of our church and in our nation for increased faith.  So\, if you are ready to make this investment to have The Faith to Flourish\,” I will see you on March 13th. \n\nSIGN UP HERE!
URL:https://www.vccfresno.org/event/the-faith-to-flourish-womens-event/
LOCATION:Progressive Community Church\, 2820 South B Street\, Stockton\, CA\, 95206
CATEGORIES:Women,Young Adults
ATTACH;FMTTYPE=image/png:https://www.vccfresno.org/wp-content/uploads/2026/01/SQ-The-Faith-To-Flourish-Night.png
END:VEVENT
BEGIN:VEVENT
DTSTART;TZID=America/Los_Angeles:20260403T180000
DTEND;TZID=America/Los_Angeles:20260403T200000
DTSTAMP:20260425T034930
CREATED:20260205T203936Z
LAST-MODIFIED:20260205T203936Z
UID:9249-1775239200-1775246400@www.vccfresno.org
SUMMARY:Young Adult/Young Couple/Young Families Dinner & Hangout
DESCRIPTION:Are you a young adult\, young couple or young family? Come hangout and eat dinner with us every first Friday of the month from 6:00-8:00pm at Jason and Monica Schneider’s home. Kiddos are welcome. Address sent when you sign-up. Hope to see you there! \nSIGN UP HERE!
URL:https://www.vccfresno.org/event/young-adult-young-couple-young-families-dinner-hangout-2/
LOCATION:CA
CATEGORIES:Young Adults
ATTACH;FMTTYPE=image/png:https://www.vccfresno.org/wp-content/uploads/2026/02/JS-MS-1stFridayYAYFamsDinnerHangout.png
END:VEVENT
BEGIN:VEVENT
DTSTART;TZID=America/Los_Angeles:20260501T180000
DTEND;TZID=America/Los_Angeles:20260501T200000
DTSTAMP:20260425T034930
CREATED:20260205T204055Z
LAST-MODIFIED:20260205T204055Z
UID:9251-1777658400-1777665600@www.vccfresno.org
SUMMARY:Young Adult/Young Couple/Young Families Dinner & Hangout
DESCRIPTION:Are you a young adult\, young couple or young family? Come hangout and eat dinner with us every first Friday of the month from 6:00-8:00pm at Jason and Monica Schneider’s home. Kiddos are welcome. Address sent when you sign-up. Hope to see you there! \nSIGN UP HERE!
URL:https://www.vccfresno.org/event/young-adult-young-couple-young-families-dinner-hangout-3/
LOCATION:CA
CATEGORIES:Young Adults
ATTACH;FMTTYPE=image/png:https://www.vccfresno.org/wp-content/uploads/2026/02/JS-MS-1stFridayYAYFamsDinnerHangout.png
END:VEVENT
BEGIN:VEVENT
DTSTART;TZID=America/Los_Angeles:20260605T180000
DTEND;TZID=America/Los_Angeles:20260605T200000
DTSTAMP:20260425T034930
CREATED:20260205T204316Z
LAST-MODIFIED:20260205T204316Z
UID:9253-1780682400-1780689600@www.vccfresno.org
SUMMARY:Young Adults/Young Couples/Young Families Dinner & Hangout
DESCRIPTION:Are you a young adult\, young couple or young family? Come hangout and eat dinner with us every first Friday of the month from 6:00-8:00pm at Jason and Monica Schneider’s home. Kiddos are welcome. Address sent when you sign-up. Hope to see you there! \nSIGN UP HERE!
URL:https://www.vccfresno.org/event/young-adults-young-couples-young-families-dinner-hangout/
LOCATION:CA
CATEGORIES:Young Adults
ATTACH;FMTTYPE=image/png:https://www.vccfresno.org/wp-content/uploads/2026/02/JS-MS-1stFridayYAYFamsDinnerHangout.png
END:VEVENT
BEGIN:VEVENT
DTSTART;TZID=America/Los_Angeles:20260703T180000
DTEND;TZID=America/Los_Angeles:20260703T200000
DTSTAMP:20260425T034930
CREATED:20260205T204422Z
LAST-MODIFIED:20260205T204422Z
UID:9255-1783101600-1783108800@www.vccfresno.org
SUMMARY:Young Adults/Young Couples/Young Families Dinner & Hangout
DESCRIPTION:Are you a young adult\, young couple or young family? Come hangout and eat dinner with us every first Friday of the month from 6:00-8:00pm at Jason and Monica Schneider’s home. Kiddos are welcome. Address sent when you sign-up. Hope to see you there! \nSIGN UP HERE!
URL:https://www.vccfresno.org/event/young-adults-young-couples-young-families-dinner-hangout-2/
LOCATION:CA
CATEGORIES:Young Adults
ATTACH;FMTTYPE=image/png:https://www.vccfresno.org/wp-content/uploads/2026/02/JS-MS-1stFridayYAYFamsDinnerHangout.png
END:VEVENT
END:VCALENDAR