BEGIN:VCALENDAR
VERSION:2.0
PRODID:-//Valley Christian Center - ECPv6.13.2.1//NONSGML v1.0//EN
CALSCALE:GREGORIAN
METHOD:PUBLISH
X-WR-CALNAME:Valley Christian Center
X-ORIGINAL-URL:https://www.vccfresno.org
X-WR-CALDESC:Events for Valley Christian Center
REFRESH-INTERVAL;VALUE=DURATION:PT1H
X-Robots-Tag:noindex
X-PUBLISHED-TTL:PT1H
BEGIN:VTIMEZONE
TZID:America/Los_Angeles
BEGIN:DAYLIGHT
TZOFFSETFROM:-0800
TZOFFSETTO:-0700
TZNAME:PDT
DTSTART:20190310T100000
END:DAYLIGHT
BEGIN:STANDARD
TZOFFSETFROM:-0700
TZOFFSETTO:-0800
TZNAME:PST
DTSTART:20191103T090000
END:STANDARD
BEGIN:DAYLIGHT
TZOFFSETFROM:-0800
TZOFFSETTO:-0700
TZNAME:PDT
DTSTART:20200308T100000
END:DAYLIGHT
BEGIN:STANDARD
TZOFFSETFROM:-0700
TZOFFSETTO:-0800
TZNAME:PST
DTSTART:20201101T090000
END:STANDARD
BEGIN:DAYLIGHT
TZOFFSETFROM:-0800
TZOFFSETTO:-0700
TZNAME:PDT
DTSTART:20210314T100000
END:DAYLIGHT
BEGIN:STANDARD
TZOFFSETFROM:-0700
TZOFFSETTO:-0800
TZNAME:PST
DTSTART:20211107T090000
END:STANDARD
BEGIN:DAYLIGHT
TZOFFSETFROM:-0800
TZOFFSETTO:-0700
TZNAME:PDT
DTSTART:20220313T100000
END:DAYLIGHT
BEGIN:STANDARD
TZOFFSETFROM:-0700
TZOFFSETTO:-0800
TZNAME:PST
DTSTART:20221106T090000
END:STANDARD
BEGIN:DAYLIGHT
TZOFFSETFROM:-0800
TZOFFSETTO:-0700
TZNAME:PDT
DTSTART:20230312T100000
END:DAYLIGHT
BEGIN:STANDARD
TZOFFSETFROM:-0700
TZOFFSETTO:-0800
TZNAME:PST
DTSTART:20231105T090000
END:STANDARD
BEGIN:DAYLIGHT
TZOFFSETFROM:-0800
TZOFFSETTO:-0700
TZNAME:PDT
DTSTART:20240310T100000
END:DAYLIGHT
BEGIN:STANDARD
TZOFFSETFROM:-0700
TZOFFSETTO:-0800
TZNAME:PST
DTSTART:20241103T090000
END:STANDARD
BEGIN:DAYLIGHT
TZOFFSETFROM:-0800
TZOFFSETTO:-0700
TZNAME:PDT
DTSTART:20250309T100000
END:DAYLIGHT
BEGIN:STANDARD
TZOFFSETFROM:-0700
TZOFFSETTO:-0800
TZNAME:PST
DTSTART:20251102T090000
END:STANDARD
END:VTIMEZONE
BEGIN:VEVENT
DTSTART;TZID=America/Los_Angeles:20250714T130000
DTEND;TZID=America/Los_Angeles:20250718T150000
DTSTAMP:20260423T221121
CREATED:20250401T220323Z
LAST-MODIFIED:20250401T220323Z
UID:8401-1752498000-1752850800@www.vccfresno.org
SUMMARY:Steadfast Youth Summer Camp
DESCRIPTION:Ready for an unforgettable summer? Join us at Unafraid Youth Summer Camp from July 14-18\, 2025\, at Old Oak Ranch in Sonora\, CA! \nStudents (7th-12th grade) will learn that God can turn fear into courage\, hurt into hope\, turn wrongs into rights\, and transform worry into trust.  Throughout the week\, you’ll engage in dynamic worship\, thrilling activities\, and meaningful discussions with fellow believers. Plus\, you’ll build friendships that last a lifetime! Not only that —it’s also packed with adventure and classic summer camp fun! From swimming and zip-lining to paintball\, and high-energy large group games\, campers will experience the thrill of outdoor activities and the simple joys of camp life. \nCamp Scripture: Romans 15:13 says “May the God of hope fill you with all joy and peace as you trust in him\, so that you may overflow with hope by the power of the Holy Spirit.” \nPick-up & turn in your students camp application all month long in April in the courtyard on Sundays after service. You can also get more info\, download the application and make a payment at vccfresno.org/youth/.
URL:https://www.vccfresno.org/event/steadfast-youth-summer-camp-2/
LOCATION:old oak ranch
CATEGORIES:Youth
ATTACH;FMTTYPE=image/png:https://www.vccfresno.org/wp-content/uploads/2025/04/SF-ComboSumCmp2025-SQ.png
END:VEVENT
BEGIN:VEVENT
DTSTART;TZID=America/Los_Angeles:20250702T183000
DTEND;TZID=America/Los_Angeles:20250702T203000
DTSTAMP:20260423T221121
CREATED:20250525T011405Z
LAST-MODIFIED:20250525T011405Z
UID:8536-1751481000-1751488200@www.vccfresno.org
SUMMARY:Steadfast Youth Color War
DESCRIPTION:
URL:https://www.vccfresno.org/event/steadfast-youth-color-war/
LOCATION:Valley Christian Center\, 4649 E. Shields Ave\, Fresno\, CA\, 93726\, United States
CATEGORIES:Youth
ATTACH;FMTTYPE=image/png:https://www.vccfresno.org/wp-content/uploads/2025/05/color-war-steadfast.png
END:VEVENT
BEGIN:VEVENT
DTSTART;TZID=America/Los_Angeles:20250618T183000
DTEND;TZID=America/Los_Angeles:20250618T203000
DTSTAMP:20260423T221121
CREATED:20250525T011248Z
LAST-MODIFIED:20250525T011248Z
UID:8534-1750271400-1750278600@www.vccfresno.org
SUMMARY:Steadfast Youth Pool Party
DESCRIPTION:Come help us kick start summer with a pool party. 6th-12th grade students. 6:30-8:30pm. 532 Timmy Ave. Clovis 93612.
URL:https://www.vccfresno.org/event/steadfast-youth-pool-party/
LOCATION:CA
CATEGORIES:Youth
ATTACH;FMTTYPE=image/png:https://www.vccfresno.org/wp-content/uploads/2025/05/2024.png
END:VEVENT
BEGIN:VEVENT
DTSTART;TZID=America/Los_Angeles:20240715T130000
DTEND;TZID=America/Los_Angeles:20240719T130000
DTSTAMP:20260423T221121
CREATED:20240515T232401Z
LAST-MODIFIED:20240515T232401Z
UID:7298-1721048400-1721394000@www.vccfresno.org
SUMMARY:Steadfast Youth Summer Camp
DESCRIPTION:2024 Summer Camp is almost here!!! We are so excited for another summer filled with worship\, speakers\, prayer\, games\, fun and most importantly and opportunity to encounter Jesus. You don’t want to miss it! Camp Dates: July 15th-19th at Old Oak Ranch\nApplications are available at youth group or you can download here. Applications and a non-refundable deposit of $75 are DUE to secure your spot by June 2nd. Final payments and applications are due by June 30th.
URL:https://www.vccfresno.org/event/steadfast-youth-summer-camp/
LOCATION:old oak ranch
CATEGORIES:Youth
ATTACH;FMTTYPE=image/png:https://www.vccfresno.org/wp-content/uploads/2024/05/SF-ComboSumCmp2024-CmprReg-square-1.png
END:VEVENT
BEGIN:VEVENT
DTSTART;TZID=America/Los_Angeles:20240619T183000
DTEND;TZID=America/Los_Angeles:20240619T203000
DTSTAMP:20260423T221121
CREATED:20240516T001812Z
LAST-MODIFIED:20240516T001812Z
UID:7310-1718821800-1718829000@www.vccfresno.org
SUMMARY:Steadfast Youth Summer Kick-Off
DESCRIPTION:We’re kickin’ off the summer with a pool party!! Invite a friend to join us for pool fun\, games\, food and prizes!! 6:30-8:30pm Ladies be sure to wear a one piece or a tee over your two piece. Guys no speedos! See you there!!
URL:https://www.vccfresno.org/event/steadfast-youth-summer-kick-off/
LOCATION:532 Timmy Ave Clovis 93612\, 523 Timmy Ave\, Clovis\, CA\, 93612
CATEGORIES:Youth
ATTACH;FMTTYPE=image/jpeg:https://www.vccfresno.org/wp-content/uploads/2024/05/2024.jpg
END:VEVENT
BEGIN:VEVENT
DTSTART;TZID=America/Los_Angeles:20240413T073000
DTEND;TZID=America/Los_Angeles:20240413T220000
DTSTAMP:20260423T221121
CREATED:20240304T205251Z
LAST-MODIFIED:20240304T205251Z
UID:6924-1712993400-1713045600@www.vccfresno.org
SUMMARY:Steadfast Youth - Winter One Day
DESCRIPTION:A one day winter camp for students in 6th-12th grade. This is a full day event from 7:30am-10:00am (meet up and pick up from Valley Christian Center) at Life Pacific University in San Dimas\, CA. We will be gathering with other youth groups in California. The day will include speakers\, worship\, games\, prizes and lunch. Students can pick up and application on Sundays and Wednesday’s in the youth room from Pastor Jason. Cost is $65\, applications are due by March 31st.
URL:https://www.vccfresno.org/event/steadfast-youth-winter-one-day/
LOCATION:Life Pacific University\, 1100 W. Covina Blvd.\, San Dimas\, CA\, United States
CATEGORIES:Youth
ATTACH;FMTTYPE=image/png:https://www.vccfresno.org/wp-content/uploads/2024/03/SFY-WINTER-ONE-DAY-24-SQUARE.png
END:VEVENT
BEGIN:VEVENT
DTSTART;TZID=America/Los_Angeles:20240326T183000
DTEND;TZID=America/Los_Angeles:20240326T203000
DTSTAMP:20260423T221121
CREATED:20240304T211124Z
LAST-MODIFIED:20240304T213958Z
UID:6933-1711477800-1711485000@www.vccfresno.org
SUMMARY:Steadfast Youth - Pizza & Skate
DESCRIPTION:Pizza & Skate at United Skates on Peach & Gettysburg is for students in 6th-12th grade. Pick up and drop off will be at United Skates. Cost is $15 – includes a slice of pizza\, drink and skate rental. Please make sure you go to United Skates website  to complete a waiver for skating\, this must be done in order to skate that night.
URL:https://www.vccfresno.org/event/steadfast-youth-pizza-skate/
LOCATION:United Skates\, 2881 Peach Ave\, Clovis\, CA\, 93612
CATEGORIES:Youth
ATTACH;FMTTYPE=image/png:https://www.vccfresno.org/wp-content/uploads/2024/03/SFY-PIZZA-SKATE-SQUARE-2.png
END:VEVENT
BEGIN:VEVENT
DTSTART;VALUE=DATE:20230718
DTEND;VALUE=DATE:20230723
DTSTAMP:20260423T221121
CREATED:20230502T145413Z
LAST-MODIFIED:20230502T145721Z
UID:6285-1689638400-1690070399@www.vccfresno.org
SUMMARY:CAMP '23
DESCRIPTION:  \nSIGN UP HERE!
URL:https://www.vccfresno.org/event/camp-23/
LOCATION:CA
CATEGORIES:Youth
ATTACH;FMTTYPE=image/png:https://www.vccfresno.org/wp-content/uploads/2023/05/Steadfast-Summer-Camp-Square-1.png
END:VEVENT
BEGIN:VEVENT
DTSTART;TZID=America/Los_Angeles:20221122T183000
DTEND;TZID=America/Los_Angeles:20221122T220000
DTSTAMP:20260423T221121
CREATED:20221106T174901Z
LAST-MODIFIED:20221106T175031Z
UID:5877-1669141800-1669154400@www.vccfresno.org
SUMMARY:Steadfast Night Out
DESCRIPTION:To sign up please text 559-974-1817 or email Monica at monica@vccfresno.org with your full name and “Going to SNO”
URL:https://www.vccfresno.org/event/steadfast-night-out-2/
LOCATION:CA
CATEGORIES:Youth
ATTACH;FMTTYPE=image/png:https://www.vccfresno.org/wp-content/uploads/2022/11/Steadfast-Night-Out-Instagram-Post.png
END:VEVENT
BEGIN:VEVENT
DTSTART;TZID=America/Los_Angeles:20211123T183000
DTEND;TZID=America/Los_Angeles:20211123T210000
DTSTAMP:20260423T221121
CREATED:20211113T171615Z
LAST-MODIFIED:20211113T171615Z
UID:4188-1637692200-1637701200@www.vccfresno.org
SUMMARY:Steadfast Night Out
DESCRIPTION:Steadfast Night Out\nHang with us at the movies over fall break!\nMaya Cinemas\n3090 E. Campus Pointe Dr\nFresno\, CA 93710\nCost: $5 + tax\nArrive at 6:30pm to purchase ticket\n7:00pm movie starts
URL:https://www.vccfresno.org/event/steadfast-night-out/
LOCATION:CA
CATEGORIES:Youth
ATTACH;FMTTYPE=image/png:https://www.vccfresno.org/wp-content/uploads/2021/11/EE449F1C-9796-4FE6-8FEC-DD023A2F453D.png
END:VEVENT
BEGIN:VEVENT
DTSTART;TZID=America/Los_Angeles:20211120T130000
DTEND;TZID=America/Los_Angeles:20211120T200000
DTSTAMP:20260423T221121
CREATED:20211111T160335Z
LAST-MODIFIED:20211111T160335Z
UID:4178-1637413200-1637438400@www.vccfresno.org
SUMMARY:YTHFEST
DESCRIPTION:Register online for this free event\nSIGN UP HERE!\n\n–\nSteadfast Yth will meet at the historic Wilson Theater in downtown Fresno at 1pm.\nStudents will be picked up by 8pm at the same spot they get dropped off at.
URL:https://www.vccfresno.org/event/ythfest/
LOCATION:CA
CATEGORIES:Youth
ATTACH;FMTTYPE=image/jpeg:https://www.vccfresno.org/wp-content/uploads/2021/11/IMG_3017.jpg
END:VEVENT
BEGIN:VEVENT
DTSTART;TZID=America/Los_Angeles:20210214T100000
DTEND;TZID=America/Los_Angeles:20210214T103000
DTSTAMP:20260423T221121
CREATED:20210128T135807Z
LAST-MODIFIED:20210219T190829Z
UID:2679-1613296800-1613298600@www.vccfresno.org
SUMMARY:Water Baptism - FEB 14th
DESCRIPTION:Are you ready to take your next step in your relationship with Jesus?\nWe are having Water Baptisms on Sunday\, February 14th at 10:00am. We will be having a GOTBAPTISM? class for those wanting to be baptized at 9:00am. To get all the details\, please visit our Welcome Table and ask for a baptism packet or email us at connect@vccfresno.org. Sign ups will be available in the Courtyard on January 31st and February 5th.
URL:https://www.vccfresno.org/event/water-baptism-feb-14th/
LOCATION:CA
CATEGORIES:Kids,Life Groups,Men,Water Baptism,Women,Youth
ATTACH;FMTTYPE=image/png:https://www.vccfresno.org/wp-content/uploads/2021/02/Baptism-w-class-wide.png
END:VEVENT
BEGIN:VEVENT
DTSTART;VALUE=DATE:20201108
DTEND;VALUE=DATE:20201109
DTSTAMP:20260423T221121
CREATED:20201031T233918Z
LAST-MODIFIED:20201031T235241Z
UID:2300-1604793600-1604879999@www.vccfresno.org
SUMMARY:Water Baptism - NOV 8th
DESCRIPTION:Are you ready to publicly tell others about your faith in Jesus?\nJoin us for Water Baptisms on Sunday\, November 8th at 9:00am. Our GOTBAPTISM? Class will be held prior to service. To sign up and get all the details\, please visit the Welcome Table before or after Sunday service and ask for a Baptism Packet\, or please email us at connect@vccfresno.org.
URL:https://www.vccfresno.org/event/water-baptism-nov-8th/
LOCATION:Valley Christian Center\, 4649 E. Shields Ave\, Fresno\, CA\, 93726\, United States
CATEGORIES:Kids,Life Groups,Men,Women,Youth
ATTACH;FMTTYPE=image/png:https://www.vccfresno.org/wp-content/uploads/2020/10/WaterBaptism-990000000005143c.png
END:VEVENT
BEGIN:VEVENT
DTSTART;TZID=America/Los_Angeles:20200814T170000
DTEND;TZID=America/Los_Angeles:20200814T210000
DTSTAMP:20260423T221121
CREATED:20200727T192611Z
LAST-MODIFIED:20200812T141738Z
UID:2030-1597424400-1597438800@www.vccfresno.org
SUMMARY:Fresno Street Eats: Airport
DESCRIPTION:Grab your family and friends and swing by the church for some dinner in our parking lot. \nFood Trucks will be available from 5-9pm. \nThis is a great opportunity to support our local businesses and show them some love. \nWe ask that you please honor the social distancing and bring your mask with you.
URL:https://www.vccfresno.org/event/fresno-street-eats-airport/
LOCATION:Valley Christian Center\, 4649 E. Shields Ave\, Fresno\, CA\, 93726\, United States
CATEGORIES:Family,Hispanic,Kids,Life Groups,Youth
ATTACH;FMTTYPE=image/png:https://www.vccfresno.org/wp-content/uploads/2020/07/image.png
END:VEVENT
BEGIN:VEVENT
DTSTART;TZID=America/Los_Angeles:20191215T110000
DTEND;TZID=America/Los_Angeles:20191215T123000
DTSTAMP:20260423T221121
CREATED:20191214T222706Z
LAST-MODIFIED:20191214T222706Z
UID:1482-1576407600-1576413000@www.vccfresno.org
SUMMARY:Steadfast Youth
DESCRIPTION:Rooms 401-403
URL:https://www.vccfresno.org/event/steadfast-youth/
LOCATION:CA
CATEGORIES:Youth
END:VEVENT
END:VCALENDAR