BEGIN:VCALENDAR
VERSION:2.0
PRODID:-//Valley Christian Center - ECPv6.13.2.1//NONSGML v1.0//EN
CALSCALE:GREGORIAN
METHOD:PUBLISH
X-WR-CALNAME:Valley Christian Center
X-ORIGINAL-URL:https://www.vccfresno.org
X-WR-CALDESC:Events for Valley Christian Center
REFRESH-INTERVAL;VALUE=DURATION:PT1H
X-Robots-Tag:noindex
X-PUBLISHED-TTL:PT1H
BEGIN:VTIMEZONE
TZID:America/Los_Angeles
BEGIN:DAYLIGHT
TZOFFSETFROM:-0800
TZOFFSETTO:-0700
TZNAME:PDT
DTSTART:20240310T100000
END:DAYLIGHT
BEGIN:STANDARD
TZOFFSETFROM:-0700
TZOFFSETTO:-0800
TZNAME:PST
DTSTART:20241103T090000
END:STANDARD
END:VTIMEZONE
BEGIN:VEVENT
DTSTART;TZID=America/Los_Angeles:20241030T090000
DTEND;TZID=America/Los_Angeles:20241030T110000
DTSTAMP:20260425T052823
CREATED:20240918T203412Z
LAST-MODIFIED:20241014T185423Z
UID:7756-1730278800-1730286000@www.vccfresno.org
SUMMARY:Biblical Citizenship - Women Bible Study
DESCRIPTION:Wednesdays September 18th – November 20th from 9:00am-11:00am in room 305. \nSIGN UP HERE!
URL:https://www.vccfresno.org/event/biblical-citizenship-women-bible-study-6/
LOCATION:Valley Christian Center\, 4649 E. Shields Ave\, Fresno\, CA\, 93726\, United States
ATTACH;FMTTYPE=image/png:https://www.vccfresno.org/wp-content/uploads/2024/08/CD-Biblical-Citizenship-Study.png
END:VEVENT
BEGIN:VEVENT
DTSTART;TZID=America/Los_Angeles:20241030T080000
DTEND;TZID=America/Los_Angeles:20241030T170000
DTSTAMP:20260425T052823
CREATED:20240918T201725Z
LAST-MODIFIED:20241014T190132Z
UID:7735-1730275200-1730307600@www.vccfresno.org
SUMMARY:DIY Crafting & Women of the Bible
DESCRIPTION:Join us for fellowship and crafty fun. You will have a space at a table for any DIY crafting that you want to work on. Enjoy spending time with other crafters while working on your projects. Each week we will share God’s word studying the women of the Bible. Bring a friend. Make new friends. Develop new connections while enjoying your hobby with others. September 4th – November 20th from 10:00am-12:00pm in the All Purpose Room. \nSIGN UP HERE!
URL:https://www.vccfresno.org/event/diy-crafting-women-of-the-bible-5/
LOCATION:Valley Christian Center\, 4649 E. Shields Ave\, Fresno\, CA\, 93726\, United States
ATTACH;FMTTYPE=image/png:https://www.vccfresno.org/wp-content/uploads/2024/09/CW-Ladies-DIY-Crafting.png
END:VEVENT
BEGIN:VEVENT
DTSTART;TZID=America/Los_Angeles:20241029T183000
DTEND;TZID=America/Los_Angeles:20241029T203000
DTSTAMP:20260425T052823
CREATED:20240918T200228Z
LAST-MODIFIED:20241014T190259Z
UID:7722-1730226600-1730233800@www.vccfresno.org
SUMMARY:Warrior Bride Draw Your Sword: Women's Bible Study
DESCRIPTION:A Six-Week Bible Study Series on the Book of Ephesians and how God created Mighty Warrior Daughters for His Kingdom\, His Kingdom\, His Army and the Epic Battle we are designed to be a part of. September 10th – October 29th from 6:30-8:30pm in room 305 at Valley Christian Center. Cost is $25.00 for the study materials.
URL:https://www.vccfresno.org/event/warrior-bride-draw-your-sword-womens-bible-study-6/
LOCATION:Valley Christian Center\, 4649 E. Shields Ave\, Fresno\, CA\, 93726\, United States
ATTACH;FMTTYPE=image/png:https://www.vccfresno.org/wp-content/uploads/2024/09/Fall-Womens-Connect-Crew-Graphics-1080x18-1.png
END:VEVENT
BEGIN:VEVENT
DTSTART;TZID=America/Los_Angeles:20241029T183000
DTEND;TZID=America/Los_Angeles:20241029T200000
DTSTAMP:20260425T052823
CREATED:20240919T184733Z
LAST-MODIFIED:20241014T191547Z
UID:7823-1730226600-1730232000@www.vccfresno.org
SUMMARY:Tuesday Night Men's Bible Study
DESCRIPTION:Our year round Men’s Tuesday Night Bible Study Connect Crew meets every Tuesday. We are an open group\, so you can join anytime. This group is for men who would love to learn more about JESUS and what He has in store for us. The cost is usually around $8.00-$12.00 depending on the cost of the book. \nSIGN UP HERE!
URL:https://www.vccfresno.org/event/tuesday-night-mens-bible-study-7/
LOCATION:Valley Christian Center\, 4649 E. Shields Ave\, Fresno\, CA\, 93726\, United States
ATTACH;FMTTYPE=image/png:https://www.vccfresno.org/wp-content/uploads/2024/09/FT_KO-Mens-Bible_Book-Study.png
END:VEVENT
BEGIN:VEVENT
DTSTART;TZID=America/Los_Angeles:20241029T070000
DTEND;TZID=America/Los_Angeles:20241029T080000
DTSTAMP:20260425T052823
CREATED:20240918T210757Z
LAST-MODIFIED:20241014T191258Z
UID:7794-1730185200-1730188800@www.vccfresno.org
SUMMARY:Men's Discipleship
DESCRIPTION:Join us every Tuesday morning from 7:00-8:00am for breakfast and the Word in the All Purpose Room. We are currently going through the “Devoted” Bible Study. Cost is $14 for the bible study booklet. Join us anytime. \nSIGN UP HERE!
URL:https://www.vccfresno.org/event/mens-discipleship-6/
LOCATION:Valley Christian Center\, 4649 E. Shields Ave\, Fresno\, CA\, 93726\, United States
ATTACH;FMTTYPE=image/png:https://www.vccfresno.org/wp-content/uploads/2024/09/GH_DS-Mens-Discipleship.png
END:VEVENT
BEGIN:VEVENT
DTSTART;TZID=America/Los_Angeles:20241027T111500
DTEND;TZID=America/Los_Angeles:20241027T120000
DTSTAMP:20260425T052823
CREATED:20240108T235205Z
LAST-MODIFIED:20240118T193735Z
UID:6692-1730027700-1730030400@www.vccfresno.org
SUMMARY:Meet & Greet
DESCRIPTION:If you are new to Valley our team would love to meet you! Join us on any of the following Sunday’s October 27th\, or December 15th right after service for a Meet & Greet in the APR. There will be snacks\, refreshments\, and information on who we are at Valley and how you can get connected. We look forward to meeting you! Click the link to reserve your spot. \nSIGN UP HERE!
URL:https://www.vccfresno.org/event/meet-greet-13/
LOCATION:Valley Christian Center\, 4649 E. Shields Ave\, Fresno\, CA\, 93726\, United States
ATTACH;FMTTYPE=image/png:https://www.vccfresno.org/wp-content/uploads/2024/01/Meet-Greet-Front.png
END:VEVENT
BEGIN:VEVENT
DTSTART;TZID=America/Los_Angeles:20241025T183000
DTEND;TZID=America/Los_Angeles:20241025T203000
DTSTAMP:20260425T052823
CREATED:20240118T020133Z
LAST-MODIFIED:20240814T221157Z
UID:6781-1729881000-1729888200@www.vccfresno.org
SUMMARY:Women's 4th Annual S'mores Night
DESCRIPTION:Ladies\, come out for our 4th annual S’mores Night\, Friday\, October 25th. We’re going to have fun girls time under the stars for a little relaxation before the holidays. The event is from 6:30pm to 8:30 at Pastor Kristi’s house.\nSign up October 13th or 20th after Sunday Service in the Courtyard. \nSIGN UP HERE!
URL:https://www.vccfresno.org/event/womens-3rd-annual-smores-night/
CATEGORIES:Women
ATTACH;FMTTYPE=image/png:https://www.vccfresno.org/wp-content/uploads/2024/01/smores.png
END:VEVENT
BEGIN:VEVENT
DTSTART;TZID=America/Los_Angeles:20241024T183000
DTEND;TZID=America/Los_Angeles:20241024T200000
DTSTAMP:20260425T052823
CREATED:20240918T205137Z
LAST-MODIFIED:20241014T190803Z
UID:7773-1729794600-1729800000@www.vccfresno.org
SUMMARY:Gospel of John - Men's Bible Study
DESCRIPTION:September 26th – November 21st on Thursday nights from 6:30-8:00pm in room 104. \nSIGN UP HERE!
URL:https://www.vccfresno.org/event/gospel-of-john-mens-bible-study-5/
LOCATION:Valley Christian Center\, 4649 E. Shields Ave\, Fresno\, CA\, 93726\, United States
ATTACH;FMTTYPE=image/png:https://www.vccfresno.org/wp-content/uploads/2024/09/BA-Mens-Gospel-of-John-Bible-Study.png
END:VEVENT
BEGIN:VEVENT
DTSTART;TZID=America/Los_Angeles:20241023T100000
DTEND;TZID=America/Los_Angeles:20241023T120000
DTSTAMP:20260425T052823
CREATED:20240918T201538Z
LAST-MODIFIED:20241014T190201Z
UID:7733-1729677600-1729684800@www.vccfresno.org
SUMMARY:DIY Crafting & Women of the Bible
DESCRIPTION:Join us for fellowship and crafty fun. You will have a space at a table for any DIY crafting that you want to work on. Enjoy spending time with other crafters while working on your projects. Each week we will share God’s word studying the women of the Bible. Bring a friend. Make new friends. Develop new connections while enjoying your hobby with others. September 4th – November 20th from 10:00am-12:00pm in the All Purpose Room. \nSIGN UP HERE!
URL:https://www.vccfresno.org/event/diy-crafting-women-of-the-bible-4/
LOCATION:Valley Christian Center\, 4649 E. Shields Ave\, Fresno\, CA\, 93726\, United States
ATTACH;FMTTYPE=image/png:https://www.vccfresno.org/wp-content/uploads/2024/09/CW-Ladies-DIY-Crafting.png
END:VEVENT
BEGIN:VEVENT
DTSTART;TZID=America/Los_Angeles:20241023T090000
DTEND;TZID=America/Los_Angeles:20241023T110000
DTSTAMP:20260425T052823
CREATED:20240918T203310Z
LAST-MODIFIED:20241014T185441Z
UID:7754-1729674000-1729681200@www.vccfresno.org
SUMMARY:Biblical Citizenship - Women Bible Study
DESCRIPTION:Wednesdays September 18th – November 20th from 9:00am-11:00am in room 305. \nSIGN UP HERE!
URL:https://www.vccfresno.org/event/biblical-citizenship-women-bible-study-5/
LOCATION:Valley Christian Center\, 4649 E. Shields Ave\, Fresno\, CA\, 93726\, United States
ATTACH;FMTTYPE=image/png:https://www.vccfresno.org/wp-content/uploads/2024/08/CD-Biblical-Citizenship-Study.png
END:VEVENT
BEGIN:VEVENT
DTSTART;TZID=America/Los_Angeles:20241022T183000
DTEND;TZID=America/Los_Angeles:20241022T203000
DTSTAMP:20260425T052824
CREATED:20240918T200114Z
LAST-MODIFIED:20241014T190319Z
UID:7720-1729621800-1729629000@www.vccfresno.org
SUMMARY:Warrior Bride Draw Your Sword: Women's Bible Study
DESCRIPTION:A Six-Week Bible Study Series on the Book of Ephesians and how God created Mighty Warrior Daughters for His Kingdom\, His Kingdom\, His Army and the Epic Battle we are designed to be a part of. September 10th – October 29th from 6:30-8:30pm in room 305 at Valley Christian Center. Cost is $25.00 for the study materials.
URL:https://www.vccfresno.org/event/warrior-bride-draw-your-sword-womens-bible-study-5/
LOCATION:Valley Christian Center\, 4649 E. Shields Ave\, Fresno\, CA\, 93726\, United States
ATTACH;FMTTYPE=image/png:https://www.vccfresno.org/wp-content/uploads/2024/09/Fall-Womens-Connect-Crew-Graphics-1080x18-1.png
END:VEVENT
BEGIN:VEVENT
DTSTART;TZID=America/Los_Angeles:20241022T183000
DTEND;TZID=America/Los_Angeles:20241022T200000
DTSTAMP:20260425T052824
CREATED:20240919T184518Z
LAST-MODIFIED:20241014T191700Z
UID:7819-1729621800-1729627200@www.vccfresno.org
SUMMARY:Tuesday Night Men's Bible Study
DESCRIPTION:Our year round Men’s Tuesday Night Bible Study Connect Crew meets every Tuesday. We are an open group\, so you can join anytime. This group is for men who would love to learn more about JESUS and what He has in store for us. The cost is usually around $8.00-$12.00 depending on the cost of the book. \nSIGN UP HERE!
URL:https://www.vccfresno.org/event/tuesday-night-mens-bible-study-5/
LOCATION:Valley Christian Center\, 4649 E. Shields Ave\, Fresno\, CA\, 93726\, United States
ATTACH;FMTTYPE=image/png:https://www.vccfresno.org/wp-content/uploads/2024/09/FT_KO-Mens-Bible_Book-Study.png
END:VEVENT
BEGIN:VEVENT
DTSTART;TZID=America/Los_Angeles:20241022T070000
DTEND;TZID=America/Los_Angeles:20241022T080000
DTSTAMP:20260425T052824
CREATED:20240918T210652Z
LAST-MODIFIED:20241014T191740Z
UID:7792-1729580400-1729584000@www.vccfresno.org
SUMMARY:Men's Discipleship
DESCRIPTION:Join us every Tuesday morning from 7:00-8:00am for breakfast and the Word in the All Purpose Room. We are currently going through the “Devoted” Bible Study. Cost is $14 for the bible study booklet. Join us anytime. \nSIGN UP HERE!
URL:https://www.vccfresno.org/event/mens-discipleship-5/
LOCATION:Valley Christian Center\, 4649 E. Shields Ave\, Fresno\, CA\, 93726\, United States
ATTACH;FMTTYPE=image/png:https://www.vccfresno.org/wp-content/uploads/2024/09/GH_DS-Mens-Discipleship.png
END:VEVENT
BEGIN:VEVENT
DTSTART;TZID=America/Los_Angeles:20241017T183000
DTEND;TZID=America/Los_Angeles:20241017T200000
DTSTAMP:20260425T052824
CREATED:20240918T204700Z
LAST-MODIFIED:20241014T190934Z
UID:7771-1729189800-1729195200@www.vccfresno.org
SUMMARY:Gospel of John - Men's Bible Study
DESCRIPTION:September 26th – November 21st on Thursday nights from 6:30-8:00pm in room 104. \nSIGN UP HERE!
URL:https://www.vccfresno.org/event/gospel-of-john-mens-bible-study-4/
LOCATION:Valley Christian Center\, 4649 E. Shields Ave\, Fresno\, CA\, 93726\, United States
ATTACH;FMTTYPE=image/png:https://www.vccfresno.org/wp-content/uploads/2024/09/BA-Mens-Gospel-of-John-Bible-Study.png
END:VEVENT
BEGIN:VEVENT
DTSTART;TZID=America/Los_Angeles:20241016T180000
DTEND;TZID=America/Los_Angeles:20241016T200000
DTSTAMP:20260425T052824
CREATED:20241003T172820Z
LAST-MODIFIED:20241003T172820Z
UID:7846-1729101600-1729108800@www.vccfresno.org
SUMMARY:PrimeTime 55+ Mini Golf Night
DESCRIPTION:Join us at Blackbeard’s Family Entertainment Center (4055 N. Chestnut Diagonal/Fresno) as we meet up on the course with our PrimeTime 55+ friends for a fun night of mini golf on Wednesday\, October 16th from 6:00pm to 8:00pm!\nCost is $15.00 per person.\nSIGN UP HERE!
URL:https://www.vccfresno.org/event/primetime-55-mini-golf-night/
LOCATION:Blackbeard’s Family Entertainment\, 4055 N Chestnut Diagonal\, Fresno\, CA\, 93726\, United States
CATEGORIES:PrimeTime
ATTACH;FMTTYPE=image/png:https://www.vccfresno.org/wp-content/uploads/2024/10/October-16th-PT55-Mini-Golf-SQ-Instagram-Post.png
END:VEVENT
BEGIN:VEVENT
DTSTART;TZID=America/Los_Angeles:20241016T100000
DTEND;TZID=America/Los_Angeles:20241016T120000
DTSTAMP:20260425T052824
CREATED:20240918T201425Z
LAST-MODIFIED:20241014T190229Z
UID:7731-1729072800-1729080000@www.vccfresno.org
SUMMARY:DIY Crafting & Women of the Bible
DESCRIPTION:Join us for fellowship and crafty fun. You will have a space at a table for any DIY crafting that you want to work on. Enjoy spending time with other crafters while working on your projects. Each week we will share God’s word studying the women of the Bible. Bring a friend. Make new friends. Develop new connections while enjoying your hobby with others. September 4th – November 20th from 10:00am-12:00pm in the All Purpose Room. \nSIGN UP HERE!
URL:https://www.vccfresno.org/event/diy-crafting-women-of-the-bible-3/
LOCATION:Valley Christian Center\, 4649 E. Shields Ave\, Fresno\, CA\, 93726\, United States
ATTACH;FMTTYPE=image/png:https://www.vccfresno.org/wp-content/uploads/2024/09/CW-Ladies-DIY-Crafting.png
END:VEVENT
BEGIN:VEVENT
DTSTART;TZID=America/Los_Angeles:20241016T090000
DTEND;TZID=America/Los_Angeles:20241016T110000
DTSTAMP:20260425T052824
CREATED:20240918T203131Z
LAST-MODIFIED:20241014T185511Z
UID:7752-1729069200-1729076400@www.vccfresno.org
SUMMARY:Biblical Citizenship - Women Bible Study
DESCRIPTION:Wednesdays September 18th – November 20th from 9:00am-11:00am in room 305. \nSIGN UP HERE!
URL:https://www.vccfresno.org/event/biblical-citizenship-women-bible-study-4/
LOCATION:Valley Christian Center\, 4649 E. Shields Ave\, Fresno\, CA\, 93726\, United States
ATTACH;FMTTYPE=image/png:https://www.vccfresno.org/wp-content/uploads/2024/08/CD-Biblical-Citizenship-Study.png
END:VEVENT
BEGIN:VEVENT
DTSTART;TZID=America/Los_Angeles:20241015T183000
DTEND;TZID=America/Los_Angeles:20241015T203000
DTSTAMP:20260425T052824
CREATED:20240918T195957Z
LAST-MODIFIED:20241014T190352Z
UID:7718-1729017000-1729024200@www.vccfresno.org
SUMMARY:Warrior Bride Draw Your Sword: Women's Bible Study
DESCRIPTION:A Six-Week Bible Study Series on the Book of Ephesians and how God created Mighty Warrior Daughters for His Kingdom\, His Kingdom\, His Army and the Epic Battle we are designed to be a part of. September 10th – October 29th from 6:30-8:30pm in room 305 at Valley Christian Center. Cost is $25.00 for the study materials.
URL:https://www.vccfresno.org/event/warrior-bride-draw-your-sword-womens-bible-study-4/
LOCATION:Valley Christian Center\, 4649 E. Shields Ave\, Fresno\, CA\, 93726\, United States
ATTACH;FMTTYPE=image/png:https://www.vccfresno.org/wp-content/uploads/2024/09/Fall-Womens-Connect-Crew-Graphics-1080x18-1.png
END:VEVENT
BEGIN:VEVENT
DTSTART;TZID=America/Los_Angeles:20241015T183000
DTEND;TZID=America/Los_Angeles:20241015T200000
DTSTAMP:20260425T052824
CREATED:20240919T184404Z
LAST-MODIFIED:20241014T191624Z
UID:7817-1729017000-1729022400@www.vccfresno.org
SUMMARY:Tuesday Night Men's Bible Study
DESCRIPTION:Our year round Men’s Tuesday Night Bible Study Connect Crew meets every Tuesday. We are an open group\, so you can join anytime. This group is for men who would love to learn more about JESUS and what He has in store for us. The cost is usually around $8.00-$12.00 depending on the cost of the book. \nSIGN UP HERE!
URL:https://www.vccfresno.org/event/tuesday-night-mens-bible-study-4/
LOCATION:Valley Christian Center\, 4649 E. Shields Ave\, Fresno\, CA\, 93726\, United States
ATTACH;FMTTYPE=image/png:https://www.vccfresno.org/wp-content/uploads/2024/09/FT_KO-Mens-Bible_Book-Study.png
END:VEVENT
BEGIN:VEVENT
DTSTART;TZID=America/Los_Angeles:20241015T070000
DTEND;TZID=America/Los_Angeles:20241015T080000
DTSTAMP:20260425T052824
CREATED:20240918T210533Z
LAST-MODIFIED:20241014T191319Z
UID:7790-1728975600-1728979200@www.vccfresno.org
SUMMARY:Men's Discipleship
DESCRIPTION:Join us every Tuesday morning from 7:00-8:00am for breakfast and the Word in the All Purpose Room. We are currently going through the “Devoted” Bible Study. Cost is $14 for the bible study booklet. Join us anytime. \nSIGN UP HERE!
URL:https://www.vccfresno.org/event/mens-discipleship-4/
LOCATION:Valley Christian Center\, 4649 E. Shields Ave\, Fresno\, CA\, 93726\, United States
ATTACH;FMTTYPE=image/png:https://www.vccfresno.org/wp-content/uploads/2024/09/GH_DS-Mens-Discipleship.png
END:VEVENT
BEGIN:VEVENT
DTSTART;TZID=America/Los_Angeles:20241010T183000
DTEND;TZID=America/Los_Angeles:20241010T200000
DTSTAMP:20260425T052824
CREATED:20240918T204552Z
LAST-MODIFIED:20240918T204552Z
UID:7769-1728585000-1728590400@www.vccfresno.org
SUMMARY:Gospel of John - Men's Bible Study
DESCRIPTION:September 26th – November 21st on Thursday nights from 6:30-8:00pm in room 104. \nSIGN UP HERE!
URL:https://www.vccfresno.org/event/gospel-of-john-mens-bible-study-3/
LOCATION:Valley Christian Center\, 4649 E. Shields Ave\, Fresno\, CA\, 93726\, United States
CATEGORIES:Life Groups,Men
ATTACH;FMTTYPE=image/png:https://www.vccfresno.org/wp-content/uploads/2024/09/BA-Mens-Gospel-of-John-Bible-Study.png
END:VEVENT
BEGIN:VEVENT
DTSTART;TZID=America/Los_Angeles:20241010T180000
DTEND;TZID=America/Los_Angeles:20241010T203000
DTSTAMP:20260425T052824
CREATED:20240805T230431Z
LAST-MODIFIED:20240805T230431Z
UID:7597-1728583200-1728592200@www.vccfresno.org
SUMMARY:Prayer 101
DESCRIPTION:Prayer 101 is so much more than prayer. This 6-week course focuses on learning to hear Holy Spirit in your own unique way while spending time engaging Him on a regular basis. Prayer 101 will provide you with a variety of prayer options that can be used for one-on-one or group settings. You will learn about healing prayer\, prophecy and words of knowledge\, and gain confidence to pray with others. We dive into spiritual warfare to learn enemy tactics to fight with empowerment. We will enjoy learning about various signs and wonders that God has shown us in the scriptures\, that are for us today. \n\nCome join Prayer 101 and learn so much more that prayer.\nSIGN UP HERE!
URL:https://www.vccfresno.org/event/prayer-101-7/
LOCATION:Valley Christian Center\, 4649 E. Shields Ave\, Fresno\, CA\, 93726\, United States
CATEGORIES:Prayer
ATTACH;FMTTYPE=image/png:https://www.vccfresno.org/wp-content/uploads/2024/08/P.png
END:VEVENT
BEGIN:VEVENT
DTSTART;TZID=America/Los_Angeles:20241009T100000
DTEND;TZID=America/Los_Angeles:20241009T120000
DTSTAMP:20260425T052824
CREATED:20240918T201312Z
LAST-MODIFIED:20240918T201312Z
UID:7729-1728468000-1728475200@www.vccfresno.org
SUMMARY:DIY Crafting & Women in the Bible
DESCRIPTION:Join us for fellowship and crafty fun. You will have a space at a table for any DIY crafting that you want to work on. Enjoy spending time with other crafters while working on your projects. Each week we will share God’s word studying the women of the Bible. Bring a friend. Make new friends. Develop new connections while enjoying your hobby with others. September 4th – November 20th from 10:00am-12:00pm in the All Purpose Room. \nSIGN UP HERE!
URL:https://www.vccfresno.org/event/diy-crafting-women-in-the-bible/
LOCATION:Valley Christian Center\, 4649 E. Shields Ave\, Fresno\, CA\, 93726\, United States
CATEGORIES:Life Groups,Women
ATTACH;FMTTYPE=image/png:https://www.vccfresno.org/wp-content/uploads/2024/09/CW-Ladies-DIY-Crafting.png
END:VEVENT
BEGIN:VEVENT
DTSTART;TZID=America/Los_Angeles:20241009T090000
DTEND;TZID=America/Los_Angeles:20241009T110000
DTSTAMP:20260425T052824
CREATED:20240918T202856Z
LAST-MODIFIED:20240918T202856Z
UID:7750-1728464400-1728471600@www.vccfresno.org
SUMMARY:
DESCRIPTION:Wednesdays September 18th – November 20th from 9:00am-11:00am in room 305. \nSIGN UP HERE!
URL:https://www.vccfresno.org/event/7750/
LOCATION:Valley Christian Center\, 4649 E. Shields Ave\, Fresno\, CA\, 93726\, United States
CATEGORIES:Life Groups,Women
ATTACH;FMTTYPE=image/png:https://www.vccfresno.org/wp-content/uploads/2024/08/CD-Biblical-Citizenship-Study.png
END:VEVENT
BEGIN:VEVENT
DTSTART;TZID=America/Los_Angeles:20241009T090000
DTEND;TZID=America/Los_Angeles:20241009T110000
DTSTAMP:20260425T052824
CREATED:20240918T202640Z
LAST-MODIFIED:20240918T202640Z
UID:7748-1728464400-1728471600@www.vccfresno.org
SUMMARY:Biblical Citizenship - Women Bible Study
DESCRIPTION:Wednesdays September 18th – November 20th from 9:00am-11:00am in room 305.
URL:https://www.vccfresno.org/event/biblical-citizenship-women-bible-study-3/
LOCATION:Valley Christian Center\, 4649 E. Shields Ave\, Fresno\, CA\, 93726\, United States
CATEGORIES:Life Groups,Women
ATTACH;FMTTYPE=image/png:https://www.vccfresno.org/wp-content/uploads/2024/08/CD-Biblical-Citizenship-Study.png
END:VEVENT
BEGIN:VEVENT
DTSTART;TZID=America/Los_Angeles:20241008T183000
DTEND;TZID=America/Los_Angeles:20241008T203000
DTSTAMP:20260425T052824
CREATED:20240918T195745Z
LAST-MODIFIED:20240918T195745Z
UID:7716-1728412200-1728419400@www.vccfresno.org
SUMMARY:Warrior Bride Draw Your Sword: Women's Bible Study
DESCRIPTION:A Six-Week Bible Study Series on the Book of Ephesians and how God created Mighty Warrior Daughters for His Kingdom\, His Kingdom\, His Army and the Epic Battle we are designed to be a part of. September 10th – October 29th from 6:30-8:30pm in room 305 at Valley Christian Center. Cost is $25.00 for the study materials.
URL:https://www.vccfresno.org/event/warrior-bride-draw-your-sword-womens-bible-study-3/
LOCATION:Valley Christian Center\, 4649 E. Shields Ave\, Fresno\, CA\, 93726\, United States
CATEGORIES:Life Groups,Women
ATTACH;FMTTYPE=image/png:https://www.vccfresno.org/wp-content/uploads/2024/09/Fall-Womens-Connect-Crew-Graphics-1080x18-1.png
END:VEVENT
BEGIN:VEVENT
DTSTART;TZID=America/Los_Angeles:20241008T183000
DTEND;TZID=America/Los_Angeles:20241008T200000
DTSTAMP:20260425T052824
CREATED:20240919T184252Z
LAST-MODIFIED:20240919T184252Z
UID:7815-1728412200-1728417600@www.vccfresno.org
SUMMARY:Tuesday Night Men's Bible Study
DESCRIPTION:Our year round Men’s Tuesday Night Bible Study Connect Crew meets every Tuesday. We are an open group\, so you can join anytime. This group is for men who would love to learn more about JESUS and what He has in store for us. The cost is usually around $8.00-$12.00 depending on the cost of the book. \nSIGN UP HERE!
URL:https://www.vccfresno.org/event/tuesday-night-mens-bible-study-3/
LOCATION:Valley Christian Center\, 4649 E. Shields Ave\, Fresno\, CA\, 93726\, United States
CATEGORIES:Life Groups,Men
ATTACH;FMTTYPE=image/png:https://www.vccfresno.org/wp-content/uploads/2024/09/FT_KO-Mens-Bible_Book-Study.png
END:VEVENT
BEGIN:VEVENT
DTSTART;TZID=America/Los_Angeles:20241008T070000
DTEND;TZID=America/Los_Angeles:20241008T080000
DTSTAMP:20260425T052824
CREATED:20240918T210428Z
LAST-MODIFIED:20240918T210428Z
UID:7788-1728370800-1728374400@www.vccfresno.org
SUMMARY:Men's Discipleship
DESCRIPTION:Join us every Tuesday morning from 7:00-8:00am for breakfast and the Word in the All Purpose Room. We are currently going through the “Devoted” Bible Study. Cost is $14 for the bible study booklet. Join us anytime. \nSIGN UP HERE!
URL:https://www.vccfresno.org/event/mens-discipleship-3/
LOCATION:Valley Christian Center\, 4649 E. Shields Ave\, Fresno\, CA\, 93726\, United States
CATEGORIES:Life Groups,Men
ATTACH;FMTTYPE=image/png:https://www.vccfresno.org/wp-content/uploads/2024/09/GH_DS-Mens-Discipleship.png
END:VEVENT
BEGIN:VEVENT
DTSTART;TZID=America/Los_Angeles:20241006T113000
DTEND;TZID=America/Los_Angeles:20241006T133000
DTSTAMP:20260425T052824
CREATED:20240916T173008Z
LAST-MODIFIED:20240916T173008Z
UID:7705-1728214200-1728221400@www.vccfresno.org
SUMMARY:Valley Membership Class
DESCRIPTION:Finding a church home is so important in our faith journey. It helps us be faithful disciples of Jesus and to participate as members of the body of Christ. Sign-Up for our next membership class to learn what it means to make Valley your home. \nSIGN-UP HERE
URL:https://www.vccfresno.org/event/valley-membership-class-5/
LOCATION:Valley Christian Center\, 4649 E. Shields Ave\, Fresno\, CA\, 93726\, United States
ATTACH;FMTTYPE=image/png:https://www.vccfresno.org/wp-content/uploads/2024/09/Membership-Slide-Instagram-Post.png
END:VEVENT
BEGIN:VEVENT
DTSTART;TZID=America/Los_Angeles:20241006T113000
DTEND;TZID=America/Los_Angeles:20241006T130000
DTSTAMP:20260425T052824
CREATED:20240110T220150Z
LAST-MODIFIED:20240110T220150Z
UID:6721-1728214200-1728219600@www.vccfresno.org
SUMMARY:PrimeTime Brunch
DESCRIPTION:Come hang out with old and new friends as we enjoy brunch together! Find out all the details when you sign up in the Courtyard before service (9:30-9:55am) on October 6th.
URL:https://www.vccfresno.org/event/primetime-brunch-9/
CATEGORIES:PrimeTime
ATTACH;FMTTYPE=image/png:https://www.vccfresno.org/wp-content/uploads/2024/01/PT-Brunch-After-Service-Banner.png
END:VEVENT
END:VCALENDAR